{"text_format":"1","workbook":"xlsx","n_sheets":3,"sheets":["MyProgram","MyChoice","S"],"not_rendered":{"charts":0,"images":0,"macros":1,"external_links":0,"defined_names":0,"comments":0,"pivot_tables":0},"unopened":[],"bounds":{"document_bytes":16777216,"sheet_cells":100000,"rows_first":2000,"rows_last":500,"rows_between":2000,"halvings":0,"cell_chars":16384,"cell_head_chars":4096},"cells_cut":0,"cells_raw":0,"read":"whole","date_system":"1900"}

{"sheet":"MyProgram","index":0,"n_rows":321,"n_cols":11,"rows_kept":321,"cut":false,"hidden":false,"merged":[[6,4,7,4],[6,6,7,6],[309,4,310,4],[309,6,310,6],[9,8,9,9],[10,8,10,9],[319,4,320,4],[319,6,320,6],[9,4,10,4],[9,6,10,6],[315,4,316,4],[315,6,316,6],[283,4,284,4],[283,6,284,6],[285,4,286,4],[285,6,286,6],[287,4,288,4],[287,6,288,6],[267,4,268,4],[267,6,268,6],[269,4,270,4],[269,6,270,6],[271,4,272,4],[271,6,272,6],[109,0,109,2],[110,4,111,4],[110,6,111,6],[112,0,112,2],[299,4,300,4],[299,6,300,6],[301,4,302,4],[301,6,302,6],[305,4,306,4],[305,6,306,6],[289,4,290,4],[289,6,290,6],[291,4,292,4],[291,6,292,6],[293,4,294,4],[293,6,294,6],[295,4,296,4],[295,6,296,6],[297,4,298,4],[297,6,298,6],[279,4,280,4],[279,6,280,6],[281,4,282,4],[281,6,282,6],[275,4,276,4],[275,6,276,6],[277,4,278,4],[277,6,278,6],[257,4,258,4],[257,6,258,6],[261,4,262,4],[261,6,262,6],[263,4,264,4],[263,6,264,6],[265,4,266,4],[265,6,266,6],[247,4,248,4],[247,6,248,6],[249,4,250,4],[249,6,250,6],[251,4,252,4],[251,6,252,6],[253,4,254,4],[253,6,254,6],[255,4,256,4],[255,6,256,6],[237,4,238,4],[237,6,238,6],[239,4,240,4],[239,6,240,6],[241,4,242,4],[241,6,242,6],[243,4,244,4],[243,6,244,6],[245,4,246,4],[245,6,246,6],[225,4,226,4],[225,6,226,6],[229,4,230,4],[229,6,230,6],[231,4,232,4],[231,6,232,6],[233,4,234,4],[233,6,234,6],[235,4,236,4],[235,6,236,6],[215,4,216,4],[215,6,216,6],[217,4,218,4],[217,6,218,6],[219,4,220,4],[219,6,220,6],[221,4,222,4],[221,6,222,6],[223,4,224,4],[223,6,224,6],[198,4,199,4],[198,6,199,6],[200,4,201,4],[200,6,201,6],[204,4,205,4],[204,6,205,6],[211,4,212,4],[211,6,212,6],[186,4,187,4],[188,4,189,4],[190,4,191,4],[192,4,193,4],[194,4,195,4],[196,4,197,4],[186,6,187,6],[188,6,189,6],[190,6,191,6],[192,6,193,6],[194,6,195,6],[196,6,197,6],[174,4,175,4],[176,4,177,4],[178,4,179,4],[180,4,181,4],[182,4,183,4],[184,4,185,4],[174,6,175,6],[176,6,177,6],[178,6,179,6],[180,6,181,6],[182,6,183,6],[184,6,185,6],[160,4,161,4],[162,4,163,4],[164,4,165,4],[166,4,167,4],[168,4,169,4],[170,4,171,4],[160,6,161,6],[162,6,163,6],[164,6,165,6],[166,6,167,6],[168,6,169,6],[170,6,171,6],[142,4,143,4],[140,4,141,4],[140,6,141,6],[142,6,143,6],[144,4,145,4],[146,4,147,4],[144,6,145,6],[146,6,147,6],[148,4,149,4],[150,4,151,4],[148,6,149,6],[150,6,151,6],[152,4,153,4],[154,4,155,4],[152,6,153,6],[154,6,155,6],[156,4,157,4],[156,6,157,6],[124,4,125,4],[124,6,125,6],[120,6,121,6],[128,4,129,4],[130,4,131,4],[132,4,133,4],[134,4,135,4],[136,4,137,4],[138,4,139,4],[128,6,129,6],[130,6,131,6],[132,6,133,6],[134,6,135,6],[136,6,137,6],[138,6,139,6],[114,4,115,4],[116,4,117,4],[114,6,115,6],[116,6,117,6],[118,6,119,6],[118,4,119,4],[120,4,121,4],[122,4,123,4],[122,6,123,6],[97,4,98,4],[99,4,100,4],[97,6,98,6],[99,6,100,6],[103,4,104,4],[103,6,104,6],[85,4,86,4],[87,4,88,4],[89,4,90,4],[91,4,92,4],[93,4,94,4],[95,4,96,4],[85,6,86,6],[87,6,88,6],[89,6,90,6],[91,6,92,6],[93,6,94,6],[95,6,96,6],[73,4,74,4],[75,4,76,4],[77,4,78,4],[79,4,80,4],[81,4,82,4],[83,4,84,4],[73,6,74,6],[75,6,76,6],[77,6,78,6],[79,6,80,6],[81,6,82,6],[83,6,84,6],[65,4,66,4],[67,4,68,4],[69,4,70,4],[59,6,60,6],[61,6,62,6],[63,6,64,6],[65,6,66,6],[67,6,68,6],[69,6,70,6],[51,6,52,6],[53,6,54,6],[55,6,56,6],[51,4,52,4],[53,4,54,4],[55,4,56,4],[59,4,60,4],[61,4,62,4],[63,4,64,4],[45,4,46,4],[47,4,48,4],[49,4,50,4],[27,6,28,6],[29,6,30,6],[31,6,32,6],[33,6,34,6],[35,6,36,6],[37,6,38,6],[39,6,40,6],[41,6,42,6],[43,6,44,6],[45,6,46,6],[47,6,48,6],[49,6,50,6],[27,4,28,4],[29,4,30,4],[31,4,32,4],[33,4,34,4],[35,4,36,4],[37,4,38,4],[39,4,40,4],[41,4,42,4],[43,4,44,4],[13,4,14,4],[15,4,16,4],[17,4,18,4],[19,4,20,4],[21,4,22,4],[23,4,24,4],[13,6,14,6],[15,6,16,6],[17,6,18,6],[19,6,20,6],[21,6,22,6],[23,6,24,6],[317,0,317,2],[25,0,25,2],[57,0,57,2],[71,0,71,2],[101,0,101,2],[126,0,126,2],[158,0,158,2],[172,0,172,2],[202,0,202,2],[311,0,311,2],[307,0,307,2],[303,0,303,2],[308,0,308,2],[304,0,304,2],[273,0,273,2],[259,0,259,2],[207,0,207,2],[214,0,214,2],[228,0,228,2],[213,0,213,2],[105,0,105,2],[227,0,227,2],[203,0,203,2],[206,0,206,2],[321,0,321,2],[313,0,313,2],[314,0,314,2],[318,0,318,2],[312,0,312,2],[102,0,102,2],[113,0,113,2],[127,0,127,2],[3,0,3,2],[4,0,4,2],[107,0,107,2],[26,0,26,2],[58,0,58,2],[72,0,72,2],[5,0,5,2],[8,0,8,2],[12,0,12,2],[106,0,106,2],[108,0,108,2],[260,0,260,2],[274,0,274,2],[210,0,210,2],[173,0,173,2],[208,0,208,2],[209,0,209,2],[159,0,159,2],[48,8,48,9],[15,8,15,9],[16,8,16,9],[17,8,17,9],[18,8,18,9],[19,8,19,9],[20,8,20,9],[21,8,21,9],[22,8,22,9],[23,8,23,9],[24,8,24,9],[25,8,25,9],[26,8,26,9],[27,8,27,9],[28,8,28,9],[29,8,29,9],[39,8,39,9],[40,8,40,9],[41,8,41,9],[42,8,42,9],[43,8,43,9],[44,8,44,9],[72,8,72,9],[58,8,58,9],[59,8,59,9],[60,8,60,9],[61,8,61,9],[62,8,62,9],[63,8,63,9],[73,8,73,9],[74,8,74,9],[67,8,67,9],[68,8,68,9],[69,8,69,9],[70,8,70,9],[71,8,71,9],[66,8,66,9],[88,8,88,9],[89,8,89,9],[75,8,75,9],[76,8,76,9],[77,8,77,9],[78,8,78,9],[79,8,79,9],[80,8,80,9],[81,8,81,9],[86,8,86,9],[87,8,87,9],[82,8,82,9],[83,8,83,9],[84,8,84,9],[85,8,85,9],[129,8,129,9],[124,8,124,9],[125,8,125,9],[126,8,126,9],[127,8,127,9],[90,8,90,9],[91,8,91,9],[92,8,92,9],[93,8,93,9],[94,8,94,9],[95,8,95,9],[96,8,96,9],[110,8,110,9],[111,8,111,9],[112,8,112,9],[113,8,113,9],[116,8,116,9],[117,8,117,9],[118,8,118,9],[128,8,128,9],[130,8,130,9],[131,8,131,9],[132,8,132,9],[133,8,133,9],[97,8,97,9],[98,8,98,9],[99,8,99,9],[100,8,100,9],[101,8,101,9],[102,8,102,9],[103,8,103,9],[104,8,104,9],[105,8,105,9],[106,8,106,9],[107,8,107,9],[108,8,108,9],[109,8,109,9],[119,8,119,9],[120,8,120,9],[121,8,121,9],[122,8,122,9],[123,8,123,9],[114,8,114,9],[115,8,115,9],[198,8,198,9],[199,8,199,9],[200,8,200,9],[201,8,201,9],[202,8,202,9],[203,8,203,9],[204,8,204,9],[176,8,176,9],[177,8,177,9],[178,8,178,9],[179,8,179,9],[180,8,180,9],[248,8,248,9],[249,8,249,9],[250,8,250,9],[251,8,251,9],[252,8,252,9],[205,8,205,9],[181,8,181,9],[182,8,182,9],[183,8,183,9],[184,8,184,9],[185,8,185,9],[186,8,186,9],[187,8,187,9],[188,8,188,9],[189,8,189,9],[190,8,190,9],[191,8,191,9],[192,8,192,9],[193,8,193,9],[194,8,194,9],[195,8,195,9],[196,8,196,9],[197,8,197,9],[230,8,230,9],[231,8,231,9],[232,8,232,9],[233,8,233,9],[234,8,234,9],[235,8,235,9],[245,8,245,9],[246,8,246,9],[247,8,247,9],[236,8,236,9],[237,8,237,9],[238,8,238,9],[239,8,239,9],[240,8,240,9],[241,8,241,9],[242,8,242,9],[243,8,243,9],[244,8,244,9],[221,8,221,9],[222,8,222,9],[223,8,223,9],[224,8,224,9],[225,8,225,9],[226,8,226,9],[227,8,227,9],[228,8,228,9],[229,8,229,9],[304,8,304,9],[305,8,305,9],[306,8,306,9],[307,8,307,9],[279,8,279,9],[280,8,280,9],[281,8,281,9],[282,8,282,9],[283,8,283,9],[284,8,284,9],[285,8,285,9],[286,8,286,9],[287,8,287,9],[288,8,288,9],[289,8,289,9],[290,8,290,9],[291,8,291,9],[292,8,292,9],[295,8,295,9],[296,8,296,9],[297,8,297,9],[298,8,298,9],[299,8,299,9],[300,8,300,9],[301,8,301,9],[302,8,302,9],[303,8,303,9],[0,0,1,6],[2,0,2,2],[0,8,0,9],[2,8,2,9],[3,8,3,9],[4,8,4,9],[5,8,5,9],[293,8,293,9],[294,8,294,9],[255,8,255,9],[256,8,256,9],[257,8,257,9],[258,8,258,9],[259,8,259,9],[260,8,260,9],[261,8,261,9],[262,8,262,9],[263,8,263,9],[264,8,264,9],[265,8,265,9],[32,8,32,9],[33,8,33,9],[34,8,34,9],[35,8,35,9],[36,8,36,9],[37,8,37,9],[38,8,38,9],[64,8,64,9],[65,8,65,9],[52,8,52,9],[53,8,53,9],[54,8,54,9],[55,8,55,9],[56,8,56,9],[57,8,57,9],[45,8,45,9],[46,8,46,9],[47,8,47,9],[49,8,49,9],[50,8,50,9],[51,8,51,9],[6,8,6,9],[7,8,7,9],[8,8,8,9],[11,8,11,9],[12,8,12,9],[13,8,13,9],[14,8,14,9],[30,8,30,9],[31,8,31,9],[149,8,149,9],[150,8,150,9],[151,8,151,9],[152,8,152,9],[134,8,134,9],[135,8,135,9],[136,8,136,9],[137,8,137,9],[138,8,138,9],[139,8,139,9],[140,8,140,9],[141,8,141,9],[142,8,142,9],[143,8,143,9],[144,8,144,9],[145,8,145,9],[146,8,146,9],[147,8,147,9],[148,8,148,9],[153,8,153,9],[154,8,154,9],[155,8,155,9],[156,8,156,9],[157,8,157,9],[172,8,172,9],[173,8,173,9],[174,8,174,9],[175,8,175,9],[162,8,162,9],[163,8,163,9],[164,8,164,9],[165,8,165,9],[166,8,166,9],[158,8,158,9],[159,8,159,9],[160,8,160,9],[161,8,161,9],[167,8,167,9],[168,8,168,9],[169,8,169,9],[170,8,170,9],[171,8,171,9],[206,8,206,9],[207,8,207,9],[208,8,208,9],[209,8,209,9],[210,8,210,9],[211,8,211,9],[212,8,212,9],[213,8,213,9],[214,8,214,9],[215,8,215,9],[216,8,216,9],[217,8,217,9],[218,8,218,9],[219,8,219,9],[220,8,220,9],[317,8,317,9],[318,8,318,9],[319,8,319,9],[270,8,270,9],[271,8,271,9],[272,8,272,9],[273,8,273,9],[274,8,274,9],[275,8,275,9],[276,8,276,9],[277,8,277,9],[278,8,278,9],[267,8,267,9],[268,8,268,9],[269,8,269,9],[253,8,253,9],[254,8,254,9],[266,8,266,9],[320,8,320,9],[321,8,321,9],[308,8,308,9],[309,8,309,9],[310,8,310,9],[311,8,311,9],[312,8,312,9],[313,8,313,9],[314,8,314,9],[315,8,315,9],[316,8,316,9]]}
["3DV2020 MyProgram\nSelect your time zone and your favorite papers.\nThen, your personal program will appear on the MyChoice sheet.",null,null,null,null,null,null,null,"Time Zone"]
[null,null,null,null,null,null,null,null,"UTC",9]
[]
["Day 1 : Wednesday 25 November",null,null,null,"1st Round",null,"2nd Round",null,"My Choice"]
[]
["Opening Remarks"]
["   *",null,"Opening Remarks and Paper Awards",null,{"$f":"S!B2","v":"2020-11-25T09:00:00"},null,"  ",null,null,false,0]
[" ",null," ",null,null,null,null,null,null,null,0]
["Keynote 1"]
["   *",null,"Beyond the Current Application Horizon of 3D Models",null,{"$f":"S!B3","v":"2020-11-25T09:30:00"},null,{"$f":"S!C3","v":"2020-11-25T22:00:00"},null,null,false,0]
[" ",null,"Katsushi Ikeuchi (Microsoft, University of Tokyo)",null,{"$f":"S!B6","v":44160.479166666672},null,null,null,null,null,0]
[]
["Oral 1A : Stereo and SfM"]
[171,null,"Neural Ray Surfaces for Self-Supervised Learning of Depth and Ego-motion",null,{"$f":"S!B4","v":"2020-11-25T10:30:00"},null,{"$f":"S!C4","v":"2020-11-25T23:00:00"},null,null,false,0]
[null,null,"Igor Vasiljevic; Greg Shakhnarovich; Vitor Guizilini; Adrien Gaidon; Rareș A. Ambruș; Sudeep Pillai; Wolfram Burgard",null,{"$f":"S!B10","v":44160.687500000007},null,{"$f":"S!C10","v":44161.125000000007},null,null,null,0]
[{"$f":"A14+1","v":172},null,"Deep NRSfM++: Towards Unsupervised 2D-3D Lifting in the Wild",null,{"$f":"E14","v":"2020-11-25T10:30:00"},null,{"$f":"G14","v":"2020-11-25T23:00:00"},null,null,false,0]
[null,null,"Chaoyang Wang; Chen-Hsuan Lin; Simon Lucey",null,null,null,null,null,null,null,0]
[{"$f":"A16+1","v":173},null,"Nighttime Stereo Depth Estimation using Joint Translation-Stereo Learning: Light Effects and Uninformative Regions",null,{"$f":"E16","v":"2020-11-25T10:30:00"},null,{"$f":"G16","v":"2020-11-25T23:00:00"},null,null,false,0]
[null,null,"Aashish Sharma; Lionel Heng; Loong Fah Cheong; Robby T. Tan",null,null,null,null,null,null,null,0]
[{"$f":"A18+1","v":174},null,"Underwater Scene Recovery Using Wavelength-Dependent Refraction of Light",null,{"$f":"E18","v":"2020-11-25T10:30:00"},null,{"$f":"G18","v":"2020-11-25T23:00:00"},null,null,false,0]
[null,null,"Shin Ishihara; Yuta Asano; Yinqiang Zheng; Imari Sato",null,null,null,null,null,null,null,0]
[{"$f":"A20+1","v":175},null,"Improving Structure from Motion with Reliable Resectioning",null,{"$f":"E20","v":"2020-11-25T10:30:00"},null,{"$f":"G20","v":"2020-11-25T23:00:00"},null,null,false,0]
[null,null,"Rajbir Kataria; Joseph Degol; Derek Hoiem",null,null,null,null,null,null,null,0]
[{"$f":"A22+1","v":176},null,"Reducing Drift in Structure from Motion using Extended Features",null,{"$f":"E22","v":"2020-11-25T10:30:00"},null,{"$f":"G22","v":"2020-11-25T23:00:00"},null,null,false,0]
[null,null,"Aleksander Holynski; David Geraghty; Jan-Michael Frahm; Christopher Sweeney; Richard Szeliski",null,null,null,null,null,null,null,0]
[]
["Poster Spotlight 1A"]
[111,null,"Matching-space Stereo Networks for Cross-domain Generalization",null,{"$f":"S!B5","v":"2020-11-25T11:00:00"},null,{"$f":"S!C5","v":"2020-11-25T23:30:00"},null,null,false,0]
[null,null,"Changjiang Cai; Matteo Poggi; Stefano Mattoccia; Philippos Mordohai ",null,{"$f":"S!#REF!","v":{"$error":"#REF!"}},null,{"$f":"S!#REF!","v":{"$error":"#REF!"}},null,null,null,0]
[{"$f":"A28+1","v":112},null,"Do End-to-end Stereo Algorithms Under-utilize Information?",null,{"$f":"E28","v":"2020-11-25T11:00:00"},null,{"$f":"G28","v":"2020-11-25T23:30:00"},null,null,false,0]
[null,null,"Changjiang Cai; Philippos Mordohai",null,null,null,null,null,null,null,0]
[{"$f":"A30+1","v":113},null,"Refractive Multi-view Stereo",null,{"$f":"E30","v":"2020-11-25T11:00:00"},null,{"$f":"G30","v":"2020-11-25T23:30:00"},null,null,false,0]
[null,null,"Matthew Cassidy; Jean Mélou; Yvain Queau; Francois Lauze; Jean-Denis Durou ",null,null,null,null,null,null,null,0]
[{"$f":"A32+1","v":114},null,"BP-MVSNet: Belief-Propagation-Layers for Multi-View-Stereo",null,{"$f":"E32","v":"2020-11-25T11:00:00"},null,"2020-11-25T23:30:00",null,null,false,0]
[null,null,"Christian Sormann; Patrick Knöbelreiter; Mattia Rossi; Andreas Kuhn; Thomas Pock; Friedrich Fraundorfer ",null,null,null,null,null,null,null,0]
[{"$f":"A34+1","v":115},null,"DeepC-MVS: Deep Confidence Prediction for Multi-View Stereo Reconstruction",null,{"$f":"E34","v":"2020-11-25T11:00:00"},null,"2020-11-25T23:30:00",null,null,false,0]
[null,null,"Andreas Kuhn; Christian Sormann; Mattia Rossi; Oliver Erdler; Friedrich Fraundorfer",null,null,null,null,null,null,null,0]
[121,null,"RocNet: Recursive Octree Network for Efficient 3D Deep Representation",null,{"$f":"E36","v":"2020-11-25T11:00:00"},null,"2020-11-25T23:30:00",null,null,false,0]
[null,null,"Juncheng Liu; Brendan Mccane; Steven Mills ",null,null,null,null,null,null,null,0]
[{"$f":"A38+1","v":122},null,"Semantic Implicit Neural Scene Representations with Semi-supervised Training",null,{"$f":"E38","v":"2020-11-25T11:00:00"},null,"2020-11-25T23:30:00",null,null,false,0]
[null,null,"Amit Pal Kohli; Vincent Sitzmann; Gordon Wetzstein",null,null,null,null,null,null,null,0]
[{"$f":"A40+1","v":123},null,"Learning to Infer Semantic Parameters for 3D Shape Editing",null,{"$f":"E40","v":"2020-11-25T11:00:00"},null,"2020-11-25T23:30:00",null,null,false,0]
[null,null,"Fangyin Wei; Elena Sizikova; Avneesh Sud; Thomas Funkhouser; Szymon Rusinkiewicz ",null,null,null,null,null,null,null,0]
[{"$f":"A42+1","v":124},null,"Recalibration of Neural Networks for Point Cloud Analysis",null,{"$f":"E42","v":"2020-11-25T11:00:00"},null,"2020-11-25T23:30:00",null,null,false,0]
[null,null,"Ignacio Sarasua; Sebastian Pölsterl; Christian Wachinger",null,null,null,null,null,null,null,0]
[{"$f":"A44+1","v":125},null,"Learning Implicit Surface Light Fields",null,{"$f":"E44","v":"2020-11-25T11:00:00"},null,"2020-11-25T23:30:00",null,null,false,0]
[null,null,"Michael Oechsle; Michael Niemeyer; Christian Reiser; Lars M. Mescheder; Thilo Strauss; Andreas Geiger",null,null,null,null,null,null,null,0]
[131,null,"KeystoneDepth: History in 3D",null,{"$f":"E46","v":"2020-11-25T11:00:00"},null,"2020-11-25T23:30:00",null,null,false,0]
[null,null,"Xuan Luo; Yanmeng Kong; Jason Lawrence; Ricardo Martin-Brualla; Steve Seitz",null,null,null,null,null,null,null,0]
[{"$f":"A48+1","v":132},null,"Learning Wasserstein Isometric Embedding for Point Clouds",null,{"$f":"E48","v":"2020-11-25T11:00:00"},null,"2020-11-25T23:30:00",null,null,false,0]
[null,null,"Keisuke Kawano; Satoshi Koide; Takuro Kutsuna",null,null,null,null,null,null,null,0]
[{"$f":"A50+1","v":133},null,"Benchmarking Image Retrieval for Visual Localization",null,{"$f":"E50","v":"2020-11-25T11:00:00"},null,"2020-11-25T23:30:00",null,null,false,0]
[null,null,"Noe Pion; Martin Humenberger; Gabriela Csurka; Yohann Cabon; Torsten Sattler",null,null,null,null,null,null,null,0]
[{"$f":"A52+1","v":134},null,"Class-unbalanced domain adaptation for object detection via dynamic weighting mechanism",null,{"$f":"E52","v":"2020-11-25T11:00:00"},null,"2020-11-25T23:30:00",null,null,false,0]
[null,null,"Xing Wei; Shaofan Liu; Changguang Wang; Yaoci Xiang; Xuanyuan Qiao; Zhangling Duan; Chong Zhao; Yang Lu",null,null,null,null,null,null,null,0]
[{"$f":"A54+1","v":135},null,"Rotation-Invariant Point Convolution with Multiple Equivariant Alignments.",null,{"$f":"E54","v":"2020-11-25T11:00:00"},null,"2020-11-25T23:30:00",null,null,false,0]
[null,null,"Hugues Thomas",null,null,null,null,null,null,null,0]
[]
["Oral 1B : 3D Modelling"]
[181,null,"COALESCE: Component Assembly by Learning to Synthesize Connections",null,{"$f":"S!B7","v":"2020-11-25T14:00:00"},null,{"$f":"S!C7","v":"2020-11-26T00:30:00"},null,null,false,0]
[null,null,"Kangxue Yin; Zhiqin Chen; Siddhartha Chaudhuri; Matthew Fisher; Vladimir Kim; Hao Zhang",null,{"$f":"S!#REF!","v":{"$error":"#REF!"}},null,{"$f":"S!#REF!","v":{"$error":"#REF!"}},null,null,null,0]
[{"$f":"A60+1","v":182},null,"Improved Modeling of 3D Shapes with Multi-view Depth Maps",null,{"$f":"E60","v":"2020-11-25T14:00:00"},null,"2020-11-26T00:30:00",null,null,false,0]
[null,null,"Kamal Gupta; Susmija Jabbireddy; Ketul Shah; Abhinav Shrivastava; Matthias Zwicker",null,null,null,null,null,null,null,0]
[{"$f":"A62+1","v":183},null,"Towards 3D VR-Sketch to 3D Shape Retrieval",null,{"$f":"E62","v":"2020-11-25T14:00:00"},null,"2020-11-26T00:30:00",null,null,false,0]
[null,null,"Ling Luo; Yulia Gryaditskaya; Yongxin Yang; Tao Xiang; Yi-Zhe Song",null,null,null,null,null,null,null,0]
[{"$f":"A64+1","v":184},null,"Fast Simultaneous Gravitational Alignment of Multiple Point Sets",null,{"$f":"E64","v":"2020-11-25T14:00:00"},null,"2020-11-26T00:30:00",null,null,false,0]
[null,null,"Vladislav Golyanik; Soshi Shimada; Christian Theobalt",null,null,null,null,null,null,null,0]
[{"$f":"A66+1","v":185},null,"KAPLAN: A 3D Point Descriptor for Shape Completion",null,{"$f":"E66","v":"2020-11-25T14:00:00"},null,"2020-11-26T00:30:00",null,null,false,0]
[null,null,"Audrey Richard; Ian Cherabier; Martin R. Oswald; Marc Pollefeys; Konrad Schindler",null,null,null,null,null,null,null,0]
[{"$f":"A68+1","v":186},null,"LMSCNet: Lightweight Multiscale 3D Semantic Completion",null,{"$f":"E68","v":"2020-11-25T14:00:00"},null,"2020-11-26T00:30:00",null,null,false,0]
[null,null,"Luis Roldao; Raoul de Charette; Anne Verroust-Blondet",null,null,null,null,null,null,null,0]
[]
["Poster Spotlight 1B"]
[141,null,"DynOcc: Learning Single-View Depth from Dynamic Occlusion Cues",null,{"$f":"S!B8","v":"2020-11-25T14:30:00"},null,{"$f":"S!C8","v":"2020-11-26T01:00:00"},null,null,false,0]
[null,null,"Yifan Wang; Linjie Luo; Xiaohui Shen; Xing Mei",null,{"$f":"S!B42","v":0},null,{"$f":"S!C42","v":0},null,null,null,0]
[{"$f":"A74+1","v":142},null,"Deep Depth Estimation on 360-degree Images with a Double Quaternion Loss",null,{"$f":"E74","v":"2020-11-25T14:30:00"},null,"2020-11-26T01:00:00",null,null,false,0]
[null,null,"Yushan Feng; Wangjue Yao; Zheyuan Liu; Amitabh Varshney",null,null,null,null,null,null,null,0]
[{"$f":"A76+1","v":143},null,"Learning Monocular Dense Depth from Events",null,{"$f":"E76","v":"2020-11-25T14:30:00"},null,"2020-11-26T01:00:00",null,null,false,0]
[null,null,"Javier Hidalgo-Carrio; Daniel Gehrig; Davide Scaramuzza",null,null,null,null,null,null,null,0]
[{"$f":"A78+1","v":144},null,"Deep Sketch-Based Modelling: Tips and Tricks",null,{"$f":"E78","v":"2020-11-25T14:30:00"},null,"2020-11-26T01:00:00",null,null,false,0]
[null,null,"Yue Zhong; Yulia Gryaditskaya; Honggang Zhang; Yi-Zhe Song",null,null,null,null,null,null,null,0]
[{"$f":"A80+1","v":145},null,"VIPNet: a fast and accurate single-view Volumetric reconstruction by learning sparse Implicit Point guidance",null,{"$f":"E80","v":"2020-11-25T14:30:00"},null,"2020-11-26T01:00:00",null,null,false,0]
[null,null,"Dong Du; Zhiyi Zhang; Xiaoguang Han; Shuguang Cui; Ligang Liu",null,null,null,null,null,null,null,0]
[151,null,"Registration Loss Learning for Deep Probabilistic Point Set Registration",null,{"$f":"E82","v":"2020-11-25T14:30:00"},null,"2020-11-26T01:00:00",null,null,false,0]
[null,null,"Felix FJL Järemo Lawin; Per-Erik Forssén",null,null,null,null,null,null,null,0]
[{"$f":"A84+1","v":152},null,"Unsupervised Dense Shape Correspondence using Heat Kernels",null,{"$f":"E84","v":"2020-11-25T14:30:00"},null,"2020-11-26T01:00:00",null,null,false,0]
[null,null,"Mehmet Aygün; Zorah Laehner; Daniel Cremers",null,null,null,null,null,null,null,0]
[{"$f":"A86+1","v":153},null,"Adiabatic Quantum Graph Matching with Permutation Matrix Constraints",null,{"$f":"E86","v":"2020-11-25T14:30:00"},null,"2020-11-26T01:00:00",null,null,false,0]
[null,null,"Marcel Seelbach Benkner; Vladislav Golyanik; Christian Theobalt; Michael Moeller",null,null,null,null,null,null,null,0]
[{"$f":"A88+1","v":154},null,"Better Patch Stitching for Parametric Surface Reconstruction",null,{"$f":"E88","v":"2020-11-25T14:30:00"},null,"2020-11-26T01:00:00",null,null,false,0]
[null,null,"Zhantao Deng; Jan Bednarik; Mathieu Salzmann; Pascal Fua",null,null,null,null,null,null,null,0]
[{"$f":"A90+1","v":155},null,"Correspondence Matrices are Underrated",null,{"$f":"E90","v":"2020-11-25T14:30:00"},null,"2020-11-26T01:00:00",null,null,false,0]
[null,null,"Tejas Zodage; Rahul U. Chakwate; Vinit Sarode; Arun Srivatsan Rangaprasad; Howie Choset",null,null,null,null,null,null,null,0]
[161,null,"Motion Annotation Programs: A Scalable Approach to Annotating Kinematic Articulations in Large 3D Shape Collections",null,{"$f":"E92","v":"2020-11-25T14:30:00"},null,"2020-11-26T01:00:00",null,null,false,0]
[null,null,"Xianghao Xu; David Charatan; Sonia Raychaudhuri; Hanxiao Jiang; Mae Heitmann; Vladimir Kim; Siddhartha Chaudhuri; Manolis Savva; Angel X Chang; Daniel Ritchie ",null,null,null,null,null,null,null,0]
[{"$f":"A94+1","v":162},null,"A Transformer-based Network for Dynamic Hand Gesture Recognition",null,{"$f":"E94","v":"2020-11-25T14:30:00"},null,"2020-11-26T01:00:00",null,null,false,0]
[null,null,"Andrea D'Eusanio; Alessandro Simoni; Stefano Pini; Guido Borghi; Roberto Vezzani; Rita Cucchiara",null,null,null,null,null,null,null,0]
[{"$f":"A96+1","v":163},null,"Depthwise Separable Temporal Convolutional Network for Action Segmentation",null,{"$f":"E96","v":"2020-11-25T14:30:00"},null,"2020-11-26T01:00:00",null,null,false,0]
[null,null,"Basavaraj Hampiholi; Christian Jarvers; Wolfgang Mader; Heiko Neumann",null,null,null,null,null,null,null,0]
[{"$f":"A98+1","v":164},null,"PLACE: Proximity Learning of Articulation and Contact in 3D Environments",null,{"$f":"E98","v":"2020-11-25T14:30:00"},null,{"$f":"G98","v":"2020-11-26T01:00:00"},null,null,false,0]
[null,null,"Siwei Zhang; Yan Zhang; Qianli Ma; Michael J. Black; Siyu Tang",null,null,null,null,null,null,null,0]
[]
["Poster Session 1"]
["   *",null,"Live poster presentation at SpatialChat rooms",null,{"$f":"S!B9","v":"2020-11-25T15:00:00"},null,{"$f":"S!C9","v":"2020-11-26T01:30:00"},null,null,false,0]
[" ",null,"(papers in Poster Spotlight 1A & 1B, Oral 1A & 1B and demos)",null,{"$f":"S!B74","v":0},null,{"$f":"S!C74","v":0},null,null,null,0]
[]
[]
["Day 2 : Thursday 26 November",null,null,null,"1st Round",null,"2nd Round",null,"My Choice"]
[]
["Keynote 2"]
["   *",null,"Recent Progress in Solving Minimal Problems in 3D Reconstruction",null,{"$f":"S!B20","v":"2020-11-26T16:40:00"},null,{"$f":"S!C12","v":"2020-11-26T22:00:00"},null,null,false,0]
[" ",null,"Tomas Pajdla (Czech Technical University in Prague)",null,{"$f":"S!B104","v":0},null,{"$f":"S!C103","v":0},null,null,null,0]
[]
["Oral 2A : Shape and Motion"]
[271,null,"Instant recovery of shape from spectrum via latent space connections",null,{"$f":"S!B13","v":"2020-11-26T10:30:00"},null,{"$f":"S!C13","v":"2020-11-26T23:00:00"},null,null,false,0]
[null,null,"Riccardo Marin; Arianna Rampini; Umberto Castellani; Emanuele Rodola; Maks Ovsjanikov; Simone Melzi",null,{"$f":"S!B107","v":0},null,{"$f":"S!C107","v":0},null,null,null,0]
[{"$f":"A115+1","v":272},null,"Differential Photometric Consistency",null,{"$f":"E115","v":"2020-11-26T10:30:00"},null,"2020-11-26T23:00:00",null,null,false,0]
[null,null,"Hongyi Fan; Benjamin Kunsberg; Benjamin Kimia",null,null,null,null,null,null,null,0]
[{"$f":"A117+1","v":273},null,"Distributed Photometric Bundle Adjustment",null,{"$f":"E117","v":"2020-11-26T10:30:00"},null,"2020-11-26T23:00:00",null,null,false,0]
[null,null,"Nikolaus Demmel; Maolin Gao; Emanuel Laude; Tao Wu; Daniel Cremers",null,null,null,null,null,null,null,0]
[{"$f":"A119+1","v":274},null,"Self-Supervised Learning of Non-Rigid Residual Flow and Ego-Motion",null,{"$f":"E119","v":"2020-11-26T10:30:00"},null,"2020-11-26T23:00:00",null,null,false,0]
[null,null,"Ivan Tishchenko; Sandro Lombardi; Martin R. Oswald; Marc Pollefeys",null,null,null,null,null,null,null,0]
[{"$f":"A121+1","v":275},null,"A Divide et Impera Approach for 3D Shape Reconstruction from Multiple Views",null,{"$f":"E121","v":"2020-11-26T10:30:00"},null,"2020-11-26T23:00:00",null,null,false,0]
[null,null,"Riccardo Spezialetti; David Joseph New Tan; Alessio Tonioni; Keisuke Tateno; Federico Tombari",null,null,null,null,null,null,null,0]
[{"$f":"A123+1","v":276},null,"Time Shifted IMU Preintegration for Temporal Calibration in Incremental Visual-Inertial Initialization",null,{"$f":"E123","v":"2020-11-26T10:30:00"},null,"2020-11-26T23:00:00",null,null,false,0]
[null,null,"Bruno Petit; Richard Guillemard; Vincent Gay-Bellile",null,null,null,null,null,null,null,0]
[]
["Poster Spotlight 2A"]
[211,null,"RidgeSfM: Structure from Motion via Robust Pairwise Matching Under Depth Uncertainty",null,{"$f":"S!B14","v":"2020-11-26T11:00:00"},null,{"$f":"S!C14","v":"2020-11-26T23:30:00"},null,null,false,0]
[null,null,"Ben Graham; David Novotny",null,{"$f":"S!B121","v":0},null,{"$f":"S!C121","v":0},null,null,null,0]
[{"$f":"A129+1","v":212},null,"Visualizing Spectral Bundle Adjustment Uncertainty",null,{"$f":"E129","v":"2020-11-26T11:00:00"},null,"2020-11-26T23:30:00",null,null,false,0]
[null,null,"Kyle Wilson; Scott Wehrwein",null,null,null,null,null,null,null,0]
[{"$f":"A131+1","v":213},null,"A Linear Approach to Absolute Pose Estimation for Light Fields",null,{"$f":"E131","v":"2020-11-26T11:00:00"},null,"2020-11-26T23:30:00",null,null,false,0]
[null,null,"Sotiris Nousias; Manolis Lourakis; Christos Bergeles; Sebastien Ourselin; Pearse A Keane",null,null,null,null,null,null,null,0]
[{"$f":"A133+1","v":214},null,"Joint Unsupervised Learning of Optical Flow and Egomotion with Bi-Level Optimization",null,{"$f":"E133","v":"2020-11-26T11:00:00"},null,"2020-11-26T23:30:00",null,null,false,0]
[null,null,"Shihao Jiang; Dylan Campbell; Miaomiao Liu; Stephen Gould; Richard Hartley",null,null,null,null,null,null,null,0]
[{"$f":"A135+1","v":215},null,"Intrinsic Dynamic Shape Prior for Dense Non-Rigid Structure from Motion",null,{"$f":"E135","v":"2020-11-26T11:00:00"},null,"2020-11-26T23:30:00",null,null,false,0]
[null,null,"Vladislav Golyanik; Andre Jonas; Didier Stricker; Christian Theobalt",null,null,null,null,null,null,null,0]
[221,null,"GAMesh: Guided and Augmented Meshing for Deep Point Networks",null,{"$f":"E137","v":"2020-11-26T11:00:00"},null,"2020-11-26T23:30:00",null,null,false,0]
[null,null,"Nitin Agarwal; Gopi Meenakshisundaram",null,null,null,null,null,null,null,0]
[{"$f":"A139+1","v":222},null,"A Progressive Conditional Generative Adversarial Network for Generating Dense and Colored 3D Point Clouds",null,{"$f":"E139","v":"2020-11-26T11:00:00"},null,"2020-11-26T23:30:00",null,null,false,0]
[null,null,"Mohammad Samiul Arshad; William Beksi",null,null,null,null,null,null,null,0]
[{"$f":"A141+1","v":223},null,"Depth Completion using a View-constrained Deep Prior",null,{"$f":"E141","v":"2020-11-26T11:00:00"},null,"2020-11-26T23:30:00",null,null,false,0]
[null,null,"Pallabi Ghosh; Vibhav Vineet; Larry Davis; Abhinav Shrivastava; Sudipta Sinha; Neel Joshi",null,null,null,null,null,null,null,0]
[{"$f":"A143+1","v":224},null,"Compression and Completion of Animated Point Clouds using Topological Properties of the Manifold",null,{"$f":"E143","v":"2020-11-26T11:00:00"},null,"2020-11-26T23:30:00",null,null,false,0]
[null,null,"Linfei Pan; Lubor Ladicky; Marc Pollefeys",null,null,null,null,null,null,null,0]
[{"$f":"A145+1","v":225},null,"Self-supervised Depth Denoising Using Lower- and Higher-quality RGB-D sensors",null,{"$f":"E145","v":"2020-11-26T11:00:00"},null,"2020-11-26T23:30:00",null,null,false,0]
[null,null,"Akhmedkhan Shabanov; Ilya Krotov; Nikolay N. Chinaev; Vsevolod Poletaev; Sergei Viktorovic Kozlukov; Igor Pasechnik; Bulat Yakupov; Artsiom O. Sanakoyeu; Vadim Lebedev; Dmitry Ulyanov",null,null,null,null,null,null,null,0]
[231,null,"PanoNet3D: Combining Semantic and Geometric Understanding for LiDAR Point Cloud Detection",null,{"$f":"E147","v":"2020-11-26T11:00:00"},null,"2020-11-26T23:30:00",null,null,false,0]
[null,null,"Xia Chen; Jianren Wang; David Held; Martial Hebert",null,null,null,null,null,null,null,0]
[{"$f":"A149+1","v":232},null,"Dense Point Diffusion for 3D Object Detection",null,{"$f":"E149","v":"2020-11-26T11:00:00"},null,"2020-11-26T23:30:00",null,null,false,0]
[null,null,"Xu Liu; Jiayan Cao; Qianqian Bi; Yichen Wei; Jian Wang; Boxin Shi",null,null,null,null,null,null,null,0]
[{"$f":"A151+1","v":233},null,"SF-UDA-3D: Source-Free Unsupervised Domain Adaptation for LiDAR-based 3D Object Detection",null,{"$f":"E151","v":"2020-11-26T11:00:00"},null,"2020-11-26T23:30:00",null,null,false,0]
[null,null,"Cristiano Saltori; Stéphane Lathuilière; Elisa Ricci; Nicu Sebe; Fabio Galasso",null,null,null,null,null,null,null,0]
[{"$f":"A153+1","v":234},null,"LiDAR-based Recurrent 3D Semantic Segmentation with Temporal Memory Alignment",null,{"$f":"E153","v":"2020-11-26T11:00:00"},null,"2020-11-26T23:30:00",null,null,false,0]
[null,null,"Fabian Duerr; Mario Pfaller; Hendrik Weigel; Jürgen Beyerer",null,null,null,null,null,null,null,0]
[{"$f":"A155+1","v":235},null,"Rethinking PointNet Embedding for Faster and Compact Model",null,{"$f":"E155","v":"2020-11-26T11:00:00"},null,"2020-11-26T23:30:00",null,null,false,0]
[null,null,"Teppei Suzuki; Keisuke Ozawa; Yusuke Sekikawa",null,null,null,null,null,null,null,0]
[]
["Oral 2B : Deep Learning for 3D Data"]
[281,null,"RANP: Resource Aware Neuron Pruning at Initialization for 3D CNNs",null,{"$f":"S!B16","v":"2020-11-26T14:00:00"},null,{"$f":"S!C16","v":"2020-11-27T00:30:00"},null,null,false,0]
[null,null,"Zhiwei Xu; Thalaiyasingam Ajanthan; Vibhav Vineet; Richard Hartley",null,{"$f":"S!B153","v":0},null,{"$f":"S!C153","v":0},null,null,null,0]
[{"$f":"A161+1","v":282},null,"Torch-Points3D: A Modular Multi-Task Framework for Reproducible Deep Learning on 3D Point Clouds",null,{"$f":"E161","v":"2020-11-26T14:00:00"},null,"2020-11-27T00:30:00",null,null,false,0]
[null,null,"Nicolas Chaulet; Thomas Chaton; Sofiane Horache; loic landrieu",null,null,null,null,null,null,null,0]
[{"$f":"A163+1","v":283},null,"Learning Rotation-Invariant Representations of Point Clouds Using Aligned Edge Convolutional Neural Networks",null,{"$f":"E163","v":"2020-11-26T14:00:00"},null,"2020-11-27T00:30:00",null,null,false,0]
[null,null,"Junming Zhang; Ming-Yuan Yu; Ram Vasudevan; Matthew Johnson Roberson",null,null,null,null,null,null,null,0]
[{"$f":"A165+1","v":284},null,"Global Context Aware Convolutions for 3D Point Cloud Understanding",null,{"$f":"E165","v":"2020-11-26T14:00:00"},null,"2020-11-27T00:30:00",null,null,false,0]
[null,null,"Zhiyuan Zhang; Binh-Son Hua; Wei Chen; Yibin Tian; Sai-Kit Yeung",null,null,null,null,null,null,null,0]
[{"$f":"A167+1","v":285},null,"Screen-space Regularization on Differentiable Rasterization",null,{"$f":"E167","v":"2020-11-26T14:00:00"},null,"2020-11-27T00:30:00",null,null,false,0]
[null,null,"Kunyao Chen; Cheolhong An; Truong Nguyen",null,null,null,null,null,null,null,0]
[{"$f":"A169+1","v":286},null,"Cycle-Consistent Generative Rendering for 2D-3D Modality Translation",null,{"$f":"E169","v":"2020-11-26T14:00:00"},null,"2020-11-27T00:30:00",null,null,false,0]
[null,null,"Tristan T. Aumentado-Armstrong; Alex Levinshtein; Stavros Tsogkas; Konstantinos Derpanis; Allan D. Jepson",null,null,null,null,null,null,null,0]
[]
["Poster Spotlight 2B"]
[241,null,"SCFusion: Real-time Incremental Scene Reconstruction with Semantic Completion",null,{"$f":"S!B17","v":"2020-11-26T14:30:00"},null,{"$f":"S!C17","v":"2020-11-27T01:00:00"},null,null,false,0]
[null,null,"Shuncheng Wu; Federico Tombari; Keisuke Tateno; Nassir Navab",null,{"$f":"S!B167","v":0},null,{"$f":"S!C167","v":0},null,null,null,0]
[{"$f":"A175+1","v":242},null,"Smart Time-Multiplexing of Quads Solves the Multicamera Interference Problem",null,{"$f":"E175","v":"2020-11-26T14:30:00"},null,"2020-11-27T01:00:00",null,null,false,0]
[null,null,"Tomislav Pribanic; Tomislav Petković; David Bojanić; Kristijan Bartol; Mohit Gupta",null,null,null,null,null,null,null,0]
[{"$f":"A177+1","v":243},null,"Restoration of Motion Blur in Time-of-Flight Depth Image using Data Alignment",null,{"$f":"E177","v":"2020-11-26T14:30:00"},null,"2020-11-27T01:00:00",null,null,false,0]
[null,null,"Zhuo Chen; Rendong Ying; Peilin Liu; Fei Wen; Jun Wang",null,null,null,null,null,null,null,0]
[{"$f":"A179+1","v":244},null,"Temporal LiDAR Frame Prediction for Autonomous Driving",null,{"$f":"E179","v":"2020-11-26T14:30:00"},null,"2020-11-27T01:00:00",null,null,false,0]
[null,null,"David Deng; Avideh Zakhor",null,null,null,null,null,null,null,0]
[{"$f":"A181+1","v":245},null,"Deep LiDAR localization using optical flow sensor-map correspondences",null,{"$f":"E181","v":"2020-11-26T14:30:00"},null,"2020-11-27T01:00:00",null,null,false,0]
[null,null,"Anders Karlsson; Lennart Svensson; Torsten Sattler",null,null,null,null,null,null,null,0]
[251,null,"Learning Distribution Independent Latent Representation for 3D Face Disentanglement",null,{"$f":"E183","v":"2020-11-26T14:30:00"},null,"2020-11-27T01:00:00",null,null,false,0]
[null,null,"Zihui Zhang; Cuican Yu; Huibin Li; Jian Sun; Liu Feng",null,null,null,null,null,null,null,0]
[{"$f":"A185+1","v":252},null,"Learning 3D Faces from Photo-Realistic Facial Synthesis",null,{"$f":"E185","v":"2020-11-26T14:30:00"},null,"2020-11-27T01:00:00",null,null,false,0]
[null,null,"Ruizhe Wang; Chih-Fan Chen; Hao Peng; Xudong Liu; Xin Li",null,null,null,null,null,null,null,0]
[{"$f":"A187+1","v":253},null,"GIF: Generative Interpretable Faces",null,{"$f":"E187","v":"2020-11-26T14:30:00"},null,"2020-11-27T01:00:00",null,null,false,0]
[null,null,"Partha Ghosh; Pravir Singh Gupta; Roy Uziel; Anurag Ranjan; Michael J. Black; Timo Bolkart",null,null,null,null,null,null,null,0]
[{"$f":"A189+1","v":254},null,"PeeledHuman: Robust shape representation for textured 3D human body reconstruction",null,{"$f":"E189","v":"2020-11-26T14:30:00"},null,"2020-11-27T01:00:00",null,null,false,0]
[null,null,"Sai Sagar; Rohan Chacko; Avinash Sharma; P. J. Narayanan",null,null,null,null,null,null,null,0]
[{"$f":"A191+1","v":255},null,"Do We Need Depth in State-Of-The-Art Face Authentication?",null,{"$f":"E191","v":"2020-11-26T14:30:00"},null,"2020-11-27T01:00:00",null,null,false,0]
[null,null,"Amir Livne; Alex Bronstein; Ron Kimmel; Ziv Aviv; Shahaf Grofit",null,null,null,null,null,null,null,0]
[261,null,"Error Bounds of Projection Models in Weakly Supervised 3D Human Pose Estimation",null,{"$f":"E193","v":"2020-11-26T14:30:00"},null,"2020-11-27T01:00:00",null,null,false,0]
[null,null,"Nikolas Klug; Moritz Einfalt; Stephan Brehm; Rainer Lienhart",null,null,null,null,null,null,null,0]
[{"$f":"A195+1","v":262},null,"LCD – Line Clustering and Description for Place Recognition",null,{"$f":"E195","v":"2020-11-26T14:30:00"},null,"2020-11-27T01:00:00",null,null,false,0]
[null,null,"Felix K. J. Taubner; Florian Tschopp; Tonci Novkovic; Roland Siegwart; Fadri Furrer",null,null,null,null,null,null,null,0]
[{"$f":"A197+1","v":263},null,"Convolutional Autoencoders for Human Motion Infilling",null,{"$f":"E197","v":"2020-11-26T14:30:00"},null,"2020-11-27T01:00:00",null,null,false,0]
[null,null,"Manuel Kaufmann; Emre Aksan; Jie Song; Fabrizio Pece; Remo Ziegler; Otmar Hilliges",null,null,null,null,null,null,null,0]
[{"$f":"A199+1","v":264},null,"3D Deep Learning for Biological Function Prediction from Physical Fields",null,{"$f":"E199","v":"2020-11-26T14:30:00"},null,"2020-11-27T01:00:00",null,null,false,0]
[null,null,"Vladimir Golkov; Marcin J. Skwark; Atanas Mirchev; Georgi Dikov; Alexander R. Geanes; Jeffrey Mendenhall; Jens Meiler; Daniel Cremers",null,null,null,null,null,null,null,0]
[]
["Poster Session 2"]
["   *",null,"Live poster presentation at SpatialChat rooms",null,{"$f":"S!B18","v":"2020-11-26T15:00:00"},null,{"$f":"S!C18","v":"2020-11-27T01:30:00"},null,null,false,0]
[" ",null,"(papers in Poster Spotlight 2A & 2B, Oral 2A & 2B and demos)",null,{"$f":"S!B197","v":0},null,{"$f":"S!C197","v":0},null,null,null,0]
[]
[]
["Day 3 : Friday 27 November",null,null,null,"1st Round",null,"2nd Round",null,"My Choice"]
[]
["Keynote 3"]
["   *",null,"Photorealistic Telepresence",null,{"$f":"S!B23","v":"2020-11-27T09:30:00"},null,{"$f":"S!C23","v":"2020-11-27T22:00:00"},null,null,false,0]
[" ",null,"Yaser Sheikh (CMU, Facebook Reality Lab)",null,{"$f":"S!B208","v":0},null,{"$f":"S!C208","v":0},null,null,null,0]
[]
["Oral 3A : 3D Analysis"]
[371,null,"Graphite: GRAPH-Induced feaTure Extraction for Point Cloud Registration",null,{"$f":"S!B24","v":"2020-11-27T10:30:00"},null,{"$f":"S!C24","v":"2020-11-27T23:00:00"},null,null,false,0]
[null,null,"Mahdi Saleh; Shervin Dehghani; Benjamin Busam; Nassir Navab; Federico Tombari",null,{"$f":"S!B212","v":0},null,{"$f":"S!C212","v":0},null,null,null,0]
[{"$f":"A216+1","v":372},null,"Simulated Annealing for 3D Shape Correspondence",null,{"$f":"E216","v":"2020-11-27T10:30:00"},null,"2020-11-27T23:00:00",null,null,false,0]
[null,null,"Benjamin J. Holzschuh; Zorah Laehner; Daniel Cremers",null,null,null,null,null,null,null,0]
[{"$f":"A218+1","v":373},null,"Scene Flow from Point Clouds with or without Learning",null,{"$f":"E218","v":"2020-11-27T10:30:00"},null,"2020-11-27T23:00:00",null,null,false,0]
[null,null,"Jhony Kaesemodel Pontes; Simon Lucey; James Hays",null,null,null,null,null,null,null,0]
[{"$f":"A220+1","v":374},null,"Two-Stage Relation Constraint for Semantic Segmentation of Point Clouds",null,{"$f":"E220","v":"2020-11-27T10:30:00"},null,"2020-11-27T23:00:00",null,null,false,0]
[null,null,"Minghui Yu; Jinxian Liu; Caiyuan Li; Bingbing Ni",null,null,null,null,null,null,null,0]
[{"$f":"A222+1","v":375},null,"3D-Aware Ellipse Prediction for Object-Based Camera Pose Estimation",null,{"$f":"E222","v":"2020-11-27T10:30:00"},null,"2020-11-27T23:00:00",null,null,false,0]
[null,null,"Matthieu Zins; Gilles Simon; Marie-Odile Berger",null,null,null,null,null,null,null,0]
[{"$f":"A224+1","v":376},null,"Introducing Pose Consistency and Warp-Alignment for Self-Supervised 6D Object Pose Estimation in Color Images",null,{"$f":"E224","v":"2020-11-27T10:30:00"},null,"2020-11-27T23:00:00",null,null,false,0]
[null,null,"Juil Sock; Guillermo Garcia-Hernando; Anil Armagan; Tae-Kyun Kim",null,null,null,null,null,null,null,0]
[]
["Poster Spotlight 3A"]
[311,null,"Using Image Sequences for Long-Term Visual Localization",null,{"$f":"S!B25","v":"2020-11-27T11:00:00"},null,{"$f":"S!C25","v":"2020-11-27T23:30:00"},null,null,false,0]
[null,null,"Erik Stenborg; Torsten Sattler; Lars Hammarstrand",null,{"$f":"S!B226","v":0},null,{"$f":"S!C226","v":0},null,null,null,0]
[{"$f":"A230+1","v":312},null,"NodeSLAM: Neural Object Descriptors for Multi-View Shape Reconstruction",null,{"$f":"E230","v":"2020-11-27T11:00:00"},null,"2020-11-27T23:30:00",null,null,false,0]
[null,null,"Edgar A. Sucar; Kentaro Wada; Andrew Davison",null,null,null,null,null,null,null,0]
[{"$f":"A232+1","v":313},null,"FC-vSLAM: Integrating Feature Credibility in Visual SLAM",null,{"$f":"E232","v":"2020-11-27T11:00:00"},null,"2020-11-27T23:30:00",null,null,false,0]
[null,null,"Shuai Xie; Wei Ma; Qiuyuan Wang; Ruchang Xu; Hongbin Zha",null,null,null,null,null,null,null,0]
[{"$f":"A234+1","v":314},null,"LM-Reloc: Levenberg-Marquardt based Direct Visual Relocalization",null,{"$f":"E234","v":"2020-11-27T11:00:00"},null,"2020-11-27T23:30:00",null,null,false,0]
[null,null,"Lukas Von Stumberg; Patrick Wenzel; Nan Yang; Daniel Cremers",null,null,null,null,null,null,null,0]
[{"$f":"A236+1","v":315},null,"HyperSLAM: A Generic and Modular Approach to Sensor Fusion and Simultaneous Localization And Mapping in Continuous-Time",null,{"$f":"E236","v":"2020-11-27T11:00:00"},null,"2020-11-27T23:30:00",null,null,false,0]
[null,null,"David Hug; Margarita Chli",null,null,null,null,null,null,null,0]
[321,null,"RotPredictor: Unsupervised Canonical Viewpoint Learning for Point Cloud Classification",null,{"$f":"E238","v":"2020-11-27T11:00:00"},null,"2020-11-27T23:30:00",null,null,false,0]
[null,null,"Jin Fang; Dingfu Zhou; Xibin Song; Shengze Jin; Ruigang Yang; Liangjun Zhang",null,null,null,null,null,null,null,0]
[{"$f":"A240+1","v":322},null,"Scalable Point Cloud-based Reconstruction with Local Implicit Functions",null,{"$f":"E240","v":"2020-11-27T11:00:00"},null,"2020-11-27T23:30:00",null,null,false,0]
[null,null,"Sandro Lombardi; Martin R. Oswald; Marc Pollefeys",null,null,null,null,null,null,null,0]
[{"$f":"A242+1","v":323},null,"Efficient Scene Compression for Visual-based Localization",null,{"$f":"E242","v":"2020-11-27T11:00:00"},null,"2020-11-27T23:30:00",null,null,false,0]
[null,null,"Marcela Mera Trujillo; Benjamin Smith; Victor Fragoso",null,null,null,null,null,null,null,0]
[{"$f":"A244+1","v":324},null,"Self-supervised learning of point clouds via orientation estimation",null,{"$f":"E244","v":"2020-11-27T11:00:00"},null,"2020-11-27T23:30:00",null,null,false,0]
[null,null,"Omid Poursaeed; Tianxing Jiang; Quintessa Xiao; Nayun Xu; Vladimir Kim",null,null,null,null,null,null,null,0]
[{"$f":"A246+1","v":325},null,"MaskNet: A Fully-Convolutional Network to Estimate Inlier Points",null,{"$f":"E246","v":"2020-11-27T11:00:00"},null,"2020-11-27T23:30:00",null,null,false,0]
[null,null,"Vinit Sarode; Animesh Dhagat; Arun Srivatsan Rangaprasad; Nicolas Zevallos; Simon Lucey; Howie Choset",null,null,null,null,null,null,null,0]
[331,null,"Self-Supervised 2D Image to 3D Shape Translation with Disentangled Representations",null,{"$f":"E248","v":"2020-11-27T11:00:00"},null,"2020-11-27T23:30:00",null,null,false,0]
[null,null,"Berk Kaya; Radu Timofte",null,null,null,null,null,null,null,0]
[{"$f":"A250+1","v":332},null,"Adversarial Self-Supervised Scene Flow Estimation",null,{"$f":"E250","v":"2020-11-27T11:00:00"},null,"2020-11-27T23:30:00",null,null,false,0]
[null,null,"Victor H. Zuanazzi de Abreu; Joris van Vugt; Olaf Booij; Pascal Mettes",null,null,null,null,null,null,null,0]
[{"$f":"A252+1","v":333},null,"Localising In Complex Scenes Using Balanced Adversarial Adaptation",null,{"$f":"E252","v":"2020-11-27T11:00:00"},null,"2020-11-27T23:30:00",null,null,false,0]
[null,null,"Yan Zuo; Gil Avraham; Tom Drummond",null,null,null,null,null,null,null,0]
[{"$f":"A254+1","v":334},null,"Spatial attention improves iterative 6D object pose estimation",null,{"$f":"E254","v":"2020-11-27T11:00:00"},null,"2020-11-27T23:30:00",null,null,false,0]
[null,null,"Stefan Stevsic; Otmar Hilliges",null,null,null,null,null,null,null,0]
[{"$f":"A256+1","v":335},null,"A New Distributional Ranking Loss with Uncertainty: Illustrated in Relative Depth Estimation",null,{"$f":"E256","v":"2020-11-27T11:00:00"},null,"2020-11-27T23:30:00",null,null,false,0]
[null,null,"Alican Mertan; Yusuf Hüseyin Şahin; Damien Jade Duff; Gozde Unal",null,null,null,null,null,null,null,0]
[]
["Oral 3B : Body and Face"]
[381,null,"SMPLy Benchmarking 3D Human Pose Estimation in the Wild",null,{"$f":"S!B27","v":"2020-11-27T14:00:00"},null,{"$f":"S!C27","v":"2020-11-28T00:30:00"},null,null,false,0]
[null,null,"Vincent Leroy; Philippe Weinzaepfel; Romain Brégier; Hadrien Combaluzier; Gregory Rogez",null,{"$f":"S!B258","v":0},null,{"$f":"S!C258","v":0},null,null,null,0]
[{"$f":"A262+1","v":382},null,"PoseNet3D: Learning Temporally Consistent 3D Human Pose via Knowledge Distillation",null,{"$f":"E262","v":"2020-11-27T14:00:00"},null,"2020-11-28T00:30:00",null,null,false,0]
[null,null,"Shashank Tripathi; Siddhant Ranade; Ambrish Tyagi; Amit Agrawal",null,null,null,null,null,null,null,0]
[{"$f":"A264+1","v":383},null,"MonoClothCap: Towards Temporally Coherent Clothing Capture from Monocular RGB Video",null,{"$f":"E264","v":"2020-11-27T14:00:00"},null,"2020-11-28T00:30:00",null,null,false,0]
[null,null,"Donglai Xiang; Fabian Prada; Chenglei Wu; Jessica Hodgins",null,null,null,null,null,null,null,0]
[{"$f":"A266+1","v":384},null,"Grasping Field: Learning Implicit Representations for Human Grasps",null,{"$f":"E266","v":"2020-11-27T14:00:00"},null,"2020-11-28T00:30:00",null,null,false,0]
[null,null,"Korrawe Karunratanakul; Jinlong Yang; Yan Zhang; Michael J. Black; Krikamol Muandet; Siyu Tang",null,null,null,null,null,null,null,0]
[{"$f":"A268+1","v":385},null,"Semantic Deep Face Models",null,{"$f":"E268","v":"2020-11-27T14:00:00"},null,"2020-11-28T00:30:00",null,null,false,0]
[null,null,"Prashanth Chandran; Derek Bradley; Markus Gross; Thabo Beeler",null,null,null,null,null,null,null,0]
[{"$f":"A270+1","v":386},null,"High-Dynamic-Range Lighting Estimation from Face Portraits",null,{"$f":"E270","v":"2020-11-27T14:00:00"},null,"2020-11-28T00:30:00",null,null,false,0]
[null,null,"Alejandro Sztrajman; Alexandros Neophytou; Tim Weyrich; Eric Sommerlade",null,null,null,null,null,null,null,0]
[]
["Poster Spotlight 3B"]
[341,null,"Style Transfer for Keypoint Matching under Adverse Conditions",null,{"$f":"S!B28","v":"2020-11-27T14:30:00"},null,{"$f":"S!C28","v":"2020-11-28T01:00:00"},null,null,false,0]
[null,null,"Ali Uzpak; Abdelaziz Djelouah; Simone Schaub-Meyer",null,{"$f":"S!B272","v":0},null,{"$f":"S!C272","v":0},null,null,null,0]
[{"$f":"A276+1","v":342},null,"Saliency Guided Subdivision for Single-View Mesh Reconstruction",null,{"$f":"E276","v":"2020-11-27T14:30:00"},null,"2020-11-28T01:00:00",null,null,false,0]
[null,null,"Hai Li; Weicai Ye; Guofeng Zhang; Sanyuan Zhang; Hujun Bao",null,null,null,null,null,null,null,0]
[{"$f":"A278+1","v":343},null,"Fast Discontinuity-Aware Subpixel Correspondence in Structured Light",null,{"$f":"E278","v":"2020-11-27T14:30:00"},null,"2020-11-28T01:00:00",null,null,false,0]
[null,null,"Nicolas Hurtubise; Sebastien Roy",null,null,null,null,null,null,null,0]
[{"$f":"A280+1","v":344},null,"Generalized Pose-and-Scale Estimation using 4-Point Congruence Constraints",null,{"$f":"E280","v":"2020-11-27T14:30:00"},null,"2020-11-28T01:00:00",null,null,false,0]
[null,null,"Sudipta Sinha; Victor Fragoso",null,null,null,null,null,null,null,0]
[{"$f":"A282+1","v":345},null,"Learning to guide local feature matches",null,{"$f":"E282","v":"2020-11-27T14:30:00"},null,"2020-11-28T01:00:00",null,null,false,0]
[null,null,"François Darmon; Pascal Monasse; Mathieu Aubry",null,null,null,null,null,null,null,0]
[351,null,"Towards Geometry Guided Neural Relighting with Flash Photography",null,{"$f":"E284","v":"2020-11-27T14:30:00"},null,"2020-11-28T01:00:00",null,null,false,0]
[null,null,"Di Qiu; Jin Zeng; Zhanghan Ke; Wenxiu Sun; Chengxi Yang",null,null,null,null,null,null,null,0]
[{"$f":"A286+1","v":352},null,"Precomputed Radiance Transfer for Reflectance and Lighting Estimation",null,{"$f":"E286","v":"2020-11-27T14:30:00"},null,"2020-11-28T01:00:00",null,null,false,0]
[null,null,"Daniel Thul; Vagia Tsiminaki; Lubor Ladicky; Marc Pollefeys",null,null,null,null,null,null,null,0]
[{"$f":"A288+1","v":353},null,"Deep SVBRDF Estimation on Real Materials",null,{"$f":"E288","v":"2020-11-27T14:30:00"},null,"2020-11-28T01:00:00",null,null,false,0]
[null,null,"Louis-Philippe Asselin; Denis Laurendeau; Jean-Francois Lalonde",null,null,null,null,null,null,null,0]
[{"$f":"A290+1","v":354},null,"TRANSPR: Transparency Ray-Accumulating Neural 3D Scene Point Renderer",null,{"$f":"E290","v":"2020-11-27T14:30:00"},null,"2020-11-28T01:00:00",null,null,false,0]
[null,null,"Maria Kolos; Artem Sevastopolsky; Victor Lempitsky",null,null,null,null,null,null,null,0]
[{"$f":"A292+1","v":355},null,"Intrinsic Autoencoders for Joint Deferred Neural Rendering and Intrinsic Image Decomposition",null,{"$f":"E292","v":"2020-11-27T14:30:00"},null,"2020-11-28T01:00:00",null,null,false,0]
[null,null,"Hassan Abu Alhaija; Siva Karthik Mustikovela; Varun Jampani; Justus Thies; Matthias Niessner; Andreas Geiger; Carsten Rother",null,null,null,null,null,null,null,0]
[361,null,"Shape from Tracing: Towards Reconstructing 3D Object Geometry and SVBRDF Material from Images via Differentiable Path Tracing",null,{"$f":"E294","v":"2020-11-27T14:30:00"},null,"2020-11-28T01:00:00",null,null,false,0]
[null,null,"Purvi Goel; Loudon Cohen; James Guesman; Vikas Thamizharasan; James Tompkin; Daniel Ritchie",null,null,null,null,null,null,null,0]
[{"$f":"A296+1","v":362},null,"Deep Learning Based Single-Photon 3D Imaging with Multiple Returns",null,{"$f":"E296","v":"2020-11-27T14:30:00"},null,"2020-11-28T01:00:00",null,null,false,0]
[null,null,"Hao Tan; Jiayong Peng; Zhiwei Xiong; Dong Liu; Xin Huang; Zheng-Ping Li; Yu Hong; Feihu Xu",null,null,null,null,null,null,null,0]
[{"$f":"A298+1","v":363},null,"A Novel Depth from Defocus Framework Based on a Thick Lens Camera Model",null,{"$f":"E298","v":"2020-11-27T14:30:00"},null,"2020-11-28T01:00:00",null,null,false,0]
[null,null,"Matthew J. Bailey; Jean-Yves Guillemaut",null,null,null,null,null,null,null,0]
[{"$f":"A300+1","v":364},null,"Towards a MEMS-based Adaptive LIDAR",null,{"$f":"E300","v":"2020-11-27T14:30:00"},null,"2020-11-28T01:00:00",null,null,false,0]
[null,null,"Justin R. Folden; Francesco Pittaluga; Zaid Tasneem; Sanjeev J. Koppal; Ayan Chakrabarti; Brevin J. Tilmon",null,null,null,null,null,null,null,0]
[]
["Poster Session 3"]
["   *",null,"Live poster presentation at SpatialChat rooms",null,{"$f":"S!B29","v":"2020-11-27T15:00:00"},null,{"$f":"S!C29","v":"2020-11-28T01:30:00"},null,null,false,0]
[" ",null,"(papers in Poster Spotlight 3A & 3B, Oral 3A & 3B and demos)",null,{"$f":"S!B302","v":0},null,{"$f":"S!C302","v":0},null,null,null,0]
[]
["Closing Remarks"]
["   *",null,"Closing Remarks",null,{"$f":"S!B30","v":"2020-11-27T16:30:00"},null,"  ",null,null,false,0]
[" ",null," ",null,null,null,null,null,null,null,0]
[]
["Day 4 : Saturday 28 November",null,null,null,null,null,null,null,"My Choice"]
[]
["Tutorial 1"]
["   *",null,"Visual Localization in the Age of Deep Learning",null,{"$f":"S!B33","v":"2020-11-28T10:00:00"},null," ",null,null,false,0]
[" ",null,"Yihong Wu, Chaofan Zhang",null,{"$f":"S!B37","v":"00:00:00"},null,null,null,null,null,0]
[]
["Tutorial 2"]
["   *",null,"3D Point Cloud Reconstruction and Segmentation",null,{"$f":"S!B34","v":"2020-11-28T17:00:00"},null," ",null,null,false,0]
[" ",null,"Yulan Guo, Ronald Clark, Bo Yang, Qingyong Hu",null,{"$f":"S!B41","v":"00:00:00"},null,null,null,null,null,0]

{"sheet":"MyChoice","index":1,"n_rows":326,"n_cols":7,"rows_kept":326,"cut":false,"hidden":false,"merged":[[320,4,321,4],[320,6,321,6],[322,4,323,4],[322,6,323,6],[324,4,325,4],[324,6,325,6],[314,4,315,4],[314,6,315,6],[316,4,317,4],[316,6,317,6],[318,4,319,4],[318,6,319,6],[308,4,309,4],[308,6,309,6],[310,4,311,4],[310,6,311,6],[312,4,313,4],[312,6,313,6],[302,4,303,4],[302,6,303,6],[304,4,305,4],[304,6,305,6],[306,4,307,4],[306,6,307,6],[296,4,297,4],[296,6,297,6],[298,4,299,4],[298,6,299,6],[300,4,301,4],[300,6,301,6],[290,4,291,4],[290,6,291,6],[292,4,293,4],[292,6,293,6],[294,4,295,4],[294,6,295,6],[284,4,285,4],[284,6,285,6],[286,4,287,4],[286,6,287,6],[288,4,289,4],[288,6,289,6],[278,4,279,4],[278,6,279,6],[280,4,281,4],[280,6,281,6],[282,4,283,4],[282,6,283,6],[272,4,273,4],[272,6,273,6],[274,4,275,4],[274,6,275,6],[276,4,277,4],[276,6,277,6],[266,4,267,4],[266,6,267,6],[268,4,269,4],[268,6,269,6],[270,4,271,4],[270,6,271,6],[260,4,261,4],[260,6,261,6],[262,4,263,4],[262,6,263,6],[264,4,265,4],[264,6,265,6],[254,4,255,4],[254,6,255,6],[256,4,257,4],[256,6,257,6],[258,4,259,4],[258,6,259,6],[248,4,249,4],[248,6,249,6],[250,4,251,4],[250,6,251,6],[252,4,253,4],[252,6,253,6],[242,4,243,4],[242,6,243,6],[244,4,245,4],[244,6,245,6],[246,4,247,4],[246,6,247,6],[236,4,237,4],[236,6,237,6],[238,4,239,4],[238,6,239,6],[240,4,241,4],[240,6,241,6],[230,4,231,4],[230,6,231,6],[232,4,233,4],[232,6,233,6],[234,4,235,4],[234,6,235,6],[224,4,225,4],[224,6,225,6],[226,4,227,4],[226,6,227,6],[228,4,229,4],[228,6,229,6],[218,4,219,4],[218,6,219,6],[220,4,221,4],[220,6,221,6],[222,4,223,4],[222,6,223,6],[212,4,213,4],[212,6,213,6],[214,4,215,4],[214,6,215,6],[216,4,217,4],[216,6,217,6],[206,4,207,4],[206,6,207,6],[208,4,209,4],[208,6,209,6],[210,4,211,4],[210,6,211,6],[200,4,201,4],[200,6,201,6],[202,4,203,4],[202,6,203,6],[204,4,205,4],[204,6,205,6],[194,4,195,4],[194,6,195,6],[196,4,197,4],[196,6,197,6],[198,4,199,4],[198,6,199,6],[188,4,189,4],[188,6,189,6],[190,4,191,4],[190,6,191,6],[192,4,193,4],[192,6,193,6],[182,4,183,4],[182,6,183,6],[184,4,185,4],[184,6,185,6],[186,4,187,4],[186,6,187,6],[176,4,177,4],[176,6,177,6],[178,4,179,4],[178,6,179,6],[180,4,181,4],[180,6,181,6],[170,4,171,4],[170,6,171,6],[172,4,173,4],[172,6,173,6],[174,4,175,4],[174,6,175,6],[164,4,165,4],[164,6,165,6],[166,4,167,4],[166,6,167,6],[168,4,169,4],[168,6,169,6],[158,4,159,4],[158,6,159,6],[160,4,161,4],[160,6,161,6],[162,4,163,4],[162,6,163,6],[152,4,153,4],[152,6,153,6],[154,4,155,4],[154,6,155,6],[156,4,157,4],[156,6,157,6],[146,4,147,4],[146,6,147,6],[148,4,149,4],[148,6,149,6],[150,4,151,4],[150,6,151,6],[140,4,141,4],[140,6,141,6],[142,4,143,4],[142,6,143,6],[144,4,145,4],[144,6,145,6],[134,4,135,4],[134,6,135,6],[136,4,137,4],[136,6,137,6],[138,4,139,4],[138,6,139,6],[128,4,129,4],[128,6,129,6],[130,4,131,4],[130,6,131,6],[132,4,133,4],[132,6,133,6],[122,4,123,4],[122,6,123,6],[124,4,125,4],[124,6,125,6],[126,4,127,4],[126,6,127,6],[116,4,117,4],[116,6,117,6],[118,4,119,4],[118,6,119,6],[120,4,121,4],[120,6,121,6],[110,4,111,4],[110,6,111,6],[112,4,113,4],[112,6,113,6],[114,4,115,4],[114,6,115,6],[104,4,105,4],[104,6,105,6],[106,4,107,4],[106,6,107,6],[108,4,109,4],[108,6,109,6],[98,4,99,4],[98,6,99,6],[100,4,101,4],[100,6,101,6],[102,4,103,4],[102,6,103,6],[92,4,93,4],[92,6,93,6],[94,4,95,4],[94,6,95,6],[96,4,97,4],[96,6,97,6],[86,4,87,4],[86,6,87,6],[88,4,89,4],[88,6,89,6],[90,4,91,4],[90,6,91,6],[80,4,81,4],[80,6,81,6],[82,4,83,4],[82,6,83,6],[84,4,85,4],[84,6,85,6],[74,4,75,4],[74,6,75,6],[76,4,77,4],[76,6,77,6],[78,4,79,4],[78,6,79,6],[68,4,69,4],[68,6,69,6],[70,4,71,4],[70,6,71,6],[72,4,73,4],[72,6,73,6],[62,4,63,4],[62,6,63,6],[64,4,65,4],[64,6,65,6],[66,4,67,4],[66,6,67,6],[56,4,57,4],[56,6,57,6],[58,4,59,4],[58,6,59,6],[60,4,61,4],[60,6,61,6],[50,4,51,4],[50,6,51,6],[52,4,53,4],[52,6,53,6],[54,4,55,4],[54,6,55,6],[44,4,45,4],[44,6,45,6],[46,4,47,4],[46,6,47,6],[48,4,49,4],[48,6,49,6],[38,4,39,4],[38,6,39,6],[40,4,41,4],[40,6,41,6],[42,4,43,4],[42,6,43,6],[32,4,33,4],[32,6,33,6],[34,4,35,4],[34,6,35,6],[36,4,37,4],[36,6,37,6],[26,4,27,4],[26,6,27,6],[28,4,29,4],[28,6,29,6],[30,4,31,4],[30,6,31,6],[20,4,21,4],[20,6,21,6],[22,4,23,4],[22,6,23,6],[24,4,25,4],[24,6,25,6],[14,4,15,4],[14,6,15,6],[16,4,17,4],[16,6,17,6],[18,4,19,4],[18,6,19,6],[8,4,9,4],[10,4,11,4],[12,4,13,4],[8,6,9,6],[10,6,11,6],[12,6,13,6],[0,0,1,6],[2,0,2,2],[3,0,3,2],[4,4,5,4],[6,4,7,4],[4,6,5,6],[6,6,7,6]]}
["3DV2020 MyChoice"]
[]
[]
[null,null,null,null,"1st Round",null,"2nd Round"]
[{"$f":"IFERROR(INDEX(MyProgram!$A$7:$G$326,SMALL(IF(MyProgram!$K$7:$K$326,ROW($A$1:$A$320)),ROW($A1)),COLUMN(A$1)),\"\")","v":""},{"$f":"IFERROR(INDEX(MyProgram!$A$7:$G$326,SMALL(IF(MyProgram!$K$7:$K$326,ROW($A$1:$A$320)),ROW($A1)),COLUMN(B$1)),\"\")","v":""},{"$f":"IFERROR(INDEX(MyProgram!$A$7:$G$326,SMALL(IF(MyProgram!$K$7:$K$326,ROW($A$1:$A$320)),ROW($A1)),COLUMN(C$1)),\"\")","v":""},{"$f":"IFERROR(INDEX(MyProgram!$A$7:$G$326,SMALL(IF(MyProgram!$K$7:$K$326,ROW($A$1:$A$320)),ROW($A1)),COLUMN(D$1)),\"\")","v":""},{"$f":"IFERROR(INDEX(MyProgram!$A$7:$G$326,SMALL(IF(MyProgram!$K$7:$K$326,ROW($A$1:$A$320)),ROW($A1)),COLUMN(E$1)),\"\")","v":""},{"$f":"IFERROR(INDEX(MyProgram!$A$7:$G$326,SMALL(IF(MyProgram!$K$7:$K$326,ROW($A$1:$A$320)),ROW($A1)),COLUMN(F$1)),\"\")","v":""},{"$f":"IFERROR(INDEX(MyProgram!$A$7:$G$326,SMALL(IF(MyProgram!$K$7:$K$326,ROW($A$1:$A$320)),ROW($A1)),COLUMN(G$1)),\"\")","v":""}]
[null,{"$f":"IFERROR(INDEX(MyProgram!$A$7:$G$326,SMALL(IF(MyProgram!$K$7:$K$326,ROW($A$1:$A$320)),ROW($A2)),COLUMN(B$1)),\"\")","v":""},{"$f":"IFERROR(INDEX(MyProgram!$A$7:$G$326,SMALL(IF(MyProgram!$K$7:$K$326,ROW($A$1:$A$320)),ROW($A2)),COLUMN(C$1)),\"\")","v":""},{"$f":"IFERROR(INDEX(MyProgram!$A$7:$G$326,SMALL(IF(MyProgram!$K$7:$K$326,ROW($A$1:$A$320)),ROW($A2)),COLUMN(D$1)),\"\")","v":""},null,{"$f":"IFERROR(INDEX(MyProgram!$A$7:$G$326,SMALL(IF(MyProgram!$K$7:$K$326,ROW($A$1:$A$320)),ROW($A2)),COLUMN(F$1)),\"\")","v":""}]
[{"$f":"IFERROR(INDEX(MyProgram!$A$7:$G$326,SMALL(IF(MyProgram!$K$7:$K$326,ROW($A$1:$A$320)),ROW($A3)),COLUMN(A$1)),\"\")","v":""},{"$f":"IFERROR(INDEX(MyProgram!$A$7:$G$326,SMALL(IF(MyProgram!$K$7:$K$326,ROW($A$1:$A$320)),ROW($A3)),COLUMN(B$1)),\"\")","v":""},{"$f":"IFERROR(INDEX(MyProgram!$A$7:$G$326,SMALL(IF(MyProgram!$K$7:$K$326,ROW($A$1:$A$320)),ROW($A3)),COLUMN(C$1)),\"\")","v":""},{"$f":"IFERROR(INDEX(MyProgram!$A$7:$G$326,SMALL(IF(MyProgram!$K$7:$K$326,ROW($A$1:$A$320)),ROW($A3)),COLUMN(D$1)),\"\")","v":""},{"$f":"IFERROR(INDEX(MyProgram!$A$7:$G$326,SMALL(IF(MyProgram!$K$7:$K$326,ROW($A$1:$A$320)),ROW($A3)),COLUMN(E$1)),\"\")","v":""},{"$f":"IFERROR(INDEX(MyProgram!$A$7:$G$326,SMALL(IF(MyProgram!$K$7:$K$326,ROW($A$1:$A$320)),ROW($A3)),COLUMN(F$1)),\"\")","v":""},{"$f":"IFERROR(INDEX(MyProgram!$A$7:$G$326,SMALL(IF(MyProgram!$K$7:$K$326,ROW($A$1:$A$320)),ROW($A3)),COLUMN(G$1)),\"\")","v":""}]
[null,{"$f":"IFERROR(INDEX(MyProgram!$A$7:$G$326,SMALL(IF(MyProgram!$K$7:$K$326,ROW($A$1:$A$320)),ROW($A4)),COLUMN(B$1)),\"\")","v":""},{"$f":"IFERROR(INDEX(MyProgram!$A$7:$G$326,SMALL(IF(MyProgram!$K$7:$K$326,ROW($A$1:$A$320)),ROW($A4)),COLUMN(C$1)),\"\")","v":""},{"$f":"IFERROR(INDEX(MyProgram!$A$7:$G$326,SMALL(IF(MyProgram!$K$7:$K$326,ROW($A$1:$A$320)),ROW($A4)),COLUMN(D$1)),\"\")","v":""},null,{"$f":"IFERROR(INDEX(MyProgram!$A$7:$G$326,SMALL(IF(MyProgram!$K$7:$K$326,ROW($A$1:$A$320)),ROW($A4)),COLUMN(F$1)),\"\")","v":""}]
[{"$f":"IFERROR(INDEX(MyProgram!$A$7:$G$326,SMALL(IF(MyProgram!$K$7:$K$326,ROW($A$1:$A$320)),ROW($A5)),COLUMN(A$1)),\"\")","v":""},{"$f":"IFERROR(INDEX(MyProgram!$A$7:$G$326,SMALL(IF(MyProgram!$K$7:$K$326,ROW($A$1:$A$320)),ROW($A5)),COLUMN(B$1)),\"\")","v":""},{"$f":"IFERROR(INDEX(MyProgram!$A$7:$G$326,SMALL(IF(MyProgram!$K$7:$K$326,ROW($A$1:$A$320)),ROW($A5)),COLUMN(C$1)),\"\")","v":""},{"$f":"IFERROR(INDEX(MyProgram!$A$7:$G$326,SMALL(IF(MyProgram!$K$7:$K$326,ROW($A$1:$A$320)),ROW($A5)),COLUMN(D$1)),\"\")","v":""},{"$f":"IFERROR(INDEX(MyProgram!$A$7:$G$326,SMALL(IF(MyProgram!$K$7:$K$326,ROW($A$1:$A$320)),ROW($A5)),COLUMN(E$1)),\"\")","v":""},{"$f":"IFERROR(INDEX(MyProgram!$A$7:$G$326,SMALL(IF(MyProgram!$K$7:$K$326,ROW($A$1:$A$320)),ROW($A5)),COLUMN(F$1)),\"\")","v":""},{"$f":"IFERROR(INDEX(MyProgram!$A$7:$G$326,SMALL(IF(MyProgram!$K$7:$K$326,ROW($A$1:$A$320)),ROW($A5)),COLUMN(G$1)),\"\")","v":""}]
[null,{"$f":"IFERROR(INDEX(MyProgram!$A$7:$G$326,SMALL(IF(MyProgram!$K$7:$K$326,ROW($A$1:$A$320)),ROW($A6)),COLUMN(B$1)),\"\")","v":""},{"$f":"IFERROR(INDEX(MyProgram!$A$7:$G$326,SMALL(IF(MyProgram!$K$7:$K$326,ROW($A$1:$A$320)),ROW($A6)),COLUMN(C$1)),\"\")","v":""},{"$f":"IFERROR(INDEX(MyProgram!$A$7:$G$326,SMALL(IF(MyProgram!$K$7:$K$326,ROW($A$1:$A$320)),ROW($A6)),COLUMN(D$1)),\"\")","v":""},null,{"$f":"IFERROR(INDEX(MyProgram!$A$7:$G$326,SMALL(IF(MyProgram!$K$7:$K$326,ROW($A$1:$A$320)),ROW($A6)),COLUMN(F$1)),\"\")","v":""}]
[{"$f":"IFERROR(INDEX(MyProgram!$A$7:$G$326,SMALL(IF(MyProgram!$K$7:$K$326,ROW($A$1:$A$320)),ROW($A7)),COLUMN(A$1)),\"\")","v":""},{"$f":"IFERROR(INDEX(MyProgram!$A$7:$G$326,SMALL(IF(MyProgram!$K$7:$K$326,ROW($A$1:$A$320)),ROW($A7)),COLUMN(B$1)),\"\")","v":""},{"$f":"IFERROR(INDEX(MyProgram!$A$7:$G$326,SMALL(IF(MyProgram!$K$7:$K$326,ROW($A$1:$A$320)),ROW($A7)),COLUMN(C$1)),\"\")","v":""},{"$f":"IFERROR(INDEX(MyProgram!$A$7:$G$326,SMALL(IF(MyProgram!$K$7:$K$326,ROW($A$1:$A$320)),ROW($A7)),COLUMN(D$1)),\"\")","v":""},{"$f":"IFERROR(INDEX(MyProgram!$A$7:$G$326,SMALL(IF(MyProgram!$K$7:$K$326,ROW($A$1:$A$320)),ROW($A7)),COLUMN(E$1)),\"\")","v":""},{"$f":"IFERROR(INDEX(MyProgram!$A$7:$G$326,SMALL(IF(MyProgram!$K$7:$K$326,ROW($A$1:$A$320)),ROW($A7)),COLUMN(F$1)),\"\")","v":""},{"$f":"IFERROR(INDEX(MyProgram!$A$7:$G$326,SMALL(IF(MyProgram!$K$7:$K$326,ROW($A$1:$A$320)),ROW($A7)),COLUMN(G$1)),\"\")","v":""}]
[null,{"$f":"IFERROR(INDEX(MyProgram!$A$7:$G$326,SMALL(IF(MyProgram!$K$7:$K$326,ROW($A$1:$A$320)),ROW($A8)),COLUMN(B$1)),\"\")","v":""},{"$f":"IFERROR(INDEX(MyProgram!$A$7:$G$326,SMALL(IF(MyProgram!$K$7:$K$326,ROW($A$1:$A$320)),ROW($A8)),COLUMN(C$1)),\"\")","v":""},{"$f":"IFERROR(INDEX(MyProgram!$A$7:$G$326,SMALL(IF(MyProgram!$K$7:$K$326,ROW($A$1:$A$320)),ROW($A8)),COLUMN(D$1)),\"\")","v":""},null,{"$f":"IFERROR(INDEX(MyProgram!$A$7:$G$326,SMALL(IF(MyProgram!$K$7:$K$326,ROW($A$1:$A$320)),ROW($A8)),COLUMN(F$1)),\"\")","v":""}]
[{"$f":"IFERROR(INDEX(MyProgram!$A$7:$G$326,SMALL(IF(MyProgram!$K$7:$K$326,ROW($A$1:$A$320)),ROW($A9)),COLUMN(A$1)),\"\")","v":""},{"$f":"IFERROR(INDEX(MyProgram!$A$7:$G$326,SMALL(IF(MyProgram!$K$7:$K$326,ROW($A$1:$A$320)),ROW($A9)),COLUMN(B$1)),\"\")","v":""},{"$f":"IFERROR(INDEX(MyProgram!$A$7:$G$326,SMALL(IF(MyProgram!$K$7:$K$326,ROW($A$1:$A$320)),ROW($A9)),COLUMN(C$1)),\"\")","v":""},{"$f":"IFERROR(INDEX(MyProgram!$A$7:$G$326,SMALL(IF(MyProgram!$K$7:$K$326,ROW($A$1:$A$320)),ROW($A9)),COLUMN(D$1)),\"\")","v":""},{"$f":"IFERROR(INDEX(MyProgram!$A$7:$G$326,SMALL(IF(MyProgram!$K$7:$K$326,ROW($A$1:$A$320)),ROW($A9)),COLUMN(E$1)),\"\")","v":""},{"$f":"IFERROR(INDEX(MyProgram!$A$7:$G$326,SMALL(IF(MyProgram!$K$7:$K$326,ROW($A$1:$A$320)),ROW($A9)),COLUMN(F$1)),\"\")","v":""},{"$f":"IFERROR(INDEX(MyProgram!$A$7:$G$326,SMALL(IF(MyProgram!$K$7:$K$326,ROW($A$1:$A$320)),ROW($A9)),COLUMN(G$1)),\"\")","v":""}]
[null,{"$f":"IFERROR(INDEX(MyProgram!$A$7:$G$326,SMALL(IF(MyProgram!$K$7:$K$326,ROW($A$1:$A$320)),ROW($A10)),COLUMN(B$1)),\"\")","v":""},{"$f":"IFERROR(INDEX(MyProgram!$A$7:$G$326,SMALL(IF(MyProgram!$K$7:$K$326,ROW($A$1:$A$320)),ROW($A10)),COLUMN(C$1)),\"\")","v":""},{"$f":"IFERROR(INDEX(MyProgram!$A$7:$G$326,SMALL(IF(MyProgram!$K$7:$K$326,ROW($A$1:$A$320)),ROW($A10)),COLUMN(D$1)),\"\")","v":""},null,{"$f":"IFERROR(INDEX(MyProgram!$A$7:$G$326,SMALL(IF(MyProgram!$K$7:$K$326,ROW($A$1:$A$320)),ROW($A10)),COLUMN(F$1)),\"\")","v":""}]
[{"$f":"IFERROR(INDEX(MyProgram!$A$7:$G$326,SMALL(IF(MyProgram!$K$7:$K$326,ROW($A$1:$A$320)),ROW($A11)),COLUMN(A$1)),\"\")","v":""},{"$f":"IFERROR(INDEX(MyProgram!$A$7:$G$326,SMALL(IF(MyProgram!$K$7:$K$326,ROW($A$1:$A$320)),ROW($A11)),COLUMN(B$1)),\"\")","v":""},{"$f":"IFERROR(INDEX(MyProgram!$A$7:$G$326,SMALL(IF(MyProgram!$K$7:$K$326,ROW($A$1:$A$320)),ROW($A11)),COLUMN(C$1)),\"\")","v":""},{"$f":"IFERROR(INDEX(MyProgram!$A$7:$G$326,SMALL(IF(MyProgram!$K$7:$K$326,ROW($A$1:$A$320)),ROW($A11)),COLUMN(D$1)),\"\")","v":""},{"$f":"IFERROR(INDEX(MyProgram!$A$7:$G$326,SMALL(IF(MyProgram!$K$7:$K$326,ROW($A$1:$A$320)),ROW($A11)),COLUMN(E$1)),\"\")","v":""},{"$f":"IFERROR(INDEX(MyProgram!$A$7:$G$326,SMALL(IF(MyProgram!$K$7:$K$326,ROW($A$1:$A$320)),ROW($A11)),COLUMN(F$1)),\"\")","v":""},{"$f":"IFERROR(INDEX(MyProgram!$A$7:$G$326,SMALL(IF(MyProgram!$K$7:$K$326,ROW($A$1:$A$320)),ROW($A11)),COLUMN(G$1)),\"\")","v":""}]
[null,{"$f":"IFERROR(INDEX(MyProgram!$A$7:$G$326,SMALL(IF(MyProgram!$K$7:$K$326,ROW($A$1:$A$320)),ROW($A12)),COLUMN(B$1)),\"\")","v":""},{"$f":"IFERROR(INDEX(MyProgram!$A$7:$G$326,SMALL(IF(MyProgram!$K$7:$K$326,ROW($A$1:$A$320)),ROW($A12)),COLUMN(C$1)),\"\")","v":""},{"$f":"IFERROR(INDEX(MyProgram!$A$7:$G$326,SMALL(IF(MyProgram!$K$7:$K$326,ROW($A$1:$A$320)),ROW($A12)),COLUMN(D$1)),\"\")","v":""},null,{"$f":"IFERROR(INDEX(MyProgram!$A$7:$G$326,SMALL(IF(MyProgram!$K$7:$K$326,ROW($A$1:$A$320)),ROW($A12)),COLUMN(F$1)),\"\")","v":""}]
[{"$f":"IFERROR(INDEX(MyProgram!$A$7:$G$326,SMALL(IF(MyProgram!$K$7:$K$326,ROW($A$1:$A$320)),ROW($A13)),COLUMN(A$1)),\"\")","v":""},{"$f":"IFERROR(INDEX(MyProgram!$A$7:$G$326,SMALL(IF(MyProgram!$K$7:$K$326,ROW($A$1:$A$320)),ROW($A13)),COLUMN(B$1)),\"\")","v":""},{"$f":"IFERROR(INDEX(MyProgram!$A$7:$G$326,SMALL(IF(MyProgram!$K$7:$K$326,ROW($A$1:$A$320)),ROW($A13)),COLUMN(C$1)),\"\")","v":""},{"$f":"IFERROR(INDEX(MyProgram!$A$7:$G$326,SMALL(IF(MyProgram!$K$7:$K$326,ROW($A$1:$A$320)),ROW($A13)),COLUMN(D$1)),\"\")","v":""},{"$f":"IFERROR(INDEX(MyProgram!$A$7:$G$326,SMALL(IF(MyProgram!$K$7:$K$326,ROW($A$1:$A$320)),ROW($A13)),COLUMN(E$1)),\"\")","v":""},{"$f":"IFERROR(INDEX(MyProgram!$A$7:$G$326,SMALL(IF(MyProgram!$K$7:$K$326,ROW($A$1:$A$320)),ROW($A13)),COLUMN(F$1)),\"\")","v":""},{"$f":"IFERROR(INDEX(MyProgram!$A$7:$G$326,SMALL(IF(MyProgram!$K$7:$K$326,ROW($A$1:$A$320)),ROW($A13)),COLUMN(G$1)),\"\")","v":""}]
[null,{"$f":"IFERROR(INDEX(MyProgram!$A$7:$G$326,SMALL(IF(MyProgram!$K$7:$K$326,ROW($A$1:$A$320)),ROW($A14)),COLUMN(B$1)),\"\")","v":""},{"$f":"IFERROR(INDEX(MyProgram!$A$7:$G$326,SMALL(IF(MyProgram!$K$7:$K$326,ROW($A$1:$A$320)),ROW($A14)),COLUMN(C$1)),\"\")","v":""},{"$f":"IFERROR(INDEX(MyProgram!$A$7:$G$326,SMALL(IF(MyProgram!$K$7:$K$326,ROW($A$1:$A$320)),ROW($A14)),COLUMN(D$1)),\"\")","v":""},null,{"$f":"IFERROR(INDEX(MyProgram!$A$7:$G$326,SMALL(IF(MyProgram!$K$7:$K$326,ROW($A$1:$A$320)),ROW($A14)),COLUMN(F$1)),\"\")","v":""}]
[{"$f":"IFERROR(INDEX(MyProgram!$A$7:$G$326,SMALL(IF(MyProgram!$K$7:$K$326,ROW($A$1:$A$320)),ROW($A15)),COLUMN(A$1)),\"\")","v":""},{"$f":"IFERROR(INDEX(MyProgram!$A$7:$G$326,SMALL(IF(MyProgram!$K$7:$K$326,ROW($A$1:$A$320)),ROW($A15)),COLUMN(B$1)),\"\")","v":""},{"$f":"IFERROR(INDEX(MyProgram!$A$7:$G$326,SMALL(IF(MyProgram!$K$7:$K$326,ROW($A$1:$A$320)),ROW($A15)),COLUMN(C$1)),\"\")","v":""},{"$f":"IFERROR(INDEX(MyProgram!$A$7:$G$326,SMALL(IF(MyProgram!$K$7:$K$326,ROW($A$1:$A$320)),ROW($A15)),COLUMN(D$1)),\"\")","v":""},{"$f":"IFERROR(INDEX(MyProgram!$A$7:$G$326,SMALL(IF(MyProgram!$K$7:$K$326,ROW($A$1:$A$320)),ROW($A15)),COLUMN(E$1)),\"\")","v":""},{"$f":"IFERROR(INDEX(MyProgram!$A$7:$G$326,SMALL(IF(MyProgram!$K$7:$K$326,ROW($A$1:$A$320)),ROW($A15)),COLUMN(F$1)),\"\")","v":""},{"$f":"IFERROR(INDEX(MyProgram!$A$7:$G$326,SMALL(IF(MyProgram!$K$7:$K$326,ROW($A$1:$A$320)),ROW($A15)),COLUMN(G$1)),\"\")","v":""}]
[null,{"$f":"IFERROR(INDEX(MyProgram!$A$7:$G$326,SMALL(IF(MyProgram!$K$7:$K$326,ROW($A$1:$A$320)),ROW($A16)),COLUMN(B$1)),\"\")","v":""},{"$f":"IFERROR(INDEX(MyProgram!$A$7:$G$326,SMALL(IF(MyProgram!$K$7:$K$326,ROW($A$1:$A$320)),ROW($A16)),COLUMN(C$1)),\"\")","v":""},{"$f":"IFERROR(INDEX(MyProgram!$A$7:$G$326,SMALL(IF(MyProgram!$K$7:$K$326,ROW($A$1:$A$320)),ROW($A16)),COLUMN(D$1)),\"\")","v":""},null,{"$f":"IFERROR(INDEX(MyProgram!$A$7:$G$326,SMALL(IF(MyProgram!$K$7:$K$326,ROW($A$1:$A$320)),ROW($A16)),COLUMN(F$1)),\"\")","v":""}]
[{"$f":"IFERROR(INDEX(MyProgram!$A$7:$G$326,SMALL(IF(MyProgram!$K$7:$K$326,ROW($A$1:$A$320)),ROW($A17)),COLUMN(A$1)),\"\")","v":""},{"$f":"IFERROR(INDEX(MyProgram!$A$7:$G$326,SMALL(IF(MyProgram!$K$7:$K$326,ROW($A$1:$A$320)),ROW($A17)),COLUMN(B$1)),\"\")","v":""},{"$f":"IFERROR(INDEX(MyProgram!$A$7:$G$326,SMALL(IF(MyProgram!$K$7:$K$326,ROW($A$1:$A$320)),ROW($A17)),COLUMN(C$1)),\"\")","v":""},{"$f":"IFERROR(INDEX(MyProgram!$A$7:$G$326,SMALL(IF(MyProgram!$K$7:$K$326,ROW($A$1:$A$320)),ROW($A17)),COLUMN(D$1)),\"\")","v":""},{"$f":"IFERROR(INDEX(MyProgram!$A$7:$G$326,SMALL(IF(MyProgram!$K$7:$K$326,ROW($A$1:$A$320)),ROW($A17)),COLUMN(E$1)),\"\")","v":""},{"$f":"IFERROR(INDEX(MyProgram!$A$7:$G$326,SMALL(IF(MyProgram!$K$7:$K$326,ROW($A$1:$A$320)),ROW($A17)),COLUMN(F$1)),\"\")","v":""},{"$f":"IFERROR(INDEX(MyProgram!$A$7:$G$326,SMALL(IF(MyProgram!$K$7:$K$326,ROW($A$1:$A$320)),ROW($A17)),COLUMN(G$1)),\"\")","v":""}]
[null,{"$f":"IFERROR(INDEX(MyProgram!$A$7:$G$326,SMALL(IF(MyProgram!$K$7:$K$326,ROW($A$1:$A$320)),ROW($A18)),COLUMN(B$1)),\"\")","v":""},{"$f":"IFERROR(INDEX(MyProgram!$A$7:$G$326,SMALL(IF(MyProgram!$K$7:$K$326,ROW($A$1:$A$320)),ROW($A18)),COLUMN(C$1)),\"\")","v":""},{"$f":"IFERROR(INDEX(MyProgram!$A$7:$G$326,SMALL(IF(MyProgram!$K$7:$K$326,ROW($A$1:$A$320)),ROW($A18)),COLUMN(D$1)),\"\")","v":""},null,{"$f":"IFERROR(INDEX(MyProgram!$A$7:$G$326,SMALL(IF(MyProgram!$K$7:$K$326,ROW($A$1:$A$320)),ROW($A18)),COLUMN(F$1)),\"\")","v":""}]
[{"$f":"IFERROR(INDEX(MyProgram!$A$7:$G$326,SMALL(IF(MyProgram!$K$7:$K$326,ROW($A$1:$A$320)),ROW($A19)),COLUMN(A$1)),\"\")","v":""},{"$f":"IFERROR(INDEX(MyProgram!$A$7:$G$326,SMALL(IF(MyProgram!$K$7:$K$326,ROW($A$1:$A$320)),ROW($A19)),COLUMN(B$1)),\"\")","v":""},{"$f":"IFERROR(INDEX(MyProgram!$A$7:$G$326,SMALL(IF(MyProgram!$K$7:$K$326,ROW($A$1:$A$320)),ROW($A19)),COLUMN(C$1)),\"\")","v":""},{"$f":"IFERROR(INDEX(MyProgram!$A$7:$G$326,SMALL(IF(MyProgram!$K$7:$K$326,ROW($A$1:$A$320)),ROW($A19)),COLUMN(D$1)),\"\")","v":""},{"$f":"IFERROR(INDEX(MyProgram!$A$7:$G$326,SMALL(IF(MyProgram!$K$7:$K$326,ROW($A$1:$A$320)),ROW($A19)),COLUMN(E$1)),\"\")","v":""},{"$f":"IFERROR(INDEX(MyProgram!$A$7:$G$326,SMALL(IF(MyProgram!$K$7:$K$326,ROW($A$1:$A$320)),ROW($A19)),COLUMN(F$1)),\"\")","v":""},{"$f":"IFERROR(INDEX(MyProgram!$A$7:$G$326,SMALL(IF(MyProgram!$K$7:$K$326,ROW($A$1:$A$320)),ROW($A19)),COLUMN(G$1)),\"\")","v":""}]
[null,{"$f":"IFERROR(INDEX(MyProgram!$A$7:$G$326,SMALL(IF(MyProgram!$K$7:$K$326,ROW($A$1:$A$320)),ROW($A20)),COLUMN(B$1)),\"\")","v":""},{"$f":"IFERROR(INDEX(MyProgram!$A$7:$G$326,SMALL(IF(MyProgram!$K$7:$K$326,ROW($A$1:$A$320)),ROW($A20)),COLUMN(C$1)),\"\")","v":""},{"$f":"IFERROR(INDEX(MyProgram!$A$7:$G$326,SMALL(IF(MyProgram!$K$7:$K$326,ROW($A$1:$A$320)),ROW($A20)),COLUMN(D$1)),\"\")","v":""},null,{"$f":"IFERROR(INDEX(MyProgram!$A$7:$G$326,SMALL(IF(MyProgram!$K$7:$K$326,ROW($A$1:$A$320)),ROW($A20)),COLUMN(F$1)),\"\")","v":""}]
[{"$f":"IFERROR(INDEX(MyProgram!$A$7:$G$326,SMALL(IF(MyProgram!$K$7:$K$326,ROW($A$1:$A$320)),ROW($A21)),COLUMN(A$1)),\"\")","v":""},{"$f":"IFERROR(INDEX(MyProgram!$A$7:$G$326,SMALL(IF(MyProgram!$K$7:$K$326,ROW($A$1:$A$320)),ROW($A21)),COLUMN(B$1)),\"\")","v":""},{"$f":"IFERROR(INDEX(MyProgram!$A$7:$G$326,SMALL(IF(MyProgram!$K$7:$K$326,ROW($A$1:$A$320)),ROW($A21)),COLUMN(C$1)),\"\")","v":""},{"$f":"IFERROR(INDEX(MyProgram!$A$7:$G$326,SMALL(IF(MyProgram!$K$7:$K$326,ROW($A$1:$A$320)),ROW($A21)),COLUMN(D$1)),\"\")","v":""},{"$f":"IFERROR(INDEX(MyProgram!$A$7:$G$326,SMALL(IF(MyProgram!$K$7:$K$326,ROW($A$1:$A$320)),ROW($A21)),COLUMN(E$1)),\"\")","v":""},{"$f":"IFERROR(INDEX(MyProgram!$A$7:$G$326,SMALL(IF(MyProgram!$K$7:$K$326,ROW($A$1:$A$320)),ROW($A21)),COLUMN(F$1)),\"\")","v":""},{"$f":"IFERROR(INDEX(MyProgram!$A$7:$G$326,SMALL(IF(MyProgram!$K$7:$K$326,ROW($A$1:$A$320)),ROW($A21)),COLUMN(G$1)),\"\")","v":""}]
[null,{"$f":"IFERROR(INDEX(MyProgram!$A$7:$G$326,SMALL(IF(MyProgram!$K$7:$K$326,ROW($A$1:$A$320)),ROW($A22)),COLUMN(B$1)),\"\")","v":""},{"$f":"IFERROR(INDEX(MyProgram!$A$7:$G$326,SMALL(IF(MyProgram!$K$7:$K$326,ROW($A$1:$A$320)),ROW($A22)),COLUMN(C$1)),\"\")","v":""},{"$f":"IFERROR(INDEX(MyProgram!$A$7:$G$326,SMALL(IF(MyProgram!$K$7:$K$326,ROW($A$1:$A$320)),ROW($A22)),COLUMN(D$1)),\"\")","v":""},null,{"$f":"IFERROR(INDEX(MyProgram!$A$7:$G$326,SMALL(IF(MyProgram!$K$7:$K$326,ROW($A$1:$A$320)),ROW($A22)),COLUMN(F$1)),\"\")","v":""}]
[{"$f":"IFERROR(INDEX(MyProgram!$A$7:$G$326,SMALL(IF(MyProgram!$K$7:$K$326,ROW($A$1:$A$320)),ROW($A23)),COLUMN(A$1)),\"\")","v":""},{"$f":"IFERROR(INDEX(MyProgram!$A$7:$G$326,SMALL(IF(MyProgram!$K$7:$K$326,ROW($A$1:$A$320)),ROW($A23)),COLUMN(B$1)),\"\")","v":""},{"$f":"IFERROR(INDEX(MyProgram!$A$7:$G$326,SMALL(IF(MyProgram!$K$7:$K$326,ROW($A$1:$A$320)),ROW($A23)),COLUMN(C$1)),\"\")","v":""},{"$f":"IFERROR(INDEX(MyProgram!$A$7:$G$326,SMALL(IF(MyProgram!$K$7:$K$326,ROW($A$1:$A$320)),ROW($A23)),COLUMN(D$1)),\"\")","v":""},{"$f":"IFERROR(INDEX(MyProgram!$A$7:$G$326,SMALL(IF(MyProgram!$K$7:$K$326,ROW($A$1:$A$320)),ROW($A23)),COLUMN(E$1)),\"\")","v":""},{"$f":"IFERROR(INDEX(MyProgram!$A$7:$G$326,SMALL(IF(MyProgram!$K$7:$K$326,ROW($A$1:$A$320)),ROW($A23)),COLUMN(F$1)),\"\")","v":""},{"$f":"IFERROR(INDEX(MyProgram!$A$7:$G$326,SMALL(IF(MyProgram!$K$7:$K$326,ROW($A$1:$A$320)),ROW($A23)),COLUMN(G$1)),\"\")","v":""}]
[null,{"$f":"IFERROR(INDEX(MyProgram!$A$7:$G$326,SMALL(IF(MyProgram!$K$7:$K$326,ROW($A$1:$A$320)),ROW($A24)),COLUMN(B$1)),\"\")","v":""},{"$f":"IFERROR(INDEX(MyProgram!$A$7:$G$326,SMALL(IF(MyProgram!$K$7:$K$326,ROW($A$1:$A$320)),ROW($A24)),COLUMN(C$1)),\"\")","v":""},{"$f":"IFERROR(INDEX(MyProgram!$A$7:$G$326,SMALL(IF(MyProgram!$K$7:$K$326,ROW($A$1:$A$320)),ROW($A24)),COLUMN(D$1)),\"\")","v":""},null,{"$f":"IFERROR(INDEX(MyProgram!$A$7:$G$326,SMALL(IF(MyProgram!$K$7:$K$326,ROW($A$1:$A$320)),ROW($A24)),COLUMN(F$1)),\"\")","v":""}]
[{"$f":"IFERROR(INDEX(MyProgram!$A$7:$G$326,SMALL(IF(MyProgram!$K$7:$K$326,ROW($A$1:$A$320)),ROW($A25)),COLUMN(A$1)),\"\")","v":""},{"$f":"IFERROR(INDEX(MyProgram!$A$7:$G$326,SMALL(IF(MyProgram!$K$7:$K$326,ROW($A$1:$A$320)),ROW($A25)),COLUMN(B$1)),\"\")","v":""},{"$f":"IFERROR(INDEX(MyProgram!$A$7:$G$326,SMALL(IF(MyProgram!$K$7:$K$326,ROW($A$1:$A$320)),ROW($A25)),COLUMN(C$1)),\"\")","v":""},{"$f":"IFERROR(INDEX(MyProgram!$A$7:$G$326,SMALL(IF(MyProgram!$K$7:$K$326,ROW($A$1:$A$320)),ROW($A25)),COLUMN(D$1)),\"\")","v":""},{"$f":"IFERROR(INDEX(MyProgram!$A$7:$G$326,SMALL(IF(MyProgram!$K$7:$K$326,ROW($A$1:$A$320)),ROW($A25)),COLUMN(E$1)),\"\")","v":""},{"$f":"IFERROR(INDEX(MyProgram!$A$7:$G$326,SMALL(IF(MyProgram!$K$7:$K$326,ROW($A$1:$A$320)),ROW($A25)),COLUMN(F$1)),\"\")","v":""},{"$f":"IFERROR(INDEX(MyProgram!$A$7:$G$326,SMALL(IF(MyProgram!$K$7:$K$326,ROW($A$1:$A$320)),ROW($A25)),COLUMN(G$1)),\"\")","v":""}]
[null,{"$f":"IFERROR(INDEX(MyProgram!$A$7:$G$326,SMALL(IF(MyProgram!$K$7:$K$326,ROW($A$1:$A$320)),ROW($A26)),COLUMN(B$1)),\"\")","v":""},{"$f":"IFERROR(INDEX(MyProgram!$A$7:$G$326,SMALL(IF(MyProgram!$K$7:$K$326,ROW($A$1:$A$320)),ROW($A26)),COLUMN(C$1)),\"\")","v":""},{"$f":"IFERROR(INDEX(MyProgram!$A$7:$G$326,SMALL(IF(MyProgram!$K$7:$K$326,ROW($A$1:$A$320)),ROW($A26)),COLUMN(D$1)),\"\")","v":""},null,{"$f":"IFERROR(INDEX(MyProgram!$A$7:$G$326,SMALL(IF(MyProgram!$K$7:$K$326,ROW($A$1:$A$320)),ROW($A26)),COLUMN(F$1)),\"\")","v":""}]
[{"$f":"IFERROR(INDEX(MyProgram!$A$7:$G$326,SMALL(IF(MyProgram!$K$7:$K$326,ROW($A$1:$A$320)),ROW($A27)),COLUMN(A$1)),\"\")","v":""},{"$f":"IFERROR(INDEX(MyProgram!$A$7:$G$326,SMALL(IF(MyProgram!$K$7:$K$326,ROW($A$1:$A$320)),ROW($A27)),COLUMN(B$1)),\"\")","v":""},{"$f":"IFERROR(INDEX(MyProgram!$A$7:$G$326,SMALL(IF(MyProgram!$K$7:$K$326,ROW($A$1:$A$320)),ROW($A27)),COLUMN(C$1)),\"\")","v":""},{"$f":"IFERROR(INDEX(MyProgram!$A$7:$G$326,SMALL(IF(MyProgram!$K$7:$K$326,ROW($A$1:$A$320)),ROW($A27)),COLUMN(D$1)),\"\")","v":""},{"$f":"IFERROR(INDEX(MyProgram!$A$7:$G$326,SMALL(IF(MyProgram!$K$7:$K$326,ROW($A$1:$A$320)),ROW($A27)),COLUMN(E$1)),\"\")","v":""},{"$f":"IFERROR(INDEX(MyProgram!$A$7:$G$326,SMALL(IF(MyProgram!$K$7:$K$326,ROW($A$1:$A$320)),ROW($A27)),COLUMN(F$1)),\"\")","v":""},{"$f":"IFERROR(INDEX(MyProgram!$A$7:$G$326,SMALL(IF(MyProgram!$K$7:$K$326,ROW($A$1:$A$320)),ROW($A27)),COLUMN(G$1)),\"\")","v":""}]
[null,{"$f":"IFERROR(INDEX(MyProgram!$A$7:$G$326,SMALL(IF(MyProgram!$K$7:$K$326,ROW($A$1:$A$320)),ROW($A28)),COLUMN(B$1)),\"\")","v":""},{"$f":"IFERROR(INDEX(MyProgram!$A$7:$G$326,SMALL(IF(MyProgram!$K$7:$K$326,ROW($A$1:$A$320)),ROW($A28)),COLUMN(C$1)),\"\")","v":""},{"$f":"IFERROR(INDEX(MyProgram!$A$7:$G$326,SMALL(IF(MyProgram!$K$7:$K$326,ROW($A$1:$A$320)),ROW($A28)),COLUMN(D$1)),\"\")","v":""},null,{"$f":"IFERROR(INDEX(MyProgram!$A$7:$G$326,SMALL(IF(MyProgram!$K$7:$K$326,ROW($A$1:$A$320)),ROW($A28)),COLUMN(F$1)),\"\")","v":""}]
[{"$f":"IFERROR(INDEX(MyProgram!$A$7:$G$326,SMALL(IF(MyProgram!$K$7:$K$326,ROW($A$1:$A$320)),ROW($A29)),COLUMN(A$1)),\"\")","v":""},{"$f":"IFERROR(INDEX(MyProgram!$A$7:$G$326,SMALL(IF(MyProgram!$K$7:$K$326,ROW($A$1:$A$320)),ROW($A29)),COLUMN(B$1)),\"\")","v":""},{"$f":"IFERROR(INDEX(MyProgram!$A$7:$G$326,SMALL(IF(MyProgram!$K$7:$K$326,ROW($A$1:$A$320)),ROW($A29)),COLUMN(C$1)),\"\")","v":""},{"$f":"IFERROR(INDEX(MyProgram!$A$7:$G$326,SMALL(IF(MyProgram!$K$7:$K$326,ROW($A$1:$A$320)),ROW($A29)),COLUMN(D$1)),\"\")","v":""},{"$f":"IFERROR(INDEX(MyProgram!$A$7:$G$326,SMALL(IF(MyProgram!$K$7:$K$326,ROW($A$1:$A$320)),ROW($A29)),COLUMN(E$1)),\"\")","v":""},{"$f":"IFERROR(INDEX(MyProgram!$A$7:$G$326,SMALL(IF(MyProgram!$K$7:$K$326,ROW($A$1:$A$320)),ROW($A29)),COLUMN(F$1)),\"\")","v":""},{"$f":"IFERROR(INDEX(MyProgram!$A$7:$G$326,SMALL(IF(MyProgram!$K$7:$K$326,ROW($A$1:$A$320)),ROW($A29)),COLUMN(G$1)),\"\")","v":""}]
[null,{"$f":"IFERROR(INDEX(MyProgram!$A$7:$G$326,SMALL(IF(MyProgram!$K$7:$K$326,ROW($A$1:$A$320)),ROW($A30)),COLUMN(B$1)),\"\")","v":""},{"$f":"IFERROR(INDEX(MyProgram!$A$7:$G$326,SMALL(IF(MyProgram!$K$7:$K$326,ROW($A$1:$A$320)),ROW($A30)),COLUMN(C$1)),\"\")","v":""},{"$f":"IFERROR(INDEX(MyProgram!$A$7:$G$326,SMALL(IF(MyProgram!$K$7:$K$326,ROW($A$1:$A$320)),ROW($A30)),COLUMN(D$1)),\"\")","v":""},null,{"$f":"IFERROR(INDEX(MyProgram!$A$7:$G$326,SMALL(IF(MyProgram!$K$7:$K$326,ROW($A$1:$A$320)),ROW($A30)),COLUMN(F$1)),\"\")","v":""}]
[{"$f":"IFERROR(INDEX(MyProgram!$A$7:$G$326,SMALL(IF(MyProgram!$K$7:$K$326,ROW($A$1:$A$320)),ROW($A31)),COLUMN(A$1)),\"\")","v":""},{"$f":"IFERROR(INDEX(MyProgram!$A$7:$G$326,SMALL(IF(MyProgram!$K$7:$K$326,ROW($A$1:$A$320)),ROW($A31)),COLUMN(B$1)),\"\")","v":""},{"$f":"IFERROR(INDEX(MyProgram!$A$7:$G$326,SMALL(IF(MyProgram!$K$7:$K$326,ROW($A$1:$A$320)),ROW($A31)),COLUMN(C$1)),\"\")","v":""},{"$f":"IFERROR(INDEX(MyProgram!$A$7:$G$326,SMALL(IF(MyProgram!$K$7:$K$326,ROW($A$1:$A$320)),ROW($A31)),COLUMN(D$1)),\"\")","v":""},{"$f":"IFERROR(INDEX(MyProgram!$A$7:$G$326,SMALL(IF(MyProgram!$K$7:$K$326,ROW($A$1:$A$320)),ROW($A31)),COLUMN(E$1)),\"\")","v":""},{"$f":"IFERROR(INDEX(MyProgram!$A$7:$G$326,SMALL(IF(MyProgram!$K$7:$K$326,ROW($A$1:$A$320)),ROW($A31)),COLUMN(F$1)),\"\")","v":""},{"$f":"IFERROR(INDEX(MyProgram!$A$7:$G$326,SMALL(IF(MyProgram!$K$7:$K$326,ROW($A$1:$A$320)),ROW($A31)),COLUMN(G$1)),\"\")","v":""}]
[null,{"$f":"IFERROR(INDEX(MyProgram!$A$7:$G$326,SMALL(IF(MyProgram!$K$7:$K$326,ROW($A$1:$A$320)),ROW($A32)),COLUMN(B$1)),\"\")","v":""},{"$f":"IFERROR(INDEX(MyProgram!$A$7:$G$326,SMALL(IF(MyProgram!$K$7:$K$326,ROW($A$1:$A$320)),ROW($A32)),COLUMN(C$1)),\"\")","v":""},{"$f":"IFERROR(INDEX(MyProgram!$A$7:$G$326,SMALL(IF(MyProgram!$K$7:$K$326,ROW($A$1:$A$320)),ROW($A32)),COLUMN(D$1)),\"\")","v":""},null,{"$f":"IFERROR(INDEX(MyProgram!$A$7:$G$326,SMALL(IF(MyProgram!$K$7:$K$326,ROW($A$1:$A$320)),ROW($A32)),COLUMN(F$1)),\"\")","v":""}]
[{"$f":"IFERROR(INDEX(MyProgram!$A$7:$G$326,SMALL(IF(MyProgram!$K$7:$K$326,ROW($A$1:$A$320)),ROW($A33)),COLUMN(A$1)),\"\")","v":""},{"$f":"IFERROR(INDEX(MyProgram!$A$7:$G$326,SMALL(IF(MyProgram!$K$7:$K$326,ROW($A$1:$A$320)),ROW($A33)),COLUMN(B$1)),\"\")","v":""},{"$f":"IFERROR(INDEX(MyProgram!$A$7:$G$326,SMALL(IF(MyProgram!$K$7:$K$326,ROW($A$1:$A$320)),ROW($A33)),COLUMN(C$1)),\"\")","v":""},{"$f":"IFERROR(INDEX(MyProgram!$A$7:$G$326,SMALL(IF(MyProgram!$K$7:$K$326,ROW($A$1:$A$320)),ROW($A33)),COLUMN(D$1)),\"\")","v":""},{"$f":"IFERROR(INDEX(MyProgram!$A$7:$G$326,SMALL(IF(MyProgram!$K$7:$K$326,ROW($A$1:$A$320)),ROW($A33)),COLUMN(E$1)),\"\")","v":""},{"$f":"IFERROR(INDEX(MyProgram!$A$7:$G$326,SMALL(IF(MyProgram!$K$7:$K$326,ROW($A$1:$A$320)),ROW($A33)),COLUMN(F$1)),\"\")","v":""},{"$f":"IFERROR(INDEX(MyProgram!$A$7:$G$326,SMALL(IF(MyProgram!$K$7:$K$326,ROW($A$1:$A$320)),ROW($A33)),COLUMN(G$1)),\"\")","v":""}]
[null,{"$f":"IFERROR(INDEX(MyProgram!$A$7:$G$326,SMALL(IF(MyProgram!$K$7:$K$326,ROW($A$1:$A$320)),ROW($A34)),COLUMN(B$1)),\"\")","v":""},{"$f":"IFERROR(INDEX(MyProgram!$A$7:$G$326,SMALL(IF(MyProgram!$K$7:$K$326,ROW($A$1:$A$320)),ROW($A34)),COLUMN(C$1)),\"\")","v":""},{"$f":"IFERROR(INDEX(MyProgram!$A$7:$G$326,SMALL(IF(MyProgram!$K$7:$K$326,ROW($A$1:$A$320)),ROW($A34)),COLUMN(D$1)),\"\")","v":""},null,{"$f":"IFERROR(INDEX(MyProgram!$A$7:$G$326,SMALL(IF(MyProgram!$K$7:$K$326,ROW($A$1:$A$320)),ROW($A34)),COLUMN(F$1)),\"\")","v":""}]
[{"$f":"IFERROR(INDEX(MyProgram!$A$7:$G$326,SMALL(IF(MyProgram!$K$7:$K$326,ROW($A$1:$A$320)),ROW($A35)),COLUMN(A$1)),\"\")","v":""},{"$f":"IFERROR(INDEX(MyProgram!$A$7:$G$326,SMALL(IF(MyProgram!$K$7:$K$326,ROW($A$1:$A$320)),ROW($A35)),COLUMN(B$1)),\"\")","v":""},{"$f":"IFERROR(INDEX(MyProgram!$A$7:$G$326,SMALL(IF(MyProgram!$K$7:$K$326,ROW($A$1:$A$320)),ROW($A35)),COLUMN(C$1)),\"\")","v":""},{"$f":"IFERROR(INDEX(MyProgram!$A$7:$G$326,SMALL(IF(MyProgram!$K$7:$K$326,ROW($A$1:$A$320)),ROW($A35)),COLUMN(D$1)),\"\")","v":""},{"$f":"IFERROR(INDEX(MyProgram!$A$7:$G$326,SMALL(IF(MyProgram!$K$7:$K$326,ROW($A$1:$A$320)),ROW($A35)),COLUMN(E$1)),\"\")","v":""},{"$f":"IFERROR(INDEX(MyProgram!$A$7:$G$326,SMALL(IF(MyProgram!$K$7:$K$326,ROW($A$1:$A$320)),ROW($A35)),COLUMN(F$1)),\"\")","v":""},{"$f":"IFERROR(INDEX(MyProgram!$A$7:$G$326,SMALL(IF(MyProgram!$K$7:$K$326,ROW($A$1:$A$320)),ROW($A35)),COLUMN(G$1)),\"\")","v":""}]
[null,{"$f":"IFERROR(INDEX(MyProgram!$A$7:$G$326,SMALL(IF(MyProgram!$K$7:$K$326,ROW($A$1:$A$320)),ROW($A36)),COLUMN(B$1)),\"\")","v":""},{"$f":"IFERROR(INDEX(MyProgram!$A$7:$G$326,SMALL(IF(MyProgram!$K$7:$K$326,ROW($A$1:$A$320)),ROW($A36)),COLUMN(C$1)),\"\")","v":""},{"$f":"IFERROR(INDEX(MyProgram!$A$7:$G$326,SMALL(IF(MyProgram!$K$7:$K$326,ROW($A$1:$A$320)),ROW($A36)),COLUMN(D$1)),\"\")","v":""},null,{"$f":"IFERROR(INDEX(MyProgram!$A$7:$G$326,SMALL(IF(MyProgram!$K$7:$K$326,ROW($A$1:$A$320)),ROW($A36)),COLUMN(F$1)),\"\")","v":""}]
[{"$f":"IFERROR(INDEX(MyProgram!$A$7:$G$326,SMALL(IF(MyProgram!$K$7:$K$326,ROW($A$1:$A$320)),ROW($A37)),COLUMN(A$1)),\"\")","v":""},{"$f":"IFERROR(INDEX(MyProgram!$A$7:$G$326,SMALL(IF(MyProgram!$K$7:$K$326,ROW($A$1:$A$320)),ROW($A37)),COLUMN(B$1)),\"\")","v":""},{"$f":"IFERROR(INDEX(MyProgram!$A$7:$G$326,SMALL(IF(MyProgram!$K$7:$K$326,ROW($A$1:$A$320)),ROW($A37)),COLUMN(C$1)),\"\")","v":""},{"$f":"IFERROR(INDEX(MyProgram!$A$7:$G$326,SMALL(IF(MyProgram!$K$7:$K$326,ROW($A$1:$A$320)),ROW($A37)),COLUMN(D$1)),\"\")","v":""},{"$f":"IFERROR(INDEX(MyProgram!$A$7:$G$326,SMALL(IF(MyProgram!$K$7:$K$326,ROW($A$1:$A$320)),ROW($A37)),COLUMN(E$1)),\"\")","v":""},{"$f":"IFERROR(INDEX(MyProgram!$A$7:$G$326,SMALL(IF(MyProgram!$K$7:$K$326,ROW($A$1:$A$320)),ROW($A37)),COLUMN(F$1)),\"\")","v":""},{"$f":"IFERROR(INDEX(MyProgram!$A$7:$G$326,SMALL(IF(MyProgram!$K$7:$K$326,ROW($A$1:$A$320)),ROW($A37)),COLUMN(G$1)),\"\")","v":""}]
[null,{"$f":"IFERROR(INDEX(MyProgram!$A$7:$G$326,SMALL(IF(MyProgram!$K$7:$K$326,ROW($A$1:$A$320)),ROW($A38)),COLUMN(B$1)),\"\")","v":""},{"$f":"IFERROR(INDEX(MyProgram!$A$7:$G$326,SMALL(IF(MyProgram!$K$7:$K$326,ROW($A$1:$A$320)),ROW($A38)),COLUMN(C$1)),\"\")","v":""},{"$f":"IFERROR(INDEX(MyProgram!$A$7:$G$326,SMALL(IF(MyProgram!$K$7:$K$326,ROW($A$1:$A$320)),ROW($A38)),COLUMN(D$1)),\"\")","v":""},null,{"$f":"IFERROR(INDEX(MyProgram!$A$7:$G$326,SMALL(IF(MyProgram!$K$7:$K$326,ROW($A$1:$A$320)),ROW($A38)),COLUMN(F$1)),\"\")","v":""}]
[{"$f":"IFERROR(INDEX(MyProgram!$A$7:$G$326,SMALL(IF(MyProgram!$K$7:$K$326,ROW($A$1:$A$320)),ROW($A39)),COLUMN(A$1)),\"\")","v":""},{"$f":"IFERROR(INDEX(MyProgram!$A$7:$G$326,SMALL(IF(MyProgram!$K$7:$K$326,ROW($A$1:$A$320)),ROW($A39)),COLUMN(B$1)),\"\")","v":""},{"$f":"IFERROR(INDEX(MyProgram!$A$7:$G$326,SMALL(IF(MyProgram!$K$7:$K$326,ROW($A$1:$A$320)),ROW($A39)),COLUMN(C$1)),\"\")","v":""},{"$f":"IFERROR(INDEX(MyProgram!$A$7:$G$326,SMALL(IF(MyProgram!$K$7:$K$326,ROW($A$1:$A$320)),ROW($A39)),COLUMN(D$1)),\"\")","v":""},{"$f":"IFERROR(INDEX(MyProgram!$A$7:$G$326,SMALL(IF(MyProgram!$K$7:$K$326,ROW($A$1:$A$320)),ROW($A39)),COLUMN(E$1)),\"\")","v":""},{"$f":"IFERROR(INDEX(MyProgram!$A$7:$G$326,SMALL(IF(MyProgram!$K$7:$K$326,ROW($A$1:$A$320)),ROW($A39)),COLUMN(F$1)),\"\")","v":""},{"$f":"IFERROR(INDEX(MyProgram!$A$7:$G$326,SMALL(IF(MyProgram!$K$7:$K$326,ROW($A$1:$A$320)),ROW($A39)),COLUMN(G$1)),\"\")","v":""}]
[null,{"$f":"IFERROR(INDEX(MyProgram!$A$7:$G$326,SMALL(IF(MyProgram!$K$7:$K$326,ROW($A$1:$A$320)),ROW($A40)),COLUMN(B$1)),\"\")","v":""},{"$f":"IFERROR(INDEX(MyProgram!$A$7:$G$326,SMALL(IF(MyProgram!$K$7:$K$326,ROW($A$1:$A$320)),ROW($A40)),COLUMN(C$1)),\"\")","v":""},{"$f":"IFERROR(INDEX(MyProgram!$A$7:$G$326,SMALL(IF(MyProgram!$K$7:$K$326,ROW($A$1:$A$320)),ROW($A40)),COLUMN(D$1)),\"\")","v":""},null,{"$f":"IFERROR(INDEX(MyProgram!$A$7:$G$326,SMALL(IF(MyProgram!$K$7:$K$326,ROW($A$1:$A$320)),ROW($A40)),COLUMN(F$1)),\"\")","v":""}]
[{"$f":"IFERROR(INDEX(MyProgram!$A$7:$G$326,SMALL(IF(MyProgram!$K$7:$K$326,ROW($A$1:$A$320)),ROW($A41)),COLUMN(A$1)),\"\")","v":""},{"$f":"IFERROR(INDEX(MyProgram!$A$7:$G$326,SMALL(IF(MyProgram!$K$7:$K$326,ROW($A$1:$A$320)),ROW($A41)),COLUMN(B$1)),\"\")","v":""},{"$f":"IFERROR(INDEX(MyProgram!$A$7:$G$326,SMALL(IF(MyProgram!$K$7:$K$326,ROW($A$1:$A$320)),ROW($A41)),COLUMN(C$1)),\"\")","v":""},{"$f":"IFERROR(INDEX(MyProgram!$A$7:$G$326,SMALL(IF(MyProgram!$K$7:$K$326,ROW($A$1:$A$320)),ROW($A41)),COLUMN(D$1)),\"\")","v":""},{"$f":"IFERROR(INDEX(MyProgram!$A$7:$G$326,SMALL(IF(MyProgram!$K$7:$K$326,ROW($A$1:$A$320)),ROW($A41)),COLUMN(E$1)),\"\")","v":""},{"$f":"IFERROR(INDEX(MyProgram!$A$7:$G$326,SMALL(IF(MyProgram!$K$7:$K$326,ROW($A$1:$A$320)),ROW($A41)),COLUMN(F$1)),\"\")","v":""},{"$f":"IFERROR(INDEX(MyProgram!$A$7:$G$326,SMALL(IF(MyProgram!$K$7:$K$326,ROW($A$1:$A$320)),ROW($A41)),COLUMN(G$1)),\"\")","v":""}]
[null,{"$f":"IFERROR(INDEX(MyProgram!$A$7:$G$326,SMALL(IF(MyProgram!$K$7:$K$326,ROW($A$1:$A$320)),ROW($A42)),COLUMN(B$1)),\"\")","v":""},{"$f":"IFERROR(INDEX(MyProgram!$A$7:$G$326,SMALL(IF(MyProgram!$K$7:$K$326,ROW($A$1:$A$320)),ROW($A42)),COLUMN(C$1)),\"\")","v":""},{"$f":"IFERROR(INDEX(MyProgram!$A$7:$G$326,SMALL(IF(MyProgram!$K$7:$K$326,ROW($A$1:$A$320)),ROW($A42)),COLUMN(D$1)),\"\")","v":""},null,{"$f":"IFERROR(INDEX(MyProgram!$A$7:$G$326,SMALL(IF(MyProgram!$K$7:$K$326,ROW($A$1:$A$320)),ROW($A42)),COLUMN(F$1)),\"\")","v":""}]
[{"$f":"IFERROR(INDEX(MyProgram!$A$7:$G$326,SMALL(IF(MyProgram!$K$7:$K$326,ROW($A$1:$A$320)),ROW($A43)),COLUMN(A$1)),\"\")","v":""},{"$f":"IFERROR(INDEX(MyProgram!$A$7:$G$326,SMALL(IF(MyProgram!$K$7:$K$326,ROW($A$1:$A$320)),ROW($A43)),COLUMN(B$1)),\"\")","v":""},{"$f":"IFERROR(INDEX(MyProgram!$A$7:$G$326,SMALL(IF(MyProgram!$K$7:$K$326,ROW($A$1:$A$320)),ROW($A43)),COLUMN(C$1)),\"\")","v":""},{"$f":"IFERROR(INDEX(MyProgram!$A$7:$G$326,SMALL(IF(MyProgram!$K$7:$K$326,ROW($A$1:$A$320)),ROW($A43)),COLUMN(D$1)),\"\")","v":""},{"$f":"IFERROR(INDEX(MyProgram!$A$7:$G$326,SMALL(IF(MyProgram!$K$7:$K$326,ROW($A$1:$A$320)),ROW($A43)),COLUMN(E$1)),\"\")","v":""},{"$f":"IFERROR(INDEX(MyProgram!$A$7:$G$326,SMALL(IF(MyProgram!$K$7:$K$326,ROW($A$1:$A$320)),ROW($A43)),COLUMN(F$1)),\"\")","v":""},{"$f":"IFERROR(INDEX(MyProgram!$A$7:$G$326,SMALL(IF(MyProgram!$K$7:$K$326,ROW($A$1:$A$320)),ROW($A43)),COLUMN(G$1)),\"\")","v":""}]
[null,{"$f":"IFERROR(INDEX(MyProgram!$A$7:$G$326,SMALL(IF(MyProgram!$K$7:$K$326,ROW($A$1:$A$320)),ROW($A44)),COLUMN(B$1)),\"\")","v":""},{"$f":"IFERROR(INDEX(MyProgram!$A$7:$G$326,SMALL(IF(MyProgram!$K$7:$K$326,ROW($A$1:$A$320)),ROW($A44)),COLUMN(C$1)),\"\")","v":""},{"$f":"IFERROR(INDEX(MyProgram!$A$7:$G$326,SMALL(IF(MyProgram!$K$7:$K$326,ROW($A$1:$A$320)),ROW($A44)),COLUMN(D$1)),\"\")","v":""},null,{"$f":"IFERROR(INDEX(MyProgram!$A$7:$G$326,SMALL(IF(MyProgram!$K$7:$K$326,ROW($A$1:$A$320)),ROW($A44)),COLUMN(F$1)),\"\")","v":""}]
[{"$f":"IFERROR(INDEX(MyProgram!$A$7:$G$326,SMALL(IF(MyProgram!$K$7:$K$326,ROW($A$1:$A$320)),ROW($A45)),COLUMN(A$1)),\"\")","v":""},{"$f":"IFERROR(INDEX(MyProgram!$A$7:$G$326,SMALL(IF(MyProgram!$K$7:$K$326,ROW($A$1:$A$320)),ROW($A45)),COLUMN(B$1)),\"\")","v":""},{"$f":"IFERROR(INDEX(MyProgram!$A$7:$G$326,SMALL(IF(MyProgram!$K$7:$K$326,ROW($A$1:$A$320)),ROW($A45)),COLUMN(C$1)),\"\")","v":""},{"$f":"IFERROR(INDEX(MyProgram!$A$7:$G$326,SMALL(IF(MyProgram!$K$7:$K$326,ROW($A$1:$A$320)),ROW($A45)),COLUMN(D$1)),\"\")","v":""},{"$f":"IFERROR(INDEX(MyProgram!$A$7:$G$326,SMALL(IF(MyProgram!$K$7:$K$326,ROW($A$1:$A$320)),ROW($A45)),COLUMN(E$1)),\"\")","v":""},{"$f":"IFERROR(INDEX(MyProgram!$A$7:$G$326,SMALL(IF(MyProgram!$K$7:$K$326,ROW($A$1:$A$320)),ROW($A45)),COLUMN(F$1)),\"\")","v":""},{"$f":"IFERROR(INDEX(MyProgram!$A$7:$G$326,SMALL(IF(MyProgram!$K$7:$K$326,ROW($A$1:$A$320)),ROW($A45)),COLUMN(G$1)),\"\")","v":""}]
[null,{"$f":"IFERROR(INDEX(MyProgram!$A$7:$G$326,SMALL(IF(MyProgram!$K$7:$K$326,ROW($A$1:$A$320)),ROW($A46)),COLUMN(B$1)),\"\")","v":""},{"$f":"IFERROR(INDEX(MyProgram!$A$7:$G$326,SMALL(IF(MyProgram!$K$7:$K$326,ROW($A$1:$A$320)),ROW($A46)),COLUMN(C$1)),\"\")","v":""},{"$f":"IFERROR(INDEX(MyProgram!$A$7:$G$326,SMALL(IF(MyProgram!$K$7:$K$326,ROW($A$1:$A$320)),ROW($A46)),COLUMN(D$1)),\"\")","v":""},null,{"$f":"IFERROR(INDEX(MyProgram!$A$7:$G$326,SMALL(IF(MyProgram!$K$7:$K$326,ROW($A$1:$A$320)),ROW($A46)),COLUMN(F$1)),\"\")","v":""}]
[{"$f":"IFERROR(INDEX(MyProgram!$A$7:$G$326,SMALL(IF(MyProgram!$K$7:$K$326,ROW($A$1:$A$320)),ROW($A47)),COLUMN(A$1)),\"\")","v":""},{"$f":"IFERROR(INDEX(MyProgram!$A$7:$G$326,SMALL(IF(MyProgram!$K$7:$K$326,ROW($A$1:$A$320)),ROW($A47)),COLUMN(B$1)),\"\")","v":""},{"$f":"IFERROR(INDEX(MyProgram!$A$7:$G$326,SMALL(IF(MyProgram!$K$7:$K$326,ROW($A$1:$A$320)),ROW($A47)),COLUMN(C$1)),\"\")","v":""},{"$f":"IFERROR(INDEX(MyProgram!$A$7:$G$326,SMALL(IF(MyProgram!$K$7:$K$326,ROW($A$1:$A$320)),ROW($A47)),COLUMN(D$1)),\"\")","v":""},{"$f":"IFERROR(INDEX(MyProgram!$A$7:$G$326,SMALL(IF(MyProgram!$K$7:$K$326,ROW($A$1:$A$320)),ROW($A47)),COLUMN(E$1)),\"\")","v":""},{"$f":"IFERROR(INDEX(MyProgram!$A$7:$G$326,SMALL(IF(MyProgram!$K$7:$K$326,ROW($A$1:$A$320)),ROW($A47)),COLUMN(F$1)),\"\")","v":""},{"$f":"IFERROR(INDEX(MyProgram!$A$7:$G$326,SMALL(IF(MyProgram!$K$7:$K$326,ROW($A$1:$A$320)),ROW($A47)),COLUMN(G$1)),\"\")","v":""}]
[null,{"$f":"IFERROR(INDEX(MyProgram!$A$7:$G$326,SMALL(IF(MyProgram!$K$7:$K$326,ROW($A$1:$A$320)),ROW($A48)),COLUMN(B$1)),\"\")","v":""},{"$f":"IFERROR(INDEX(MyProgram!$A$7:$G$326,SMALL(IF(MyProgram!$K$7:$K$326,ROW($A$1:$A$320)),ROW($A48)),COLUMN(C$1)),\"\")","v":""},{"$f":"IFERROR(INDEX(MyProgram!$A$7:$G$326,SMALL(IF(MyProgram!$K$7:$K$326,ROW($A$1:$A$320)),ROW($A48)),COLUMN(D$1)),\"\")","v":""},null,{"$f":"IFERROR(INDEX(MyProgram!$A$7:$G$326,SMALL(IF(MyProgram!$K$7:$K$326,ROW($A$1:$A$320)),ROW($A48)),COLUMN(F$1)),\"\")","v":""}]
[{"$f":"IFERROR(INDEX(MyProgram!$A$7:$G$326,SMALL(IF(MyProgram!$K$7:$K$326,ROW($A$1:$A$320)),ROW($A49)),COLUMN(A$1)),\"\")","v":""},{"$f":"IFERROR(INDEX(MyProgram!$A$7:$G$326,SMALL(IF(MyProgram!$K$7:$K$326,ROW($A$1:$A$320)),ROW($A49)),COLUMN(B$1)),\"\")","v":""},{"$f":"IFERROR(INDEX(MyProgram!$A$7:$G$326,SMALL(IF(MyProgram!$K$7:$K$326,ROW($A$1:$A$320)),ROW($A49)),COLUMN(C$1)),\"\")","v":""},{"$f":"IFERROR(INDEX(MyProgram!$A$7:$G$326,SMALL(IF(MyProgram!$K$7:$K$326,ROW($A$1:$A$320)),ROW($A49)),COLUMN(D$1)),\"\")","v":""},{"$f":"IFERROR(INDEX(MyProgram!$A$7:$G$326,SMALL(IF(MyProgram!$K$7:$K$326,ROW($A$1:$A$320)),ROW($A49)),COLUMN(E$1)),\"\")","v":""},{"$f":"IFERROR(INDEX(MyProgram!$A$7:$G$326,SMALL(IF(MyProgram!$K$7:$K$326,ROW($A$1:$A$320)),ROW($A49)),COLUMN(F$1)),\"\")","v":""},{"$f":"IFERROR(INDEX(MyProgram!$A$7:$G$326,SMALL(IF(MyProgram!$K$7:$K$326,ROW($A$1:$A$320)),ROW($A49)),COLUMN(G$1)),\"\")","v":""}]
[null,{"$f":"IFERROR(INDEX(MyProgram!$A$7:$G$326,SMALL(IF(MyProgram!$K$7:$K$326,ROW($A$1:$A$320)),ROW($A50)),COLUMN(B$1)),\"\")","v":""},{"$f":"IFERROR(INDEX(MyProgram!$A$7:$G$326,SMALL(IF(MyProgram!$K$7:$K$326,ROW($A$1:$A$320)),ROW($A50)),COLUMN(C$1)),\"\")","v":""},{"$f":"IFERROR(INDEX(MyProgram!$A$7:$G$326,SMALL(IF(MyProgram!$K$7:$K$326,ROW($A$1:$A$320)),ROW($A50)),COLUMN(D$1)),\"\")","v":""},null,{"$f":"IFERROR(INDEX(MyProgram!$A$7:$G$326,SMALL(IF(MyProgram!$K$7:$K$326,ROW($A$1:$A$320)),ROW($A50)),COLUMN(F$1)),\"\")","v":""}]
[{"$f":"IFERROR(INDEX(MyProgram!$A$7:$G$326,SMALL(IF(MyProgram!$K$7:$K$326,ROW($A$1:$A$320)),ROW($A51)),COLUMN(A$1)),\"\")","v":""},{"$f":"IFERROR(INDEX(MyProgram!$A$7:$G$326,SMALL(IF(MyProgram!$K$7:$K$326,ROW($A$1:$A$320)),ROW($A51)),COLUMN(B$1)),\"\")","v":""},{"$f":"IFERROR(INDEX(MyProgram!$A$7:$G$326,SMALL(IF(MyProgram!$K$7:$K$326,ROW($A$1:$A$320)),ROW($A51)),COLUMN(C$1)),\"\")","v":""},{"$f":"IFERROR(INDEX(MyProgram!$A$7:$G$326,SMALL(IF(MyProgram!$K$7:$K$326,ROW($A$1:$A$320)),ROW($A51)),COLUMN(D$1)),\"\")","v":""},{"$f":"IFERROR(INDEX(MyProgram!$A$7:$G$326,SMALL(IF(MyProgram!$K$7:$K$326,ROW($A$1:$A$320)),ROW($A51)),COLUMN(E$1)),\"\")","v":""},{"$f":"IFERROR(INDEX(MyProgram!$A$7:$G$326,SMALL(IF(MyProgram!$K$7:$K$326,ROW($A$1:$A$320)),ROW($A51)),COLUMN(F$1)),\"\")","v":""},{"$f":"IFERROR(INDEX(MyProgram!$A$7:$G$326,SMALL(IF(MyProgram!$K$7:$K$326,ROW($A$1:$A$320)),ROW($A51)),COLUMN(G$1)),\"\")","v":""}]
[null,{"$f":"IFERROR(INDEX(MyProgram!$A$7:$G$326,SMALL(IF(MyProgram!$K$7:$K$326,ROW($A$1:$A$320)),ROW($A52)),COLUMN(B$1)),\"\")","v":""},{"$f":"IFERROR(INDEX(MyProgram!$A$7:$G$326,SMALL(IF(MyProgram!$K$7:$K$326,ROW($A$1:$A$320)),ROW($A52)),COLUMN(C$1)),\"\")","v":""},{"$f":"IFERROR(INDEX(MyProgram!$A$7:$G$326,SMALL(IF(MyProgram!$K$7:$K$326,ROW($A$1:$A$320)),ROW($A52)),COLUMN(D$1)),\"\")","v":""},null,{"$f":"IFERROR(INDEX(MyProgram!$A$7:$G$326,SMALL(IF(MyProgram!$K$7:$K$326,ROW($A$1:$A$320)),ROW($A52)),COLUMN(F$1)),\"\")","v":""}]
[{"$f":"IFERROR(INDEX(MyProgram!$A$7:$G$326,SMALL(IF(MyProgram!$K$7:$K$326,ROW($A$1:$A$320)),ROW($A53)),COLUMN(A$1)),\"\")","v":""},{"$f":"IFERROR(INDEX(MyProgram!$A$7:$G$326,SMALL(IF(MyProgram!$K$7:$K$326,ROW($A$1:$A$320)),ROW($A53)),COLUMN(B$1)),\"\")","v":""},{"$f":"IFERROR(INDEX(MyProgram!$A$7:$G$326,SMALL(IF(MyProgram!$K$7:$K$326,ROW($A$1:$A$320)),ROW($A53)),COLUMN(C$1)),\"\")","v":""},{"$f":"IFERROR(INDEX(MyProgram!$A$7:$G$326,SMALL(IF(MyProgram!$K$7:$K$326,ROW($A$1:$A$320)),ROW($A53)),COLUMN(D$1)),\"\")","v":""},{"$f":"IFERROR(INDEX(MyProgram!$A$7:$G$326,SMALL(IF(MyProgram!$K$7:$K$326,ROW($A$1:$A$320)),ROW($A53)),COLUMN(E$1)),\"\")","v":""},{"$f":"IFERROR(INDEX(MyProgram!$A$7:$G$326,SMALL(IF(MyProgram!$K$7:$K$326,ROW($A$1:$A$320)),ROW($A53)),COLUMN(F$1)),\"\")","v":""},{"$f":"IFERROR(INDEX(MyProgram!$A$7:$G$326,SMALL(IF(MyProgram!$K$7:$K$326,ROW($A$1:$A$320)),ROW($A53)),COLUMN(G$1)),\"\")","v":""}]
[null,{"$f":"IFERROR(INDEX(MyProgram!$A$7:$G$326,SMALL(IF(MyProgram!$K$7:$K$326,ROW($A$1:$A$320)),ROW($A54)),COLUMN(B$1)),\"\")","v":""},{"$f":"IFERROR(INDEX(MyProgram!$A$7:$G$326,SMALL(IF(MyProgram!$K$7:$K$326,ROW($A$1:$A$320)),ROW($A54)),COLUMN(C$1)),\"\")","v":""},{"$f":"IFERROR(INDEX(MyProgram!$A$7:$G$326,SMALL(IF(MyProgram!$K$7:$K$326,ROW($A$1:$A$320)),ROW($A54)),COLUMN(D$1)),\"\")","v":""},null,{"$f":"IFERROR(INDEX(MyProgram!$A$7:$G$326,SMALL(IF(MyProgram!$K$7:$K$326,ROW($A$1:$A$320)),ROW($A54)),COLUMN(F$1)),\"\")","v":""}]
[{"$f":"IFERROR(INDEX(MyProgram!$A$7:$G$326,SMALL(IF(MyProgram!$K$7:$K$326,ROW($A$1:$A$320)),ROW($A55)),COLUMN(A$1)),\"\")","v":""},{"$f":"IFERROR(INDEX(MyProgram!$A$7:$G$326,SMALL(IF(MyProgram!$K$7:$K$326,ROW($A$1:$A$320)),ROW($A55)),COLUMN(B$1)),\"\")","v":""},{"$f":"IFERROR(INDEX(MyProgram!$A$7:$G$326,SMALL(IF(MyProgram!$K$7:$K$326,ROW($A$1:$A$320)),ROW($A55)),COLUMN(C$1)),\"\")","v":""},{"$f":"IFERROR(INDEX(MyProgram!$A$7:$G$326,SMALL(IF(MyProgram!$K$7:$K$326,ROW($A$1:$A$320)),ROW($A55)),COLUMN(D$1)),\"\")","v":""},{"$f":"IFERROR(INDEX(MyProgram!$A$7:$G$326,SMALL(IF(MyProgram!$K$7:$K$326,ROW($A$1:$A$320)),ROW($A55)),COLUMN(E$1)),\"\")","v":""},{"$f":"IFERROR(INDEX(MyProgram!$A$7:$G$326,SMALL(IF(MyProgram!$K$7:$K$326,ROW($A$1:$A$320)),ROW($A55)),COLUMN(F$1)),\"\")","v":""},{"$f":"IFERROR(INDEX(MyProgram!$A$7:$G$326,SMALL(IF(MyProgram!$K$7:$K$326,ROW($A$1:$A$320)),ROW($A55)),COLUMN(G$1)),\"\")","v":""}]
[null,{"$f":"IFERROR(INDEX(MyProgram!$A$7:$G$326,SMALL(IF(MyProgram!$K$7:$K$326,ROW($A$1:$A$320)),ROW($A56)),COLUMN(B$1)),\"\")","v":""},{"$f":"IFERROR(INDEX(MyProgram!$A$7:$G$326,SMALL(IF(MyProgram!$K$7:$K$326,ROW($A$1:$A$320)),ROW($A56)),COLUMN(C$1)),\"\")","v":""},{"$f":"IFERROR(INDEX(MyProgram!$A$7:$G$326,SMALL(IF(MyProgram!$K$7:$K$326,ROW($A$1:$A$320)),ROW($A56)),COLUMN(D$1)),\"\")","v":""},null,{"$f":"IFERROR(INDEX(MyProgram!$A$7:$G$326,SMALL(IF(MyProgram!$K$7:$K$326,ROW($A$1:$A$320)),ROW($A56)),COLUMN(F$1)),\"\")","v":""}]
[{"$f":"IFERROR(INDEX(MyProgram!$A$7:$G$326,SMALL(IF(MyProgram!$K$7:$K$326,ROW($A$1:$A$320)),ROW($A57)),COLUMN(A$1)),\"\")","v":""},{"$f":"IFERROR(INDEX(MyProgram!$A$7:$G$326,SMALL(IF(MyProgram!$K$7:$K$326,ROW($A$1:$A$320)),ROW($A57)),COLUMN(B$1)),\"\")","v":""},{"$f":"IFERROR(INDEX(MyProgram!$A$7:$G$326,SMALL(IF(MyProgram!$K$7:$K$326,ROW($A$1:$A$320)),ROW($A57)),COLUMN(C$1)),\"\")","v":""},{"$f":"IFERROR(INDEX(MyProgram!$A$7:$G$326,SMALL(IF(MyProgram!$K$7:$K$326,ROW($A$1:$A$320)),ROW($A57)),COLUMN(D$1)),\"\")","v":""},{"$f":"IFERROR(INDEX(MyProgram!$A$7:$G$326,SMALL(IF(MyProgram!$K$7:$K$326,ROW($A$1:$A$320)),ROW($A57)),COLUMN(E$1)),\"\")","v":""},{"$f":"IFERROR(INDEX(MyProgram!$A$7:$G$326,SMALL(IF(MyProgram!$K$7:$K$326,ROW($A$1:$A$320)),ROW($A57)),COLUMN(F$1)),\"\")","v":""},{"$f":"IFERROR(INDEX(MyProgram!$A$7:$G$326,SMALL(IF(MyProgram!$K$7:$K$326,ROW($A$1:$A$320)),ROW($A57)),COLUMN(G$1)),\"\")","v":""}]
[null,{"$f":"IFERROR(INDEX(MyProgram!$A$7:$G$326,SMALL(IF(MyProgram!$K$7:$K$326,ROW($A$1:$A$320)),ROW($A58)),COLUMN(B$1)),\"\")","v":""},{"$f":"IFERROR(INDEX(MyProgram!$A$7:$G$326,SMALL(IF(MyProgram!$K$7:$K$326,ROW($A$1:$A$320)),ROW($A58)),COLUMN(C$1)),\"\")","v":""},{"$f":"IFERROR(INDEX(MyProgram!$A$7:$G$326,SMALL(IF(MyProgram!$K$7:$K$326,ROW($A$1:$A$320)),ROW($A58)),COLUMN(D$1)),\"\")","v":""},null,{"$f":"IFERROR(INDEX(MyProgram!$A$7:$G$326,SMALL(IF(MyProgram!$K$7:$K$326,ROW($A$1:$A$320)),ROW($A58)),COLUMN(F$1)),\"\")","v":""}]
[{"$f":"IFERROR(INDEX(MyProgram!$A$7:$G$326,SMALL(IF(MyProgram!$K$7:$K$326,ROW($A$1:$A$320)),ROW($A59)),COLUMN(A$1)),\"\")","v":""},{"$f":"IFERROR(INDEX(MyProgram!$A$7:$G$326,SMALL(IF(MyProgram!$K$7:$K$326,ROW($A$1:$A$320)),ROW($A59)),COLUMN(B$1)),\"\")","v":""},{"$f":"IFERROR(INDEX(MyProgram!$A$7:$G$326,SMALL(IF(MyProgram!$K$7:$K$326,ROW($A$1:$A$320)),ROW($A59)),COLUMN(C$1)),\"\")","v":""},{"$f":"IFERROR(INDEX(MyProgram!$A$7:$G$326,SMALL(IF(MyProgram!$K$7:$K$326,ROW($A$1:$A$320)),ROW($A59)),COLUMN(D$1)),\"\")","v":""},{"$f":"IFERROR(INDEX(MyProgram!$A$7:$G$326,SMALL(IF(MyProgram!$K$7:$K$326,ROW($A$1:$A$320)),ROW($A59)),COLUMN(E$1)),\"\")","v":""},{"$f":"IFERROR(INDEX(MyProgram!$A$7:$G$326,SMALL(IF(MyProgram!$K$7:$K$326,ROW($A$1:$A$320)),ROW($A59)),COLUMN(F$1)),\"\")","v":""},{"$f":"IFERROR(INDEX(MyProgram!$A$7:$G$326,SMALL(IF(MyProgram!$K$7:$K$326,ROW($A$1:$A$320)),ROW($A59)),COLUMN(G$1)),\"\")","v":""}]
[null,{"$f":"IFERROR(INDEX(MyProgram!$A$7:$G$326,SMALL(IF(MyProgram!$K$7:$K$326,ROW($A$1:$A$320)),ROW($A60)),COLUMN(B$1)),\"\")","v":""},{"$f":"IFERROR(INDEX(MyProgram!$A$7:$G$326,SMALL(IF(MyProgram!$K$7:$K$326,ROW($A$1:$A$320)),ROW($A60)),COLUMN(C$1)),\"\")","v":""},{"$f":"IFERROR(INDEX(MyProgram!$A$7:$G$326,SMALL(IF(MyProgram!$K$7:$K$326,ROW($A$1:$A$320)),ROW($A60)),COLUMN(D$1)),\"\")","v":""},null,{"$f":"IFERROR(INDEX(MyProgram!$A$7:$G$326,SMALL(IF(MyProgram!$K$7:$K$326,ROW($A$1:$A$320)),ROW($A60)),COLUMN(F$1)),\"\")","v":""}]
[{"$f":"IFERROR(INDEX(MyProgram!$A$7:$G$326,SMALL(IF(MyProgram!$K$7:$K$326,ROW($A$1:$A$320)),ROW($A61)),COLUMN(A$1)),\"\")","v":""},{"$f":"IFERROR(INDEX(MyProgram!$A$7:$G$326,SMALL(IF(MyProgram!$K$7:$K$326,ROW($A$1:$A$320)),ROW($A61)),COLUMN(B$1)),\"\")","v":""},{"$f":"IFERROR(INDEX(MyProgram!$A$7:$G$326,SMALL(IF(MyProgram!$K$7:$K$326,ROW($A$1:$A$320)),ROW($A61)),COLUMN(C$1)),\"\")","v":""},{"$f":"IFERROR(INDEX(MyProgram!$A$7:$G$326,SMALL(IF(MyProgram!$K$7:$K$326,ROW($A$1:$A$320)),ROW($A61)),COLUMN(D$1)),\"\")","v":""},{"$f":"IFERROR(INDEX(MyProgram!$A$7:$G$326,SMALL(IF(MyProgram!$K$7:$K$326,ROW($A$1:$A$320)),ROW($A61)),COLUMN(E$1)),\"\")","v":""},{"$f":"IFERROR(INDEX(MyProgram!$A$7:$G$326,SMALL(IF(MyProgram!$K$7:$K$326,ROW($A$1:$A$320)),ROW($A61)),COLUMN(F$1)),\"\")","v":""},{"$f":"IFERROR(INDEX(MyProgram!$A$7:$G$326,SMALL(IF(MyProgram!$K$7:$K$326,ROW($A$1:$A$320)),ROW($A61)),COLUMN(G$1)),\"\")","v":""}]
[null,{"$f":"IFERROR(INDEX(MyProgram!$A$7:$G$326,SMALL(IF(MyProgram!$K$7:$K$326,ROW($A$1:$A$320)),ROW($A62)),COLUMN(B$1)),\"\")","v":""},{"$f":"IFERROR(INDEX(MyProgram!$A$7:$G$326,SMALL(IF(MyProgram!$K$7:$K$326,ROW($A$1:$A$320)),ROW($A62)),COLUMN(C$1)),\"\")","v":""},{"$f":"IFERROR(INDEX(MyProgram!$A$7:$G$326,SMALL(IF(MyProgram!$K$7:$K$326,ROW($A$1:$A$320)),ROW($A62)),COLUMN(D$1)),\"\")","v":""},null,{"$f":"IFERROR(INDEX(MyProgram!$A$7:$G$326,SMALL(IF(MyProgram!$K$7:$K$326,ROW($A$1:$A$320)),ROW($A62)),COLUMN(F$1)),\"\")","v":""}]
[{"$f":"IFERROR(INDEX(MyProgram!$A$7:$G$326,SMALL(IF(MyProgram!$K$7:$K$326,ROW($A$1:$A$320)),ROW($A63)),COLUMN(A$1)),\"\")","v":""},{"$f":"IFERROR(INDEX(MyProgram!$A$7:$G$326,SMALL(IF(MyProgram!$K$7:$K$326,ROW($A$1:$A$320)),ROW($A63)),COLUMN(B$1)),\"\")","v":""},{"$f":"IFERROR(INDEX(MyProgram!$A$7:$G$326,SMALL(IF(MyProgram!$K$7:$K$326,ROW($A$1:$A$320)),ROW($A63)),COLUMN(C$1)),\"\")","v":""},{"$f":"IFERROR(INDEX(MyProgram!$A$7:$G$326,SMALL(IF(MyProgram!$K$7:$K$326,ROW($A$1:$A$320)),ROW($A63)),COLUMN(D$1)),\"\")","v":""},{"$f":"IFERROR(INDEX(MyProgram!$A$7:$G$326,SMALL(IF(MyProgram!$K$7:$K$326,ROW($A$1:$A$320)),ROW($A63)),COLUMN(E$1)),\"\")","v":""},{"$f":"IFERROR(INDEX(MyProgram!$A$7:$G$326,SMALL(IF(MyProgram!$K$7:$K$326,ROW($A$1:$A$320)),ROW($A63)),COLUMN(F$1)),\"\")","v":""},{"$f":"IFERROR(INDEX(MyProgram!$A$7:$G$326,SMALL(IF(MyProgram!$K$7:$K$326,ROW($A$1:$A$320)),ROW($A63)),COLUMN(G$1)),\"\")","v":""}]
[null,{"$f":"IFERROR(INDEX(MyProgram!$A$7:$G$326,SMALL(IF(MyProgram!$K$7:$K$326,ROW($A$1:$A$320)),ROW($A64)),COLUMN(B$1)),\"\")","v":""},{"$f":"IFERROR(INDEX(MyProgram!$A$7:$G$326,SMALL(IF(MyProgram!$K$7:$K$326,ROW($A$1:$A$320)),ROW($A64)),COLUMN(C$1)),\"\")","v":""},{"$f":"IFERROR(INDEX(MyProgram!$A$7:$G$326,SMALL(IF(MyProgram!$K$7:$K$326,ROW($A$1:$A$320)),ROW($A64)),COLUMN(D$1)),\"\")","v":""},null,{"$f":"IFERROR(INDEX(MyProgram!$A$7:$G$326,SMALL(IF(MyProgram!$K$7:$K$326,ROW($A$1:$A$320)),ROW($A64)),COLUMN(F$1)),\"\")","v":""}]
[{"$f":"IFERROR(INDEX(MyProgram!$A$7:$G$326,SMALL(IF(MyProgram!$K$7:$K$326,ROW($A$1:$A$320)),ROW($A65)),COLUMN(A$1)),\"\")","v":""},{"$f":"IFERROR(INDEX(MyProgram!$A$7:$G$326,SMALL(IF(MyProgram!$K$7:$K$326,ROW($A$1:$A$320)),ROW($A65)),COLUMN(B$1)),\"\")","v":""},{"$f":"IFERROR(INDEX(MyProgram!$A$7:$G$326,SMALL(IF(MyProgram!$K$7:$K$326,ROW($A$1:$A$320)),ROW($A65)),COLUMN(C$1)),\"\")","v":""},{"$f":"IFERROR(INDEX(MyProgram!$A$7:$G$326,SMALL(IF(MyProgram!$K$7:$K$326,ROW($A$1:$A$320)),ROW($A65)),COLUMN(D$1)),\"\")","v":""},{"$f":"IFERROR(INDEX(MyProgram!$A$7:$G$326,SMALL(IF(MyProgram!$K$7:$K$326,ROW($A$1:$A$320)),ROW($A65)),COLUMN(E$1)),\"\")","v":""},{"$f":"IFERROR(INDEX(MyProgram!$A$7:$G$326,SMALL(IF(MyProgram!$K$7:$K$326,ROW($A$1:$A$320)),ROW($A65)),COLUMN(F$1)),\"\")","v":""},{"$f":"IFERROR(INDEX(MyProgram!$A$7:$G$326,SMALL(IF(MyProgram!$K$7:$K$326,ROW($A$1:$A$320)),ROW($A65)),COLUMN(G$1)),\"\")","v":""}]
[null,{"$f":"IFERROR(INDEX(MyProgram!$A$7:$G$326,SMALL(IF(MyProgram!$K$7:$K$326,ROW($A$1:$A$320)),ROW($A66)),COLUMN(B$1)),\"\")","v":""},{"$f":"IFERROR(INDEX(MyProgram!$A$7:$G$326,SMALL(IF(MyProgram!$K$7:$K$326,ROW($A$1:$A$320)),ROW($A66)),COLUMN(C$1)),\"\")","v":""},{"$f":"IFERROR(INDEX(MyProgram!$A$7:$G$326,SMALL(IF(MyProgram!$K$7:$K$326,ROW($A$1:$A$320)),ROW($A66)),COLUMN(D$1)),\"\")","v":""},null,{"$f":"IFERROR(INDEX(MyProgram!$A$7:$G$326,SMALL(IF(MyProgram!$K$7:$K$326,ROW($A$1:$A$320)),ROW($A66)),COLUMN(F$1)),\"\")","v":""}]
[{"$f":"IFERROR(INDEX(MyProgram!$A$7:$G$326,SMALL(IF(MyProgram!$K$7:$K$326,ROW($A$1:$A$320)),ROW($A67)),COLUMN(A$1)),\"\")","v":""},{"$f":"IFERROR(INDEX(MyProgram!$A$7:$G$326,SMALL(IF(MyProgram!$K$7:$K$326,ROW($A$1:$A$320)),ROW($A67)),COLUMN(B$1)),\"\")","v":""},{"$f":"IFERROR(INDEX(MyProgram!$A$7:$G$326,SMALL(IF(MyProgram!$K$7:$K$326,ROW($A$1:$A$320)),ROW($A67)),COLUMN(C$1)),\"\")","v":""},{"$f":"IFERROR(INDEX(MyProgram!$A$7:$G$326,SMALL(IF(MyProgram!$K$7:$K$326,ROW($A$1:$A$320)),ROW($A67)),COLUMN(D$1)),\"\")","v":""},{"$f":"IFERROR(INDEX(MyProgram!$A$7:$G$326,SMALL(IF(MyProgram!$K$7:$K$326,ROW($A$1:$A$320)),ROW($A67)),COLUMN(E$1)),\"\")","v":""},{"$f":"IFERROR(INDEX(MyProgram!$A$7:$G$326,SMALL(IF(MyProgram!$K$7:$K$326,ROW($A$1:$A$320)),ROW($A67)),COLUMN(F$1)),\"\")","v":""},{"$f":"IFERROR(INDEX(MyProgram!$A$7:$G$326,SMALL(IF(MyProgram!$K$7:$K$326,ROW($A$1:$A$320)),ROW($A67)),COLUMN(G$1)),\"\")","v":""}]
[null,{"$f":"IFERROR(INDEX(MyProgram!$A$7:$G$326,SMALL(IF(MyProgram!$K$7:$K$326,ROW($A$1:$A$320)),ROW($A68)),COLUMN(B$1)),\"\")","v":""},{"$f":"IFERROR(INDEX(MyProgram!$A$7:$G$326,SMALL(IF(MyProgram!$K$7:$K$326,ROW($A$1:$A$320)),ROW($A68)),COLUMN(C$1)),\"\")","v":""},{"$f":"IFERROR(INDEX(MyProgram!$A$7:$G$326,SMALL(IF(MyProgram!$K$7:$K$326,ROW($A$1:$A$320)),ROW($A68)),COLUMN(D$1)),\"\")","v":""},null,{"$f":"IFERROR(INDEX(MyProgram!$A$7:$G$326,SMALL(IF(MyProgram!$K$7:$K$326,ROW($A$1:$A$320)),ROW($A68)),COLUMN(F$1)),\"\")","v":""}]
[{"$f":"IFERROR(INDEX(MyProgram!$A$7:$G$326,SMALL(IF(MyProgram!$K$7:$K$326,ROW($A$1:$A$320)),ROW($A69)),COLUMN(A$1)),\"\")","v":""},{"$f":"IFERROR(INDEX(MyProgram!$A$7:$G$326,SMALL(IF(MyProgram!$K$7:$K$326,ROW($A$1:$A$320)),ROW($A69)),COLUMN(B$1)),\"\")","v":""},{"$f":"IFERROR(INDEX(MyProgram!$A$7:$G$326,SMALL(IF(MyProgram!$K$7:$K$326,ROW($A$1:$A$320)),ROW($A69)),COLUMN(C$1)),\"\")","v":""},{"$f":"IFERROR(INDEX(MyProgram!$A$7:$G$326,SMALL(IF(MyProgram!$K$7:$K$326,ROW($A$1:$A$320)),ROW($A69)),COLUMN(D$1)),\"\")","v":""},{"$f":"IFERROR(INDEX(MyProgram!$A$7:$G$326,SMALL(IF(MyProgram!$K$7:$K$326,ROW($A$1:$A$320)),ROW($A69)),COLUMN(E$1)),\"\")","v":""},{"$f":"IFERROR(INDEX(MyProgram!$A$7:$G$326,SMALL(IF(MyProgram!$K$7:$K$326,ROW($A$1:$A$320)),ROW($A69)),COLUMN(F$1)),\"\")","v":""},{"$f":"IFERROR(INDEX(MyProgram!$A$7:$G$326,SMALL(IF(MyProgram!$K$7:$K$326,ROW($A$1:$A$320)),ROW($A69)),COLUMN(G$1)),\"\")","v":""}]
[null,{"$f":"IFERROR(INDEX(MyProgram!$A$7:$G$326,SMALL(IF(MyProgram!$K$7:$K$326,ROW($A$1:$A$320)),ROW($A70)),COLUMN(B$1)),\"\")","v":""},{"$f":"IFERROR(INDEX(MyProgram!$A$7:$G$326,SMALL(IF(MyProgram!$K$7:$K$326,ROW($A$1:$A$320)),ROW($A70)),COLUMN(C$1)),\"\")","v":""},{"$f":"IFERROR(INDEX(MyProgram!$A$7:$G$326,SMALL(IF(MyProgram!$K$7:$K$326,ROW($A$1:$A$320)),ROW($A70)),COLUMN(D$1)),\"\")","v":""},null,{"$f":"IFERROR(INDEX(MyProgram!$A$7:$G$326,SMALL(IF(MyProgram!$K$7:$K$326,ROW($A$1:$A$320)),ROW($A70)),COLUMN(F$1)),\"\")","v":""}]
[{"$f":"IFERROR(INDEX(MyProgram!$A$7:$G$326,SMALL(IF(MyProgram!$K$7:$K$326,ROW($A$1:$A$320)),ROW($A71)),COLUMN(A$1)),\"\")","v":""},{"$f":"IFERROR(INDEX(MyProgram!$A$7:$G$326,SMALL(IF(MyProgram!$K$7:$K$326,ROW($A$1:$A$320)),ROW($A71)),COLUMN(B$1)),\"\")","v":""},{"$f":"IFERROR(INDEX(MyProgram!$A$7:$G$326,SMALL(IF(MyProgram!$K$7:$K$326,ROW($A$1:$A$320)),ROW($A71)),COLUMN(C$1)),\"\")","v":""},{"$f":"IFERROR(INDEX(MyProgram!$A$7:$G$326,SMALL(IF(MyProgram!$K$7:$K$326,ROW($A$1:$A$320)),ROW($A71)),COLUMN(D$1)),\"\")","v":""},{"$f":"IFERROR(INDEX(MyProgram!$A$7:$G$326,SMALL(IF(MyProgram!$K$7:$K$326,ROW($A$1:$A$320)),ROW($A71)),COLUMN(E$1)),\"\")","v":""},{"$f":"IFERROR(INDEX(MyProgram!$A$7:$G$326,SMALL(IF(MyProgram!$K$7:$K$326,ROW($A$1:$A$320)),ROW($A71)),COLUMN(F$1)),\"\")","v":""},{"$f":"IFERROR(INDEX(MyProgram!$A$7:$G$326,SMALL(IF(MyProgram!$K$7:$K$326,ROW($A$1:$A$320)),ROW($A71)),COLUMN(G$1)),\"\")","v":""}]
[null,{"$f":"IFERROR(INDEX(MyProgram!$A$7:$G$326,SMALL(IF(MyProgram!$K$7:$K$326,ROW($A$1:$A$320)),ROW($A72)),COLUMN(B$1)),\"\")","v":""},{"$f":"IFERROR(INDEX(MyProgram!$A$7:$G$326,SMALL(IF(MyProgram!$K$7:$K$326,ROW($A$1:$A$320)),ROW($A72)),COLUMN(C$1)),\"\")","v":""},{"$f":"IFERROR(INDEX(MyProgram!$A$7:$G$326,SMALL(IF(MyProgram!$K$7:$K$326,ROW($A$1:$A$320)),ROW($A72)),COLUMN(D$1)),\"\")","v":""},null,{"$f":"IFERROR(INDEX(MyProgram!$A$7:$G$326,SMALL(IF(MyProgram!$K$7:$K$326,ROW($A$1:$A$320)),ROW($A72)),COLUMN(F$1)),\"\")","v":""}]
[{"$f":"IFERROR(INDEX(MyProgram!$A$7:$G$326,SMALL(IF(MyProgram!$K$7:$K$326,ROW($A$1:$A$320)),ROW($A73)),COLUMN(A$1)),\"\")","v":""},{"$f":"IFERROR(INDEX(MyProgram!$A$7:$G$326,SMALL(IF(MyProgram!$K$7:$K$326,ROW($A$1:$A$320)),ROW($A73)),COLUMN(B$1)),\"\")","v":""},{"$f":"IFERROR(INDEX(MyProgram!$A$7:$G$326,SMALL(IF(MyProgram!$K$7:$K$326,ROW($A$1:$A$320)),ROW($A73)),COLUMN(C$1)),\"\")","v":""},{"$f":"IFERROR(INDEX(MyProgram!$A$7:$G$326,SMALL(IF(MyProgram!$K$7:$K$326,ROW($A$1:$A$320)),ROW($A73)),COLUMN(D$1)),\"\")","v":""},{"$f":"IFERROR(INDEX(MyProgram!$A$7:$G$326,SMALL(IF(MyProgram!$K$7:$K$326,ROW($A$1:$A$320)),ROW($A73)),COLUMN(E$1)),\"\")","v":""},{"$f":"IFERROR(INDEX(MyProgram!$A$7:$G$326,SMALL(IF(MyProgram!$K$7:$K$326,ROW($A$1:$A$320)),ROW($A73)),COLUMN(F$1)),\"\")","v":""},{"$f":"IFERROR(INDEX(MyProgram!$A$7:$G$326,SMALL(IF(MyProgram!$K$7:$K$326,ROW($A$1:$A$320)),ROW($A73)),COLUMN(G$1)),\"\")","v":""}]
[null,{"$f":"IFERROR(INDEX(MyProgram!$A$7:$G$326,SMALL(IF(MyProgram!$K$7:$K$326,ROW($A$1:$A$320)),ROW($A74)),COLUMN(B$1)),\"\")","v":""},{"$f":"IFERROR(INDEX(MyProgram!$A$7:$G$326,SMALL(IF(MyProgram!$K$7:$K$326,ROW($A$1:$A$320)),ROW($A74)),COLUMN(C$1)),\"\")","v":""},{"$f":"IFERROR(INDEX(MyProgram!$A$7:$G$326,SMALL(IF(MyProgram!$K$7:$K$326,ROW($A$1:$A$320)),ROW($A74)),COLUMN(D$1)),\"\")","v":""},null,{"$f":"IFERROR(INDEX(MyProgram!$A$7:$G$326,SMALL(IF(MyProgram!$K$7:$K$326,ROW($A$1:$A$320)),ROW($A74)),COLUMN(F$1)),\"\")","v":""}]
[{"$f":"IFERROR(INDEX(MyProgram!$A$7:$G$326,SMALL(IF(MyProgram!$K$7:$K$326,ROW($A$1:$A$320)),ROW($A75)),COLUMN(A$1)),\"\")","v":""},{"$f":"IFERROR(INDEX(MyProgram!$A$7:$G$326,SMALL(IF(MyProgram!$K$7:$K$326,ROW($A$1:$A$320)),ROW($A75)),COLUMN(B$1)),\"\")","v":""},{"$f":"IFERROR(INDEX(MyProgram!$A$7:$G$326,SMALL(IF(MyProgram!$K$7:$K$326,ROW($A$1:$A$320)),ROW($A75)),COLUMN(C$1)),\"\")","v":""},{"$f":"IFERROR(INDEX(MyProgram!$A$7:$G$326,SMALL(IF(MyProgram!$K$7:$K$326,ROW($A$1:$A$320)),ROW($A75)),COLUMN(D$1)),\"\")","v":""},{"$f":"IFERROR(INDEX(MyProgram!$A$7:$G$326,SMALL(IF(MyProgram!$K$7:$K$326,ROW($A$1:$A$320)),ROW($A75)),COLUMN(E$1)),\"\")","v":""},{"$f":"IFERROR(INDEX(MyProgram!$A$7:$G$326,SMALL(IF(MyProgram!$K$7:$K$326,ROW($A$1:$A$320)),ROW($A75)),COLUMN(F$1)),\"\")","v":""},{"$f":"IFERROR(INDEX(MyProgram!$A$7:$G$326,SMALL(IF(MyProgram!$K$7:$K$326,ROW($A$1:$A$320)),ROW($A75)),COLUMN(G$1)),\"\")","v":""}]
[null,{"$f":"IFERROR(INDEX(MyProgram!$A$7:$G$326,SMALL(IF(MyProgram!$K$7:$K$326,ROW($A$1:$A$320)),ROW($A76)),COLUMN(B$1)),\"\")","v":""},{"$f":"IFERROR(INDEX(MyProgram!$A$7:$G$326,SMALL(IF(MyProgram!$K$7:$K$326,ROW($A$1:$A$320)),ROW($A76)),COLUMN(C$1)),\"\")","v":""},{"$f":"IFERROR(INDEX(MyProgram!$A$7:$G$326,SMALL(IF(MyProgram!$K$7:$K$326,ROW($A$1:$A$320)),ROW($A76)),COLUMN(D$1)),\"\")","v":""},null,{"$f":"IFERROR(INDEX(MyProgram!$A$7:$G$326,SMALL(IF(MyProgram!$K$7:$K$326,ROW($A$1:$A$320)),ROW($A76)),COLUMN(F$1)),\"\")","v":""}]
[{"$f":"IFERROR(INDEX(MyProgram!$A$7:$G$326,SMALL(IF(MyProgram!$K$7:$K$326,ROW($A$1:$A$320)),ROW($A77)),COLUMN(A$1)),\"\")","v":""},{"$f":"IFERROR(INDEX(MyProgram!$A$7:$G$326,SMALL(IF(MyProgram!$K$7:$K$326,ROW($A$1:$A$320)),ROW($A77)),COLUMN(B$1)),\"\")","v":""},{"$f":"IFERROR(INDEX(MyProgram!$A$7:$G$326,SMALL(IF(MyProgram!$K$7:$K$326,ROW($A$1:$A$320)),ROW($A77)),COLUMN(C$1)),\"\")","v":""},{"$f":"IFERROR(INDEX(MyProgram!$A$7:$G$326,SMALL(IF(MyProgram!$K$7:$K$326,ROW($A$1:$A$320)),ROW($A77)),COLUMN(D$1)),\"\")","v":""},{"$f":"IFERROR(INDEX(MyProgram!$A$7:$G$326,SMALL(IF(MyProgram!$K$7:$K$326,ROW($A$1:$A$320)),ROW($A77)),COLUMN(E$1)),\"\")","v":""},{"$f":"IFERROR(INDEX(MyProgram!$A$7:$G$326,SMALL(IF(MyProgram!$K$7:$K$326,ROW($A$1:$A$320)),ROW($A77)),COLUMN(F$1)),\"\")","v":""},{"$f":"IFERROR(INDEX(MyProgram!$A$7:$G$326,SMALL(IF(MyProgram!$K$7:$K$326,ROW($A$1:$A$320)),ROW($A77)),COLUMN(G$1)),\"\")","v":""}]
[null,{"$f":"IFERROR(INDEX(MyProgram!$A$7:$G$326,SMALL(IF(MyProgram!$K$7:$K$326,ROW($A$1:$A$320)),ROW($A78)),COLUMN(B$1)),\"\")","v":""},{"$f":"IFERROR(INDEX(MyProgram!$A$7:$G$326,SMALL(IF(MyProgram!$K$7:$K$326,ROW($A$1:$A$320)),ROW($A78)),COLUMN(C$1)),\"\")","v":""},{"$f":"IFERROR(INDEX(MyProgram!$A$7:$G$326,SMALL(IF(MyProgram!$K$7:$K$326,ROW($A$1:$A$320)),ROW($A78)),COLUMN(D$1)),\"\")","v":""},null,{"$f":"IFERROR(INDEX(MyProgram!$A$7:$G$326,SMALL(IF(MyProgram!$K$7:$K$326,ROW($A$1:$A$320)),ROW($A78)),COLUMN(F$1)),\"\")","v":""}]
[{"$f":"IFERROR(INDEX(MyProgram!$A$7:$G$326,SMALL(IF(MyProgram!$K$7:$K$326,ROW($A$1:$A$320)),ROW($A79)),COLUMN(A$1)),\"\")","v":""},{"$f":"IFERROR(INDEX(MyProgram!$A$7:$G$326,SMALL(IF(MyProgram!$K$7:$K$326,ROW($A$1:$A$320)),ROW($A79)),COLUMN(B$1)),\"\")","v":""},{"$f":"IFERROR(INDEX(MyProgram!$A$7:$G$326,SMALL(IF(MyProgram!$K$7:$K$326,ROW($A$1:$A$320)),ROW($A79)),COLUMN(C$1)),\"\")","v":""},{"$f":"IFERROR(INDEX(MyProgram!$A$7:$G$326,SMALL(IF(MyProgram!$K$7:$K$326,ROW($A$1:$A$320)),ROW($A79)),COLUMN(D$1)),\"\")","v":""},{"$f":"IFERROR(INDEX(MyProgram!$A$7:$G$326,SMALL(IF(MyProgram!$K$7:$K$326,ROW($A$1:$A$320)),ROW($A79)),COLUMN(E$1)),\"\")","v":""},{"$f":"IFERROR(INDEX(MyProgram!$A$7:$G$326,SMALL(IF(MyProgram!$K$7:$K$326,ROW($A$1:$A$320)),ROW($A79)),COLUMN(F$1)),\"\")","v":""},{"$f":"IFERROR(INDEX(MyProgram!$A$7:$G$326,SMALL(IF(MyProgram!$K$7:$K$326,ROW($A$1:$A$320)),ROW($A79)),COLUMN(G$1)),\"\")","v":""}]
[null,{"$f":"IFERROR(INDEX(MyProgram!$A$7:$G$326,SMALL(IF(MyProgram!$K$7:$K$326,ROW($A$1:$A$320)),ROW($A80)),COLUMN(B$1)),\"\")","v":""},{"$f":"IFERROR(INDEX(MyProgram!$A$7:$G$326,SMALL(IF(MyProgram!$K$7:$K$326,ROW($A$1:$A$320)),ROW($A80)),COLUMN(C$1)),\"\")","v":""},{"$f":"IFERROR(INDEX(MyProgram!$A$7:$G$326,SMALL(IF(MyProgram!$K$7:$K$326,ROW($A$1:$A$320)),ROW($A80)),COLUMN(D$1)),\"\")","v":""},null,{"$f":"IFERROR(INDEX(MyProgram!$A$7:$G$326,SMALL(IF(MyProgram!$K$7:$K$326,ROW($A$1:$A$320)),ROW($A80)),COLUMN(F$1)),\"\")","v":""}]
[{"$f":"IFERROR(INDEX(MyProgram!$A$7:$G$326,SMALL(IF(MyProgram!$K$7:$K$326,ROW($A$1:$A$320)),ROW($A81)),COLUMN(A$1)),\"\")","v":""},{"$f":"IFERROR(INDEX(MyProgram!$A$7:$G$326,SMALL(IF(MyProgram!$K$7:$K$326,ROW($A$1:$A$320)),ROW($A81)),COLUMN(B$1)),\"\")","v":""},{"$f":"IFERROR(INDEX(MyProgram!$A$7:$G$326,SMALL(IF(MyProgram!$K$7:$K$326,ROW($A$1:$A$320)),ROW($A81)),COLUMN(C$1)),\"\")","v":""},{"$f":"IFERROR(INDEX(MyProgram!$A$7:$G$326,SMALL(IF(MyProgram!$K$7:$K$326,ROW($A$1:$A$320)),ROW($A81)),COLUMN(D$1)),\"\")","v":""},{"$f":"IFERROR(INDEX(MyProgram!$A$7:$G$326,SMALL(IF(MyProgram!$K$7:$K$326,ROW($A$1:$A$320)),ROW($A81)),COLUMN(E$1)),\"\")","v":""},{"$f":"IFERROR(INDEX(MyProgram!$A$7:$G$326,SMALL(IF(MyProgram!$K$7:$K$326,ROW($A$1:$A$320)),ROW($A81)),COLUMN(F$1)),\"\")","v":""},{"$f":"IFERROR(INDEX(MyProgram!$A$7:$G$326,SMALL(IF(MyProgram!$K$7:$K$326,ROW($A$1:$A$320)),ROW($A81)),COLUMN(G$1)),\"\")","v":""}]
[null,{"$f":"IFERROR(INDEX(MyProgram!$A$7:$G$326,SMALL(IF(MyProgram!$K$7:$K$326,ROW($A$1:$A$320)),ROW($A82)),COLUMN(B$1)),\"\")","v":""},{"$f":"IFERROR(INDEX(MyProgram!$A$7:$G$326,SMALL(IF(MyProgram!$K$7:$K$326,ROW($A$1:$A$320)),ROW($A82)),COLUMN(C$1)),\"\")","v":""},{"$f":"IFERROR(INDEX(MyProgram!$A$7:$G$326,SMALL(IF(MyProgram!$K$7:$K$326,ROW($A$1:$A$320)),ROW($A82)),COLUMN(D$1)),\"\")","v":""},null,{"$f":"IFERROR(INDEX(MyProgram!$A$7:$G$326,SMALL(IF(MyProgram!$K$7:$K$326,ROW($A$1:$A$320)),ROW($A82)),COLUMN(F$1)),\"\")","v":""}]
[{"$f":"IFERROR(INDEX(MyProgram!$A$7:$G$326,SMALL(IF(MyProgram!$K$7:$K$326,ROW($A$1:$A$320)),ROW($A83)),COLUMN(A$1)),\"\")","v":""},{"$f":"IFERROR(INDEX(MyProgram!$A$7:$G$326,SMALL(IF(MyProgram!$K$7:$K$326,ROW($A$1:$A$320)),ROW($A83)),COLUMN(B$1)),\"\")","v":""},{"$f":"IFERROR(INDEX(MyProgram!$A$7:$G$326,SMALL(IF(MyProgram!$K$7:$K$326,ROW($A$1:$A$320)),ROW($A83)),COLUMN(C$1)),\"\")","v":""},{"$f":"IFERROR(INDEX(MyProgram!$A$7:$G$326,SMALL(IF(MyProgram!$K$7:$K$326,ROW($A$1:$A$320)),ROW($A83)),COLUMN(D$1)),\"\")","v":""},{"$f":"IFERROR(INDEX(MyProgram!$A$7:$G$326,SMALL(IF(MyProgram!$K$7:$K$326,ROW($A$1:$A$320)),ROW($A83)),COLUMN(E$1)),\"\")","v":""},{"$f":"IFERROR(INDEX(MyProgram!$A$7:$G$326,SMALL(IF(MyProgram!$K$7:$K$326,ROW($A$1:$A$320)),ROW($A83)),COLUMN(F$1)),\"\")","v":""},{"$f":"IFERROR(INDEX(MyProgram!$A$7:$G$326,SMALL(IF(MyProgram!$K$7:$K$326,ROW($A$1:$A$320)),ROW($A83)),COLUMN(G$1)),\"\")","v":""}]
[null,{"$f":"IFERROR(INDEX(MyProgram!$A$7:$G$326,SMALL(IF(MyProgram!$K$7:$K$326,ROW($A$1:$A$320)),ROW($A84)),COLUMN(B$1)),\"\")","v":""},{"$f":"IFERROR(INDEX(MyProgram!$A$7:$G$326,SMALL(IF(MyProgram!$K$7:$K$326,ROW($A$1:$A$320)),ROW($A84)),COLUMN(C$1)),\"\")","v":""},{"$f":"IFERROR(INDEX(MyProgram!$A$7:$G$326,SMALL(IF(MyProgram!$K$7:$K$326,ROW($A$1:$A$320)),ROW($A84)),COLUMN(D$1)),\"\")","v":""},null,{"$f":"IFERROR(INDEX(MyProgram!$A$7:$G$326,SMALL(IF(MyProgram!$K$7:$K$326,ROW($A$1:$A$320)),ROW($A84)),COLUMN(F$1)),\"\")","v":""}]
[{"$f":"IFERROR(INDEX(MyProgram!$A$7:$G$326,SMALL(IF(MyProgram!$K$7:$K$326,ROW($A$1:$A$320)),ROW($A85)),COLUMN(A$1)),\"\")","v":""},{"$f":"IFERROR(INDEX(MyProgram!$A$7:$G$326,SMALL(IF(MyProgram!$K$7:$K$326,ROW($A$1:$A$320)),ROW($A85)),COLUMN(B$1)),\"\")","v":""},{"$f":"IFERROR(INDEX(MyProgram!$A$7:$G$326,SMALL(IF(MyProgram!$K$7:$K$326,ROW($A$1:$A$320)),ROW($A85)),COLUMN(C$1)),\"\")","v":""},{"$f":"IFERROR(INDEX(MyProgram!$A$7:$G$326,SMALL(IF(MyProgram!$K$7:$K$326,ROW($A$1:$A$320)),ROW($A85)),COLUMN(D$1)),\"\")","v":""},{"$f":"IFERROR(INDEX(MyProgram!$A$7:$G$326,SMALL(IF(MyProgram!$K$7:$K$326,ROW($A$1:$A$320)),ROW($A85)),COLUMN(E$1)),\"\")","v":""},{"$f":"IFERROR(INDEX(MyProgram!$A$7:$G$326,SMALL(IF(MyProgram!$K$7:$K$326,ROW($A$1:$A$320)),ROW($A85)),COLUMN(F$1)),\"\")","v":""},{"$f":"IFERROR(INDEX(MyProgram!$A$7:$G$326,SMALL(IF(MyProgram!$K$7:$K$326,ROW($A$1:$A$320)),ROW($A85)),COLUMN(G$1)),\"\")","v":""}]
[null,{"$f":"IFERROR(INDEX(MyProgram!$A$7:$G$326,SMALL(IF(MyProgram!$K$7:$K$326,ROW($A$1:$A$320)),ROW($A86)),COLUMN(B$1)),\"\")","v":""},{"$f":"IFERROR(INDEX(MyProgram!$A$7:$G$326,SMALL(IF(MyProgram!$K$7:$K$326,ROW($A$1:$A$320)),ROW($A86)),COLUMN(C$1)),\"\")","v":""},{"$f":"IFERROR(INDEX(MyProgram!$A$7:$G$326,SMALL(IF(MyProgram!$K$7:$K$326,ROW($A$1:$A$320)),ROW($A86)),COLUMN(D$1)),\"\")","v":""},null,{"$f":"IFERROR(INDEX(MyProgram!$A$7:$G$326,SMALL(IF(MyProgram!$K$7:$K$326,ROW($A$1:$A$320)),ROW($A86)),COLUMN(F$1)),\"\")","v":""}]
[{"$f":"IFERROR(INDEX(MyProgram!$A$7:$G$326,SMALL(IF(MyProgram!$K$7:$K$326,ROW($A$1:$A$320)),ROW($A87)),COLUMN(A$1)),\"\")","v":""},{"$f":"IFERROR(INDEX(MyProgram!$A$7:$G$326,SMALL(IF(MyProgram!$K$7:$K$326,ROW($A$1:$A$320)),ROW($A87)),COLUMN(B$1)),\"\")","v":""},{"$f":"IFERROR(INDEX(MyProgram!$A$7:$G$326,SMALL(IF(MyProgram!$K$7:$K$326,ROW($A$1:$A$320)),ROW($A87)),COLUMN(C$1)),\"\")","v":""},{"$f":"IFERROR(INDEX(MyProgram!$A$7:$G$326,SMALL(IF(MyProgram!$K$7:$K$326,ROW($A$1:$A$320)),ROW($A87)),COLUMN(D$1)),\"\")","v":""},{"$f":"IFERROR(INDEX(MyProgram!$A$7:$G$326,SMALL(IF(MyProgram!$K$7:$K$326,ROW($A$1:$A$320)),ROW($A87)),COLUMN(E$1)),\"\")","v":""},{"$f":"IFERROR(INDEX(MyProgram!$A$7:$G$326,SMALL(IF(MyProgram!$K$7:$K$326,ROW($A$1:$A$320)),ROW($A87)),COLUMN(F$1)),\"\")","v":""},{"$f":"IFERROR(INDEX(MyProgram!$A$7:$G$326,SMALL(IF(MyProgram!$K$7:$K$326,ROW($A$1:$A$320)),ROW($A87)),COLUMN(G$1)),\"\")","v":""}]
[null,{"$f":"IFERROR(INDEX(MyProgram!$A$7:$G$326,SMALL(IF(MyProgram!$K$7:$K$326,ROW($A$1:$A$320)),ROW($A88)),COLUMN(B$1)),\"\")","v":""},{"$f":"IFERROR(INDEX(MyProgram!$A$7:$G$326,SMALL(IF(MyProgram!$K$7:$K$326,ROW($A$1:$A$320)),ROW($A88)),COLUMN(C$1)),\"\")","v":""},{"$f":"IFERROR(INDEX(MyProgram!$A$7:$G$326,SMALL(IF(MyProgram!$K$7:$K$326,ROW($A$1:$A$320)),ROW($A88)),COLUMN(D$1)),\"\")","v":""},null,{"$f":"IFERROR(INDEX(MyProgram!$A$7:$G$326,SMALL(IF(MyProgram!$K$7:$K$326,ROW($A$1:$A$320)),ROW($A88)),COLUMN(F$1)),\"\")","v":""}]
[{"$f":"IFERROR(INDEX(MyProgram!$A$7:$G$326,SMALL(IF(MyProgram!$K$7:$K$326,ROW($A$1:$A$320)),ROW($A89)),COLUMN(A$1)),\"\")","v":""},{"$f":"IFERROR(INDEX(MyProgram!$A$7:$G$326,SMALL(IF(MyProgram!$K$7:$K$326,ROW($A$1:$A$320)),ROW($A89)),COLUMN(B$1)),\"\")","v":""},{"$f":"IFERROR(INDEX(MyProgram!$A$7:$G$326,SMALL(IF(MyProgram!$K$7:$K$326,ROW($A$1:$A$320)),ROW($A89)),COLUMN(C$1)),\"\")","v":""},{"$f":"IFERROR(INDEX(MyProgram!$A$7:$G$326,SMALL(IF(MyProgram!$K$7:$K$326,ROW($A$1:$A$320)),ROW($A89)),COLUMN(D$1)),\"\")","v":""},{"$f":"IFERROR(INDEX(MyProgram!$A$7:$G$326,SMALL(IF(MyProgram!$K$7:$K$326,ROW($A$1:$A$320)),ROW($A89)),COLUMN(E$1)),\"\")","v":""},{"$f":"IFERROR(INDEX(MyProgram!$A$7:$G$326,SMALL(IF(MyProgram!$K$7:$K$326,ROW($A$1:$A$320)),ROW($A89)),COLUMN(F$1)),\"\")","v":""},{"$f":"IFERROR(INDEX(MyProgram!$A$7:$G$326,SMALL(IF(MyProgram!$K$7:$K$326,ROW($A$1:$A$320)),ROW($A89)),COLUMN(G$1)),\"\")","v":""}]
[null,{"$f":"IFERROR(INDEX(MyProgram!$A$7:$G$326,SMALL(IF(MyProgram!$K$7:$K$326,ROW($A$1:$A$320)),ROW($A90)),COLUMN(B$1)),\"\")","v":""},{"$f":"IFERROR(INDEX(MyProgram!$A$7:$G$326,SMALL(IF(MyProgram!$K$7:$K$326,ROW($A$1:$A$320)),ROW($A90)),COLUMN(C$1)),\"\")","v":""},{"$f":"IFERROR(INDEX(MyProgram!$A$7:$G$326,SMALL(IF(MyProgram!$K$7:$K$326,ROW($A$1:$A$320)),ROW($A90)),COLUMN(D$1)),\"\")","v":""},null,{"$f":"IFERROR(INDEX(MyProgram!$A$7:$G$326,SMALL(IF(MyProgram!$K$7:$K$326,ROW($A$1:$A$320)),ROW($A90)),COLUMN(F$1)),\"\")","v":""}]
[{"$f":"IFERROR(INDEX(MyProgram!$A$7:$G$326,SMALL(IF(MyProgram!$K$7:$K$326,ROW($A$1:$A$320)),ROW($A91)),COLUMN(A$1)),\"\")","v":""},{"$f":"IFERROR(INDEX(MyProgram!$A$7:$G$326,SMALL(IF(MyProgram!$K$7:$K$326,ROW($A$1:$A$320)),ROW($A91)),COLUMN(B$1)),\"\")","v":""},{"$f":"IFERROR(INDEX(MyProgram!$A$7:$G$326,SMALL(IF(MyProgram!$K$7:$K$326,ROW($A$1:$A$320)),ROW($A91)),COLUMN(C$1)),\"\")","v":""},{"$f":"IFERROR(INDEX(MyProgram!$A$7:$G$326,SMALL(IF(MyProgram!$K$7:$K$326,ROW($A$1:$A$320)),ROW($A91)),COLUMN(D$1)),\"\")","v":""},{"$f":"IFERROR(INDEX(MyProgram!$A$7:$G$326,SMALL(IF(MyProgram!$K$7:$K$326,ROW($A$1:$A$320)),ROW($A91)),COLUMN(E$1)),\"\")","v":""},{"$f":"IFERROR(INDEX(MyProgram!$A$7:$G$326,SMALL(IF(MyProgram!$K$7:$K$326,ROW($A$1:$A$320)),ROW($A91)),COLUMN(F$1)),\"\")","v":""},{"$f":"IFERROR(INDEX(MyProgram!$A$7:$G$326,SMALL(IF(MyProgram!$K$7:$K$326,ROW($A$1:$A$320)),ROW($A91)),COLUMN(G$1)),\"\")","v":""}]
[null,{"$f":"IFERROR(INDEX(MyProgram!$A$7:$G$326,SMALL(IF(MyProgram!$K$7:$K$326,ROW($A$1:$A$320)),ROW($A92)),COLUMN(B$1)),\"\")","v":""},{"$f":"IFERROR(INDEX(MyProgram!$A$7:$G$326,SMALL(IF(MyProgram!$K$7:$K$326,ROW($A$1:$A$320)),ROW($A92)),COLUMN(C$1)),\"\")","v":""},{"$f":"IFERROR(INDEX(MyProgram!$A$7:$G$326,SMALL(IF(MyProgram!$K$7:$K$326,ROW($A$1:$A$320)),ROW($A92)),COLUMN(D$1)),\"\")","v":""},null,{"$f":"IFERROR(INDEX(MyProgram!$A$7:$G$326,SMALL(IF(MyProgram!$K$7:$K$326,ROW($A$1:$A$320)),ROW($A92)),COLUMN(F$1)),\"\")","v":""}]
[{"$f":"IFERROR(INDEX(MyProgram!$A$7:$G$326,SMALL(IF(MyProgram!$K$7:$K$326,ROW($A$1:$A$320)),ROW($A93)),COLUMN(A$1)),\"\")","v":""},{"$f":"IFERROR(INDEX(MyProgram!$A$7:$G$326,SMALL(IF(MyProgram!$K$7:$K$326,ROW($A$1:$A$320)),ROW($A93)),COLUMN(B$1)),\"\")","v":""},{"$f":"IFERROR(INDEX(MyProgram!$A$7:$G$326,SMALL(IF(MyProgram!$K$7:$K$326,ROW($A$1:$A$320)),ROW($A93)),COLUMN(C$1)),\"\")","v":""},{"$f":"IFERROR(INDEX(MyProgram!$A$7:$G$326,SMALL(IF(MyProgram!$K$7:$K$326,ROW($A$1:$A$320)),ROW($A93)),COLUMN(D$1)),\"\")","v":""},{"$f":"IFERROR(INDEX(MyProgram!$A$7:$G$326,SMALL(IF(MyProgram!$K$7:$K$326,ROW($A$1:$A$320)),ROW($A93)),COLUMN(E$1)),\"\")","v":""},{"$f":"IFERROR(INDEX(MyProgram!$A$7:$G$326,SMALL(IF(MyProgram!$K$7:$K$326,ROW($A$1:$A$320)),ROW($A93)),COLUMN(F$1)),\"\")","v":""},{"$f":"IFERROR(INDEX(MyProgram!$A$7:$G$326,SMALL(IF(MyProgram!$K$7:$K$326,ROW($A$1:$A$320)),ROW($A93)),COLUMN(G$1)),\"\")","v":""}]
[null,{"$f":"IFERROR(INDEX(MyProgram!$A$7:$G$326,SMALL(IF(MyProgram!$K$7:$K$326,ROW($A$1:$A$320)),ROW($A94)),COLUMN(B$1)),\"\")","v":""},{"$f":"IFERROR(INDEX(MyProgram!$A$7:$G$326,SMALL(IF(MyProgram!$K$7:$K$326,ROW($A$1:$A$320)),ROW($A94)),COLUMN(C$1)),\"\")","v":""},{"$f":"IFERROR(INDEX(MyProgram!$A$7:$G$326,SMALL(IF(MyProgram!$K$7:$K$326,ROW($A$1:$A$320)),ROW($A94)),COLUMN(D$1)),\"\")","v":""},null,{"$f":"IFERROR(INDEX(MyProgram!$A$7:$G$326,SMALL(IF(MyProgram!$K$7:$K$326,ROW($A$1:$A$320)),ROW($A94)),COLUMN(F$1)),\"\")","v":""}]
[{"$f":"IFERROR(INDEX(MyProgram!$A$7:$G$326,SMALL(IF(MyProgram!$K$7:$K$326,ROW($A$1:$A$320)),ROW($A95)),COLUMN(A$1)),\"\")","v":""},{"$f":"IFERROR(INDEX(MyProgram!$A$7:$G$326,SMALL(IF(MyProgram!$K$7:$K$326,ROW($A$1:$A$320)),ROW($A95)),COLUMN(B$1)),\"\")","v":""},{"$f":"IFERROR(INDEX(MyProgram!$A$7:$G$326,SMALL(IF(MyProgram!$K$7:$K$326,ROW($A$1:$A$320)),ROW($A95)),COLUMN(C$1)),\"\")","v":""},{"$f":"IFERROR(INDEX(MyProgram!$A$7:$G$326,SMALL(IF(MyProgram!$K$7:$K$326,ROW($A$1:$A$320)),ROW($A95)),COLUMN(D$1)),\"\")","v":""},{"$f":"IFERROR(INDEX(MyProgram!$A$7:$G$326,SMALL(IF(MyProgram!$K$7:$K$326,ROW($A$1:$A$320)),ROW($A95)),COLUMN(E$1)),\"\")","v":""},{"$f":"IFERROR(INDEX(MyProgram!$A$7:$G$326,SMALL(IF(MyProgram!$K$7:$K$326,ROW($A$1:$A$320)),ROW($A95)),COLUMN(F$1)),\"\")","v":""},{"$f":"IFERROR(INDEX(MyProgram!$A$7:$G$326,SMALL(IF(MyProgram!$K$7:$K$326,ROW($A$1:$A$320)),ROW($A95)),COLUMN(G$1)),\"\")","v":""}]
[null,{"$f":"IFERROR(INDEX(MyProgram!$A$7:$G$326,SMALL(IF(MyProgram!$K$7:$K$326,ROW($A$1:$A$320)),ROW($A96)),COLUMN(B$1)),\"\")","v":""},{"$f":"IFERROR(INDEX(MyProgram!$A$7:$G$326,SMALL(IF(MyProgram!$K$7:$K$326,ROW($A$1:$A$320)),ROW($A96)),COLUMN(C$1)),\"\")","v":""},{"$f":"IFERROR(INDEX(MyProgram!$A$7:$G$326,SMALL(IF(MyProgram!$K$7:$K$326,ROW($A$1:$A$320)),ROW($A96)),COLUMN(D$1)),\"\")","v":""},null,{"$f":"IFERROR(INDEX(MyProgram!$A$7:$G$326,SMALL(IF(MyProgram!$K$7:$K$326,ROW($A$1:$A$320)),ROW($A96)),COLUMN(F$1)),\"\")","v":""}]
[{"$f":"IFERROR(INDEX(MyProgram!$A$7:$G$326,SMALL(IF(MyProgram!$K$7:$K$326,ROW($A$1:$A$320)),ROW($A97)),COLUMN(A$1)),\"\")","v":""},{"$f":"IFERROR(INDEX(MyProgram!$A$7:$G$326,SMALL(IF(MyProgram!$K$7:$K$326,ROW($A$1:$A$320)),ROW($A97)),COLUMN(B$1)),\"\")","v":""},{"$f":"IFERROR(INDEX(MyProgram!$A$7:$G$326,SMALL(IF(MyProgram!$K$7:$K$326,ROW($A$1:$A$320)),ROW($A97)),COLUMN(C$1)),\"\")","v":""},{"$f":"IFERROR(INDEX(MyProgram!$A$7:$G$326,SMALL(IF(MyProgram!$K$7:$K$326,ROW($A$1:$A$320)),ROW($A97)),COLUMN(D$1)),\"\")","v":""},{"$f":"IFERROR(INDEX(MyProgram!$A$7:$G$326,SMALL(IF(MyProgram!$K$7:$K$326,ROW($A$1:$A$320)),ROW($A97)),COLUMN(E$1)),\"\")","v":""},{"$f":"IFERROR(INDEX(MyProgram!$A$7:$G$326,SMALL(IF(MyProgram!$K$7:$K$326,ROW($A$1:$A$320)),ROW($A97)),COLUMN(F$1)),\"\")","v":""},{"$f":"IFERROR(INDEX(MyProgram!$A$7:$G$326,SMALL(IF(MyProgram!$K$7:$K$326,ROW($A$1:$A$320)),ROW($A97)),COLUMN(G$1)),\"\")","v":""}]
[null,{"$f":"IFERROR(INDEX(MyProgram!$A$7:$G$326,SMALL(IF(MyProgram!$K$7:$K$326,ROW($A$1:$A$320)),ROW($A98)),COLUMN(B$1)),\"\")","v":""},{"$f":"IFERROR(INDEX(MyProgram!$A$7:$G$326,SMALL(IF(MyProgram!$K$7:$K$326,ROW($A$1:$A$320)),ROW($A98)),COLUMN(C$1)),\"\")","v":""},{"$f":"IFERROR(INDEX(MyProgram!$A$7:$G$326,SMALL(IF(MyProgram!$K$7:$K$326,ROW($A$1:$A$320)),ROW($A98)),COLUMN(D$1)),\"\")","v":""},null,{"$f":"IFERROR(INDEX(MyProgram!$A$7:$G$326,SMALL(IF(MyProgram!$K$7:$K$326,ROW($A$1:$A$320)),ROW($A98)),COLUMN(F$1)),\"\")","v":""}]
[{"$f":"IFERROR(INDEX(MyProgram!$A$7:$G$326,SMALL(IF(MyProgram!$K$7:$K$326,ROW($A$1:$A$320)),ROW($A99)),COLUMN(A$1)),\"\")","v":""},{"$f":"IFERROR(INDEX(MyProgram!$A$7:$G$326,SMALL(IF(MyProgram!$K$7:$K$326,ROW($A$1:$A$320)),ROW($A99)),COLUMN(B$1)),\"\")","v":""},{"$f":"IFERROR(INDEX(MyProgram!$A$7:$G$326,SMALL(IF(MyProgram!$K$7:$K$326,ROW($A$1:$A$320)),ROW($A99)),COLUMN(C$1)),\"\")","v":""},{"$f":"IFERROR(INDEX(MyProgram!$A$7:$G$326,SMALL(IF(MyProgram!$K$7:$K$326,ROW($A$1:$A$320)),ROW($A99)),COLUMN(D$1)),\"\")","v":""},{"$f":"IFERROR(INDEX(MyProgram!$A$7:$G$326,SMALL(IF(MyProgram!$K$7:$K$326,ROW($A$1:$A$320)),ROW($A99)),COLUMN(E$1)),\"\")","v":""},{"$f":"IFERROR(INDEX(MyProgram!$A$7:$G$326,SMALL(IF(MyProgram!$K$7:$K$326,ROW($A$1:$A$320)),ROW($A99)),COLUMN(F$1)),\"\")","v":""},{"$f":"IFERROR(INDEX(MyProgram!$A$7:$G$326,SMALL(IF(MyProgram!$K$7:$K$326,ROW($A$1:$A$320)),ROW($A99)),COLUMN(G$1)),\"\")","v":""}]
[null,{"$f":"IFERROR(INDEX(MyProgram!$A$7:$G$326,SMALL(IF(MyProgram!$K$7:$K$326,ROW($A$1:$A$320)),ROW($A100)),COLUMN(B$1)),\"\")","v":""},{"$f":"IFERROR(INDEX(MyProgram!$A$7:$G$326,SMALL(IF(MyProgram!$K$7:$K$326,ROW($A$1:$A$320)),ROW($A100)),COLUMN(C$1)),\"\")","v":""},{"$f":"IFERROR(INDEX(MyProgram!$A$7:$G$326,SMALL(IF(MyProgram!$K$7:$K$326,ROW($A$1:$A$320)),ROW($A100)),COLUMN(D$1)),\"\")","v":""},null,{"$f":"IFERROR(INDEX(MyProgram!$A$7:$G$326,SMALL(IF(MyProgram!$K$7:$K$326,ROW($A$1:$A$320)),ROW($A100)),COLUMN(F$1)),\"\")","v":""}]
[{"$f":"IFERROR(INDEX(MyProgram!$A$7:$G$326,SMALL(IF(MyProgram!$K$7:$K$326,ROW($A$1:$A$320)),ROW($A101)),COLUMN(A$1)),\"\")","v":""},{"$f":"IFERROR(INDEX(MyProgram!$A$7:$G$326,SMALL(IF(MyProgram!$K$7:$K$326,ROW($A$1:$A$320)),ROW($A101)),COLUMN(B$1)),\"\")","v":""},{"$f":"IFERROR(INDEX(MyProgram!$A$7:$G$326,SMALL(IF(MyProgram!$K$7:$K$326,ROW($A$1:$A$320)),ROW($A101)),COLUMN(C$1)),\"\")","v":""},{"$f":"IFERROR(INDEX(MyProgram!$A$7:$G$326,SMALL(IF(MyProgram!$K$7:$K$326,ROW($A$1:$A$320)),ROW($A101)),COLUMN(D$1)),\"\")","v":""},{"$f":"IFERROR(INDEX(MyProgram!$A$7:$G$326,SMALL(IF(MyProgram!$K$7:$K$326,ROW($A$1:$A$320)),ROW($A101)),COLUMN(E$1)),\"\")","v":""},{"$f":"IFERROR(INDEX(MyProgram!$A$7:$G$326,SMALL(IF(MyProgram!$K$7:$K$326,ROW($A$1:$A$320)),ROW($A101)),COLUMN(F$1)),\"\")","v":""},{"$f":"IFERROR(INDEX(MyProgram!$A$7:$G$326,SMALL(IF(MyProgram!$K$7:$K$326,ROW($A$1:$A$320)),ROW($A101)),COLUMN(G$1)),\"\")","v":""}]
[null,{"$f":"IFERROR(INDEX(MyProgram!$A$7:$G$326,SMALL(IF(MyProgram!$K$7:$K$326,ROW($A$1:$A$320)),ROW($A102)),COLUMN(B$1)),\"\")","v":""},{"$f":"IFERROR(INDEX(MyProgram!$A$7:$G$326,SMALL(IF(MyProgram!$K$7:$K$326,ROW($A$1:$A$320)),ROW($A102)),COLUMN(C$1)),\"\")","v":""},{"$f":"IFERROR(INDEX(MyProgram!$A$7:$G$326,SMALL(IF(MyProgram!$K$7:$K$326,ROW($A$1:$A$320)),ROW($A102)),COLUMN(D$1)),\"\")","v":""},null,{"$f":"IFERROR(INDEX(MyProgram!$A$7:$G$326,SMALL(IF(MyProgram!$K$7:$K$326,ROW($A$1:$A$320)),ROW($A102)),COLUMN(F$1)),\"\")","v":""}]
[{"$f":"IFERROR(INDEX(MyProgram!$A$7:$G$326,SMALL(IF(MyProgram!$K$7:$K$326,ROW($A$1:$A$320)),ROW($A103)),COLUMN(A$1)),\"\")","v":""},{"$f":"IFERROR(INDEX(MyProgram!$A$7:$G$326,SMALL(IF(MyProgram!$K$7:$K$326,ROW($A$1:$A$320)),ROW($A103)),COLUMN(B$1)),\"\")","v":""},{"$f":"IFERROR(INDEX(MyProgram!$A$7:$G$326,SMALL(IF(MyProgram!$K$7:$K$326,ROW($A$1:$A$320)),ROW($A103)),COLUMN(C$1)),\"\")","v":""},{"$f":"IFERROR(INDEX(MyProgram!$A$7:$G$326,SMALL(IF(MyProgram!$K$7:$K$326,ROW($A$1:$A$320)),ROW($A103)),COLUMN(D$1)),\"\")","v":""},{"$f":"IFERROR(INDEX(MyProgram!$A$7:$G$326,SMALL(IF(MyProgram!$K$7:$K$326,ROW($A$1:$A$320)),ROW($A103)),COLUMN(E$1)),\"\")","v":""},{"$f":"IFERROR(INDEX(MyProgram!$A$7:$G$326,SMALL(IF(MyProgram!$K$7:$K$326,ROW($A$1:$A$320)),ROW($A103)),COLUMN(F$1)),\"\")","v":""},{"$f":"IFERROR(INDEX(MyProgram!$A$7:$G$326,SMALL(IF(MyProgram!$K$7:$K$326,ROW($A$1:$A$320)),ROW($A103)),COLUMN(G$1)),\"\")","v":""}]
[null,{"$f":"IFERROR(INDEX(MyProgram!$A$7:$G$326,SMALL(IF(MyProgram!$K$7:$K$326,ROW($A$1:$A$320)),ROW($A104)),COLUMN(B$1)),\"\")","v":""},{"$f":"IFERROR(INDEX(MyProgram!$A$7:$G$326,SMALL(IF(MyProgram!$K$7:$K$326,ROW($A$1:$A$320)),ROW($A104)),COLUMN(C$1)),\"\")","v":""},{"$f":"IFERROR(INDEX(MyProgram!$A$7:$G$326,SMALL(IF(MyProgram!$K$7:$K$326,ROW($A$1:$A$320)),ROW($A104)),COLUMN(D$1)),\"\")","v":""},null,{"$f":"IFERROR(INDEX(MyProgram!$A$7:$G$326,SMALL(IF(MyProgram!$K$7:$K$326,ROW($A$1:$A$320)),ROW($A104)),COLUMN(F$1)),\"\")","v":""}]
[{"$f":"IFERROR(INDEX(MyProgram!$A$7:$G$326,SMALL(IF(MyProgram!$K$7:$K$326,ROW($A$1:$A$320)),ROW($A105)),COLUMN(A$1)),\"\")","v":""},{"$f":"IFERROR(INDEX(MyProgram!$A$7:$G$326,SMALL(IF(MyProgram!$K$7:$K$326,ROW($A$1:$A$320)),ROW($A105)),COLUMN(B$1)),\"\")","v":""},{"$f":"IFERROR(INDEX(MyProgram!$A$7:$G$326,SMALL(IF(MyProgram!$K$7:$K$326,ROW($A$1:$A$320)),ROW($A105)),COLUMN(C$1)),\"\")","v":""},{"$f":"IFERROR(INDEX(MyProgram!$A$7:$G$326,SMALL(IF(MyProgram!$K$7:$K$326,ROW($A$1:$A$320)),ROW($A105)),COLUMN(D$1)),\"\")","v":""},{"$f":"IFERROR(INDEX(MyProgram!$A$7:$G$326,SMALL(IF(MyProgram!$K$7:$K$326,ROW($A$1:$A$320)),ROW($A105)),COLUMN(E$1)),\"\")","v":""},{"$f":"IFERROR(INDEX(MyProgram!$A$7:$G$326,SMALL(IF(MyProgram!$K$7:$K$326,ROW($A$1:$A$320)),ROW($A105)),COLUMN(F$1)),\"\")","v":""},{"$f":"IFERROR(INDEX(MyProgram!$A$7:$G$326,SMALL(IF(MyProgram!$K$7:$K$326,ROW($A$1:$A$320)),ROW($A105)),COLUMN(G$1)),\"\")","v":""}]
[null,{"$f":"IFERROR(INDEX(MyProgram!$A$7:$G$326,SMALL(IF(MyProgram!$K$7:$K$326,ROW($A$1:$A$320)),ROW($A106)),COLUMN(B$1)),\"\")","v":""},{"$f":"IFERROR(INDEX(MyProgram!$A$7:$G$326,SMALL(IF(MyProgram!$K$7:$K$326,ROW($A$1:$A$320)),ROW($A106)),COLUMN(C$1)),\"\")","v":""},{"$f":"IFERROR(INDEX(MyProgram!$A$7:$G$326,SMALL(IF(MyProgram!$K$7:$K$326,ROW($A$1:$A$320)),ROW($A106)),COLUMN(D$1)),\"\")","v":""},null,{"$f":"IFERROR(INDEX(MyProgram!$A$7:$G$326,SMALL(IF(MyProgram!$K$7:$K$326,ROW($A$1:$A$320)),ROW($A106)),COLUMN(F$1)),\"\")","v":""}]
[{"$f":"IFERROR(INDEX(MyProgram!$A$7:$G$326,SMALL(IF(MyProgram!$K$7:$K$326,ROW($A$1:$A$320)),ROW($A107)),COLUMN(A$1)),\"\")","v":""},{"$f":"IFERROR(INDEX(MyProgram!$A$7:$G$326,SMALL(IF(MyProgram!$K$7:$K$326,ROW($A$1:$A$320)),ROW($A107)),COLUMN(B$1)),\"\")","v":""},{"$f":"IFERROR(INDEX(MyProgram!$A$7:$G$326,SMALL(IF(MyProgram!$K$7:$K$326,ROW($A$1:$A$320)),ROW($A107)),COLUMN(C$1)),\"\")","v":""},{"$f":"IFERROR(INDEX(MyProgram!$A$7:$G$326,SMALL(IF(MyProgram!$K$7:$K$326,ROW($A$1:$A$320)),ROW($A107)),COLUMN(D$1)),\"\")","v":""},{"$f":"IFERROR(INDEX(MyProgram!$A$7:$G$326,SMALL(IF(MyProgram!$K$7:$K$326,ROW($A$1:$A$320)),ROW($A107)),COLUMN(E$1)),\"\")","v":""},{"$f":"IFERROR(INDEX(MyProgram!$A$7:$G$326,SMALL(IF(MyProgram!$K$7:$K$326,ROW($A$1:$A$320)),ROW($A107)),COLUMN(F$1)),\"\")","v":""},{"$f":"IFERROR(INDEX(MyProgram!$A$7:$G$326,SMALL(IF(MyProgram!$K$7:$K$326,ROW($A$1:$A$320)),ROW($A107)),COLUMN(G$1)),\"\")","v":""}]
[null,{"$f":"IFERROR(INDEX(MyProgram!$A$7:$G$326,SMALL(IF(MyProgram!$K$7:$K$326,ROW($A$1:$A$320)),ROW($A108)),COLUMN(B$1)),\"\")","v":""},{"$f":"IFERROR(INDEX(MyProgram!$A$7:$G$326,SMALL(IF(MyProgram!$K$7:$K$326,ROW($A$1:$A$320)),ROW($A108)),COLUMN(C$1)),\"\")","v":""},{"$f":"IFERROR(INDEX(MyProgram!$A$7:$G$326,SMALL(IF(MyProgram!$K$7:$K$326,ROW($A$1:$A$320)),ROW($A108)),COLUMN(D$1)),\"\")","v":""},null,{"$f":"IFERROR(INDEX(MyProgram!$A$7:$G$326,SMALL(IF(MyProgram!$K$7:$K$326,ROW($A$1:$A$320)),ROW($A108)),COLUMN(F$1)),\"\")","v":""}]
[{"$f":"IFERROR(INDEX(MyProgram!$A$7:$G$326,SMALL(IF(MyProgram!$K$7:$K$326,ROW($A$1:$A$320)),ROW($A109)),COLUMN(A$1)),\"\")","v":""},{"$f":"IFERROR(INDEX(MyProgram!$A$7:$G$326,SMALL(IF(MyProgram!$K$7:$K$326,ROW($A$1:$A$320)),ROW($A109)),COLUMN(B$1)),\"\")","v":""},{"$f":"IFERROR(INDEX(MyProgram!$A$7:$G$326,SMALL(IF(MyProgram!$K$7:$K$326,ROW($A$1:$A$320)),ROW($A109)),COLUMN(C$1)),\"\")","v":""},{"$f":"IFERROR(INDEX(MyProgram!$A$7:$G$326,SMALL(IF(MyProgram!$K$7:$K$326,ROW($A$1:$A$320)),ROW($A109)),COLUMN(D$1)),\"\")","v":""},{"$f":"IFERROR(INDEX(MyProgram!$A$7:$G$326,SMALL(IF(MyProgram!$K$7:$K$326,ROW($A$1:$A$320)),ROW($A109)),COLUMN(E$1)),\"\")","v":""},{"$f":"IFERROR(INDEX(MyProgram!$A$7:$G$326,SMALL(IF(MyProgram!$K$7:$K$326,ROW($A$1:$A$320)),ROW($A109)),COLUMN(F$1)),\"\")","v":""},{"$f":"IFERROR(INDEX(MyProgram!$A$7:$G$326,SMALL(IF(MyProgram!$K$7:$K$326,ROW($A$1:$A$320)),ROW($A109)),COLUMN(G$1)),\"\")","v":""}]
[null,{"$f":"IFERROR(INDEX(MyProgram!$A$7:$G$326,SMALL(IF(MyProgram!$K$7:$K$326,ROW($A$1:$A$320)),ROW($A110)),COLUMN(B$1)),\"\")","v":""},{"$f":"IFERROR(INDEX(MyProgram!$A$7:$G$326,SMALL(IF(MyProgram!$K$7:$K$326,ROW($A$1:$A$320)),ROW($A110)),COLUMN(C$1)),\"\")","v":""},{"$f":"IFERROR(INDEX(MyProgram!$A$7:$G$326,SMALL(IF(MyProgram!$K$7:$K$326,ROW($A$1:$A$320)),ROW($A110)),COLUMN(D$1)),\"\")","v":""},null,{"$f":"IFERROR(INDEX(MyProgram!$A$7:$G$326,SMALL(IF(MyProgram!$K$7:$K$326,ROW($A$1:$A$320)),ROW($A110)),COLUMN(F$1)),\"\")","v":""}]
[{"$f":"IFERROR(INDEX(MyProgram!$A$7:$G$326,SMALL(IF(MyProgram!$K$7:$K$326,ROW($A$1:$A$320)),ROW($A111)),COLUMN(A$1)),\"\")","v":""},{"$f":"IFERROR(INDEX(MyProgram!$A$7:$G$326,SMALL(IF(MyProgram!$K$7:$K$326,ROW($A$1:$A$320)),ROW($A111)),COLUMN(B$1)),\"\")","v":""},{"$f":"IFERROR(INDEX(MyProgram!$A$7:$G$326,SMALL(IF(MyProgram!$K$7:$K$326,ROW($A$1:$A$320)),ROW($A111)),COLUMN(C$1)),\"\")","v":""},{"$f":"IFERROR(INDEX(MyProgram!$A$7:$G$326,SMALL(IF(MyProgram!$K$7:$K$326,ROW($A$1:$A$320)),ROW($A111)),COLUMN(D$1)),\"\")","v":""},{"$f":"IFERROR(INDEX(MyProgram!$A$7:$G$326,SMALL(IF(MyProgram!$K$7:$K$326,ROW($A$1:$A$320)),ROW($A111)),COLUMN(E$1)),\"\")","v":""},{"$f":"IFERROR(INDEX(MyProgram!$A$7:$G$326,SMALL(IF(MyProgram!$K$7:$K$326,ROW($A$1:$A$320)),ROW($A111)),COLUMN(F$1)),\"\")","v":""},{"$f":"IFERROR(INDEX(MyProgram!$A$7:$G$326,SMALL(IF(MyProgram!$K$7:$K$326,ROW($A$1:$A$320)),ROW($A111)),COLUMN(G$1)),\"\")","v":""}]
[null,{"$f":"IFERROR(INDEX(MyProgram!$A$7:$G$326,SMALL(IF(MyProgram!$K$7:$K$326,ROW($A$1:$A$320)),ROW($A112)),COLUMN(B$1)),\"\")","v":""},{"$f":"IFERROR(INDEX(MyProgram!$A$7:$G$326,SMALL(IF(MyProgram!$K$7:$K$326,ROW($A$1:$A$320)),ROW($A112)),COLUMN(C$1)),\"\")","v":""},{"$f":"IFERROR(INDEX(MyProgram!$A$7:$G$326,SMALL(IF(MyProgram!$K$7:$K$326,ROW($A$1:$A$320)),ROW($A112)),COLUMN(D$1)),\"\")","v":""},null,{"$f":"IFERROR(INDEX(MyProgram!$A$7:$G$326,SMALL(IF(MyProgram!$K$7:$K$326,ROW($A$1:$A$320)),ROW($A112)),COLUMN(F$1)),\"\")","v":""}]
[{"$f":"IFERROR(INDEX(MyProgram!$A$7:$G$326,SMALL(IF(MyProgram!$K$7:$K$326,ROW($A$1:$A$320)),ROW($A113)),COLUMN(A$1)),\"\")","v":""},{"$f":"IFERROR(INDEX(MyProgram!$A$7:$G$326,SMALL(IF(MyProgram!$K$7:$K$326,ROW($A$1:$A$320)),ROW($A113)),COLUMN(B$1)),\"\")","v":""},{"$f":"IFERROR(INDEX(MyProgram!$A$7:$G$326,SMALL(IF(MyProgram!$K$7:$K$326,ROW($A$1:$A$320)),ROW($A113)),COLUMN(C$1)),\"\")","v":""},{"$f":"IFERROR(INDEX(MyProgram!$A$7:$G$326,SMALL(IF(MyProgram!$K$7:$K$326,ROW($A$1:$A$320)),ROW($A113)),COLUMN(D$1)),\"\")","v":""},{"$f":"IFERROR(INDEX(MyProgram!$A$7:$G$326,SMALL(IF(MyProgram!$K$7:$K$326,ROW($A$1:$A$320)),ROW($A113)),COLUMN(E$1)),\"\")","v":""},{"$f":"IFERROR(INDEX(MyProgram!$A$7:$G$326,SMALL(IF(MyProgram!$K$7:$K$326,ROW($A$1:$A$320)),ROW($A113)),COLUMN(F$1)),\"\")","v":""},{"$f":"IFERROR(INDEX(MyProgram!$A$7:$G$326,SMALL(IF(MyProgram!$K$7:$K$326,ROW($A$1:$A$320)),ROW($A113)),COLUMN(G$1)),\"\")","v":""}]
[null,{"$f":"IFERROR(INDEX(MyProgram!$A$7:$G$326,SMALL(IF(MyProgram!$K$7:$K$326,ROW($A$1:$A$320)),ROW($A114)),COLUMN(B$1)),\"\")","v":""},{"$f":"IFERROR(INDEX(MyProgram!$A$7:$G$326,SMALL(IF(MyProgram!$K$7:$K$326,ROW($A$1:$A$320)),ROW($A114)),COLUMN(C$1)),\"\")","v":""},{"$f":"IFERROR(INDEX(MyProgram!$A$7:$G$326,SMALL(IF(MyProgram!$K$7:$K$326,ROW($A$1:$A$320)),ROW($A114)),COLUMN(D$1)),\"\")","v":""},null,{"$f":"IFERROR(INDEX(MyProgram!$A$7:$G$326,SMALL(IF(MyProgram!$K$7:$K$326,ROW($A$1:$A$320)),ROW($A114)),COLUMN(F$1)),\"\")","v":""}]
[{"$f":"IFERROR(INDEX(MyProgram!$A$7:$G$326,SMALL(IF(MyProgram!$K$7:$K$326,ROW($A$1:$A$320)),ROW($A115)),COLUMN(A$1)),\"\")","v":""},{"$f":"IFERROR(INDEX(MyProgram!$A$7:$G$326,SMALL(IF(MyProgram!$K$7:$K$326,ROW($A$1:$A$320)),ROW($A115)),COLUMN(B$1)),\"\")","v":""},{"$f":"IFERROR(INDEX(MyProgram!$A$7:$G$326,SMALL(IF(MyProgram!$K$7:$K$326,ROW($A$1:$A$320)),ROW($A115)),COLUMN(C$1)),\"\")","v":""},{"$f":"IFERROR(INDEX(MyProgram!$A$7:$G$326,SMALL(IF(MyProgram!$K$7:$K$326,ROW($A$1:$A$320)),ROW($A115)),COLUMN(D$1)),\"\")","v":""},{"$f":"IFERROR(INDEX(MyProgram!$A$7:$G$326,SMALL(IF(MyProgram!$K$7:$K$326,ROW($A$1:$A$320)),ROW($A115)),COLUMN(E$1)),\"\")","v":""},{"$f":"IFERROR(INDEX(MyProgram!$A$7:$G$326,SMALL(IF(MyProgram!$K$7:$K$326,ROW($A$1:$A$320)),ROW($A115)),COLUMN(F$1)),\"\")","v":""},{"$f":"IFERROR(INDEX(MyProgram!$A$7:$G$326,SMALL(IF(MyProgram!$K$7:$K$326,ROW($A$1:$A$320)),ROW($A115)),COLUMN(G$1)),\"\")","v":""}]
[null,{"$f":"IFERROR(INDEX(MyProgram!$A$7:$G$326,SMALL(IF(MyProgram!$K$7:$K$326,ROW($A$1:$A$320)),ROW($A116)),COLUMN(B$1)),\"\")","v":""},{"$f":"IFERROR(INDEX(MyProgram!$A$7:$G$326,SMALL(IF(MyProgram!$K$7:$K$326,ROW($A$1:$A$320)),ROW($A116)),COLUMN(C$1)),\"\")","v":""},{"$f":"IFERROR(INDEX(MyProgram!$A$7:$G$326,SMALL(IF(MyProgram!$K$7:$K$326,ROW($A$1:$A$320)),ROW($A116)),COLUMN(D$1)),\"\")","v":""},null,{"$f":"IFERROR(INDEX(MyProgram!$A$7:$G$326,SMALL(IF(MyProgram!$K$7:$K$326,ROW($A$1:$A$320)),ROW($A116)),COLUMN(F$1)),\"\")","v":""}]
[{"$f":"IFERROR(INDEX(MyProgram!$A$7:$G$326,SMALL(IF(MyProgram!$K$7:$K$326,ROW($A$1:$A$320)),ROW($A117)),COLUMN(A$1)),\"\")","v":""},{"$f":"IFERROR(INDEX(MyProgram!$A$7:$G$326,SMALL(IF(MyProgram!$K$7:$K$326,ROW($A$1:$A$320)),ROW($A117)),COLUMN(B$1)),\"\")","v":""},{"$f":"IFERROR(INDEX(MyProgram!$A$7:$G$326,SMALL(IF(MyProgram!$K$7:$K$326,ROW($A$1:$A$320)),ROW($A117)),COLUMN(C$1)),\"\")","v":""},{"$f":"IFERROR(INDEX(MyProgram!$A$7:$G$326,SMALL(IF(MyProgram!$K$7:$K$326,ROW($A$1:$A$320)),ROW($A117)),COLUMN(D$1)),\"\")","v":""},{"$f":"IFERROR(INDEX(MyProgram!$A$7:$G$326,SMALL(IF(MyProgram!$K$7:$K$326,ROW($A$1:$A$320)),ROW($A117)),COLUMN(E$1)),\"\")","v":""},{"$f":"IFERROR(INDEX(MyProgram!$A$7:$G$326,SMALL(IF(MyProgram!$K$7:$K$326,ROW($A$1:$A$320)),ROW($A117)),COLUMN(F$1)),\"\")","v":""},{"$f":"IFERROR(INDEX(MyProgram!$A$7:$G$326,SMALL(IF(MyProgram!$K$7:$K$326,ROW($A$1:$A$320)),ROW($A117)),COLUMN(G$1)),\"\")","v":""}]
[null,{"$f":"IFERROR(INDEX(MyProgram!$A$7:$G$326,SMALL(IF(MyProgram!$K$7:$K$326,ROW($A$1:$A$320)),ROW($A118)),COLUMN(B$1)),\"\")","v":""},{"$f":"IFERROR(INDEX(MyProgram!$A$7:$G$326,SMALL(IF(MyProgram!$K$7:$K$326,ROW($A$1:$A$320)),ROW($A118)),COLUMN(C$1)),\"\")","v":""},{"$f":"IFERROR(INDEX(MyProgram!$A$7:$G$326,SMALL(IF(MyProgram!$K$7:$K$326,ROW($A$1:$A$320)),ROW($A118)),COLUMN(D$1)),\"\")","v":""},null,{"$f":"IFERROR(INDEX(MyProgram!$A$7:$G$326,SMALL(IF(MyProgram!$K$7:$K$326,ROW($A$1:$A$320)),ROW($A118)),COLUMN(F$1)),\"\")","v":""}]
[{"$f":"IFERROR(INDEX(MyProgram!$A$7:$G$326,SMALL(IF(MyProgram!$K$7:$K$326,ROW($A$1:$A$320)),ROW($A119)),COLUMN(A$1)),\"\")","v":""},{"$f":"IFERROR(INDEX(MyProgram!$A$7:$G$326,SMALL(IF(MyProgram!$K$7:$K$326,ROW($A$1:$A$320)),ROW($A119)),COLUMN(B$1)),\"\")","v":""},{"$f":"IFERROR(INDEX(MyProgram!$A$7:$G$326,SMALL(IF(MyProgram!$K$7:$K$326,ROW($A$1:$A$320)),ROW($A119)),COLUMN(C$1)),\"\")","v":""},{"$f":"IFERROR(INDEX(MyProgram!$A$7:$G$326,SMALL(IF(MyProgram!$K$7:$K$326,ROW($A$1:$A$320)),ROW($A119)),COLUMN(D$1)),\"\")","v":""},{"$f":"IFERROR(INDEX(MyProgram!$A$7:$G$326,SMALL(IF(MyProgram!$K$7:$K$326,ROW($A$1:$A$320)),ROW($A119)),COLUMN(E$1)),\"\")","v":""},{"$f":"IFERROR(INDEX(MyProgram!$A$7:$G$326,SMALL(IF(MyProgram!$K$7:$K$326,ROW($A$1:$A$320)),ROW($A119)),COLUMN(F$1)),\"\")","v":""},{"$f":"IFERROR(INDEX(MyProgram!$A$7:$G$326,SMALL(IF(MyProgram!$K$7:$K$326,ROW($A$1:$A$320)),ROW($A119)),COLUMN(G$1)),\"\")","v":""}]
[null,{"$f":"IFERROR(INDEX(MyProgram!$A$7:$G$326,SMALL(IF(MyProgram!$K$7:$K$326,ROW($A$1:$A$320)),ROW($A120)),COLUMN(B$1)),\"\")","v":""},{"$f":"IFERROR(INDEX(MyProgram!$A$7:$G$326,SMALL(IF(MyProgram!$K$7:$K$326,ROW($A$1:$A$320)),ROW($A120)),COLUMN(C$1)),\"\")","v":""},{"$f":"IFERROR(INDEX(MyProgram!$A$7:$G$326,SMALL(IF(MyProgram!$K$7:$K$326,ROW($A$1:$A$320)),ROW($A120)),COLUMN(D$1)),\"\")","v":""},null,{"$f":"IFERROR(INDEX(MyProgram!$A$7:$G$326,SMALL(IF(MyProgram!$K$7:$K$326,ROW($A$1:$A$320)),ROW($A120)),COLUMN(F$1)),\"\")","v":""}]
[{"$f":"IFERROR(INDEX(MyProgram!$A$7:$G$326,SMALL(IF(MyProgram!$K$7:$K$326,ROW($A$1:$A$320)),ROW($A121)),COLUMN(A$1)),\"\")","v":""},{"$f":"IFERROR(INDEX(MyProgram!$A$7:$G$326,SMALL(IF(MyProgram!$K$7:$K$326,ROW($A$1:$A$320)),ROW($A121)),COLUMN(B$1)),\"\")","v":""},{"$f":"IFERROR(INDEX(MyProgram!$A$7:$G$326,SMALL(IF(MyProgram!$K$7:$K$326,ROW($A$1:$A$320)),ROW($A121)),COLUMN(C$1)),\"\")","v":""},{"$f":"IFERROR(INDEX(MyProgram!$A$7:$G$326,SMALL(IF(MyProgram!$K$7:$K$326,ROW($A$1:$A$320)),ROW($A121)),COLUMN(D$1)),\"\")","v":""},{"$f":"IFERROR(INDEX(MyProgram!$A$7:$G$326,SMALL(IF(MyProgram!$K$7:$K$326,ROW($A$1:$A$320)),ROW($A121)),COLUMN(E$1)),\"\")","v":""},{"$f":"IFERROR(INDEX(MyProgram!$A$7:$G$326,SMALL(IF(MyProgram!$K$7:$K$326,ROW($A$1:$A$320)),ROW($A121)),COLUMN(F$1)),\"\")","v":""},{"$f":"IFERROR(INDEX(MyProgram!$A$7:$G$326,SMALL(IF(MyProgram!$K$7:$K$326,ROW($A$1:$A$320)),ROW($A121)),COLUMN(G$1)),\"\")","v":""}]
[null,{"$f":"IFERROR(INDEX(MyProgram!$A$7:$G$326,SMALL(IF(MyProgram!$K$7:$K$326,ROW($A$1:$A$320)),ROW($A122)),COLUMN(B$1)),\"\")","v":""},{"$f":"IFERROR(INDEX(MyProgram!$A$7:$G$326,SMALL(IF(MyProgram!$K$7:$K$326,ROW($A$1:$A$320)),ROW($A122)),COLUMN(C$1)),\"\")","v":""},{"$f":"IFERROR(INDEX(MyProgram!$A$7:$G$326,SMALL(IF(MyProgram!$K$7:$K$326,ROW($A$1:$A$320)),ROW($A122)),COLUMN(D$1)),\"\")","v":""},null,{"$f":"IFERROR(INDEX(MyProgram!$A$7:$G$326,SMALL(IF(MyProgram!$K$7:$K$326,ROW($A$1:$A$320)),ROW($A122)),COLUMN(F$1)),\"\")","v":""}]
[{"$f":"IFERROR(INDEX(MyProgram!$A$7:$G$326,SMALL(IF(MyProgram!$K$7:$K$326,ROW($A$1:$A$320)),ROW($A123)),COLUMN(A$1)),\"\")","v":""},{"$f":"IFERROR(INDEX(MyProgram!$A$7:$G$326,SMALL(IF(MyProgram!$K$7:$K$326,ROW($A$1:$A$320)),ROW($A123)),COLUMN(B$1)),\"\")","v":""},{"$f":"IFERROR(INDEX(MyProgram!$A$7:$G$326,SMALL(IF(MyProgram!$K$7:$K$326,ROW($A$1:$A$320)),ROW($A123)),COLUMN(C$1)),\"\")","v":""},{"$f":"IFERROR(INDEX(MyProgram!$A$7:$G$326,SMALL(IF(MyProgram!$K$7:$K$326,ROW($A$1:$A$320)),ROW($A123)),COLUMN(D$1)),\"\")","v":""},{"$f":"IFERROR(INDEX(MyProgram!$A$7:$G$326,SMALL(IF(MyProgram!$K$7:$K$326,ROW($A$1:$A$320)),ROW($A123)),COLUMN(E$1)),\"\")","v":""},{"$f":"IFERROR(INDEX(MyProgram!$A$7:$G$326,SMALL(IF(MyProgram!$K$7:$K$326,ROW($A$1:$A$320)),ROW($A123)),COLUMN(F$1)),\"\")","v":""},{"$f":"IFERROR(INDEX(MyProgram!$A$7:$G$326,SMALL(IF(MyProgram!$K$7:$K$326,ROW($A$1:$A$320)),ROW($A123)),COLUMN(G$1)),\"\")","v":""}]
[null,{"$f":"IFERROR(INDEX(MyProgram!$A$7:$G$326,SMALL(IF(MyProgram!$K$7:$K$326,ROW($A$1:$A$320)),ROW($A124)),COLUMN(B$1)),\"\")","v":""},{"$f":"IFERROR(INDEX(MyProgram!$A$7:$G$326,SMALL(IF(MyProgram!$K$7:$K$326,ROW($A$1:$A$320)),ROW($A124)),COLUMN(C$1)),\"\")","v":""},{"$f":"IFERROR(INDEX(MyProgram!$A$7:$G$326,SMALL(IF(MyProgram!$K$7:$K$326,ROW($A$1:$A$320)),ROW($A124)),COLUMN(D$1)),\"\")","v":""},null,{"$f":"IFERROR(INDEX(MyProgram!$A$7:$G$326,SMALL(IF(MyProgram!$K$7:$K$326,ROW($A$1:$A$320)),ROW($A124)),COLUMN(F$1)),\"\")","v":""}]
[{"$f":"IFERROR(INDEX(MyProgram!$A$7:$G$326,SMALL(IF(MyProgram!$K$7:$K$326,ROW($A$1:$A$320)),ROW($A125)),COLUMN(A$1)),\"\")","v":""},{"$f":"IFERROR(INDEX(MyProgram!$A$7:$G$326,SMALL(IF(MyProgram!$K$7:$K$326,ROW($A$1:$A$320)),ROW($A125)),COLUMN(B$1)),\"\")","v":""},{"$f":"IFERROR(INDEX(MyProgram!$A$7:$G$326,SMALL(IF(MyProgram!$K$7:$K$326,ROW($A$1:$A$320)),ROW($A125)),COLUMN(C$1)),\"\")","v":""},{"$f":"IFERROR(INDEX(MyProgram!$A$7:$G$326,SMALL(IF(MyProgram!$K$7:$K$326,ROW($A$1:$A$320)),ROW($A125)),COLUMN(D$1)),\"\")","v":""},{"$f":"IFERROR(INDEX(MyProgram!$A$7:$G$326,SMALL(IF(MyProgram!$K$7:$K$326,ROW($A$1:$A$320)),ROW($A125)),COLUMN(E$1)),\"\")","v":""},{"$f":"IFERROR(INDEX(MyProgram!$A$7:$G$326,SMALL(IF(MyProgram!$K$7:$K$326,ROW($A$1:$A$320)),ROW($A125)),COLUMN(F$1)),\"\")","v":""},{"$f":"IFERROR(INDEX(MyProgram!$A$7:$G$326,SMALL(IF(MyProgram!$K$7:$K$326,ROW($A$1:$A$320)),ROW($A125)),COLUMN(G$1)),\"\")","v":""}]
[null,{"$f":"IFERROR(INDEX(MyProgram!$A$7:$G$326,SMALL(IF(MyProgram!$K$7:$K$326,ROW($A$1:$A$320)),ROW($A126)),COLUMN(B$1)),\"\")","v":""},{"$f":"IFERROR(INDEX(MyProgram!$A$7:$G$326,SMALL(IF(MyProgram!$K$7:$K$326,ROW($A$1:$A$320)),ROW($A126)),COLUMN(C$1)),\"\")","v":""},{"$f":"IFERROR(INDEX(MyProgram!$A$7:$G$326,SMALL(IF(MyProgram!$K$7:$K$326,ROW($A$1:$A$320)),ROW($A126)),COLUMN(D$1)),\"\")","v":""},null,{"$f":"IFERROR(INDEX(MyProgram!$A$7:$G$326,SMALL(IF(MyProgram!$K$7:$K$326,ROW($A$1:$A$320)),ROW($A126)),COLUMN(F$1)),\"\")","v":""}]
[{"$f":"IFERROR(INDEX(MyProgram!$A$7:$G$326,SMALL(IF(MyProgram!$K$7:$K$326,ROW($A$1:$A$320)),ROW($A127)),COLUMN(A$1)),\"\")","v":""},{"$f":"IFERROR(INDEX(MyProgram!$A$7:$G$326,SMALL(IF(MyProgram!$K$7:$K$326,ROW($A$1:$A$320)),ROW($A127)),COLUMN(B$1)),\"\")","v":""},{"$f":"IFERROR(INDEX(MyProgram!$A$7:$G$326,SMALL(IF(MyProgram!$K$7:$K$326,ROW($A$1:$A$320)),ROW($A127)),COLUMN(C$1)),\"\")","v":""},{"$f":"IFERROR(INDEX(MyProgram!$A$7:$G$326,SMALL(IF(MyProgram!$K$7:$K$326,ROW($A$1:$A$320)),ROW($A127)),COLUMN(D$1)),\"\")","v":""},{"$f":"IFERROR(INDEX(MyProgram!$A$7:$G$326,SMALL(IF(MyProgram!$K$7:$K$326,ROW($A$1:$A$320)),ROW($A127)),COLUMN(E$1)),\"\")","v":""},{"$f":"IFERROR(INDEX(MyProgram!$A$7:$G$326,SMALL(IF(MyProgram!$K$7:$K$326,ROW($A$1:$A$320)),ROW($A127)),COLUMN(F$1)),\"\")","v":""},{"$f":"IFERROR(INDEX(MyProgram!$A$7:$G$326,SMALL(IF(MyProgram!$K$7:$K$326,ROW($A$1:$A$320)),ROW($A127)),COLUMN(G$1)),\"\")","v":""}]
[null,{"$f":"IFERROR(INDEX(MyProgram!$A$7:$G$326,SMALL(IF(MyProgram!$K$7:$K$326,ROW($A$1:$A$320)),ROW($A128)),COLUMN(B$1)),\"\")","v":""},{"$f":"IFERROR(INDEX(MyProgram!$A$7:$G$326,SMALL(IF(MyProgram!$K$7:$K$326,ROW($A$1:$A$320)),ROW($A128)),COLUMN(C$1)),\"\")","v":""},{"$f":"IFERROR(INDEX(MyProgram!$A$7:$G$326,SMALL(IF(MyProgram!$K$7:$K$326,ROW($A$1:$A$320)),ROW($A128)),COLUMN(D$1)),\"\")","v":""},null,{"$f":"IFERROR(INDEX(MyProgram!$A$7:$G$326,SMALL(IF(MyProgram!$K$7:$K$326,ROW($A$1:$A$320)),ROW($A128)),COLUMN(F$1)),\"\")","v":""}]
[{"$f":"IFERROR(INDEX(MyProgram!$A$7:$G$326,SMALL(IF(MyProgram!$K$7:$K$326,ROW($A$1:$A$320)),ROW($A129)),COLUMN(A$1)),\"\")","v":""},{"$f":"IFERROR(INDEX(MyProgram!$A$7:$G$326,SMALL(IF(MyProgram!$K$7:$K$326,ROW($A$1:$A$320)),ROW($A129)),COLUMN(B$1)),\"\")","v":""},{"$f":"IFERROR(INDEX(MyProgram!$A$7:$G$326,SMALL(IF(MyProgram!$K$7:$K$326,ROW($A$1:$A$320)),ROW($A129)),COLUMN(C$1)),\"\")","v":""},{"$f":"IFERROR(INDEX(MyProgram!$A$7:$G$326,SMALL(IF(MyProgram!$K$7:$K$326,ROW($A$1:$A$320)),ROW($A129)),COLUMN(D$1)),\"\")","v":""},{"$f":"IFERROR(INDEX(MyProgram!$A$7:$G$326,SMALL(IF(MyProgram!$K$7:$K$326,ROW($A$1:$A$320)),ROW($A129)),COLUMN(E$1)),\"\")","v":""},{"$f":"IFERROR(INDEX(MyProgram!$A$7:$G$326,SMALL(IF(MyProgram!$K$7:$K$326,ROW($A$1:$A$320)),ROW($A129)),COLUMN(F$1)),\"\")","v":""},{"$f":"IFERROR(INDEX(MyProgram!$A$7:$G$326,SMALL(IF(MyProgram!$K$7:$K$326,ROW($A$1:$A$320)),ROW($A129)),COLUMN(G$1)),\"\")","v":""}]
[null,{"$f":"IFERROR(INDEX(MyProgram!$A$7:$G$326,SMALL(IF(MyProgram!$K$7:$K$326,ROW($A$1:$A$320)),ROW($A130)),COLUMN(B$1)),\"\")","v":""},{"$f":"IFERROR(INDEX(MyProgram!$A$7:$G$326,SMALL(IF(MyProgram!$K$7:$K$326,ROW($A$1:$A$320)),ROW($A130)),COLUMN(C$1)),\"\")","v":""},{"$f":"IFERROR(INDEX(MyProgram!$A$7:$G$326,SMALL(IF(MyProgram!$K$7:$K$326,ROW($A$1:$A$320)),ROW($A130)),COLUMN(D$1)),\"\")","v":""},null,{"$f":"IFERROR(INDEX(MyProgram!$A$7:$G$326,SMALL(IF(MyProgram!$K$7:$K$326,ROW($A$1:$A$320)),ROW($A130)),COLUMN(F$1)),\"\")","v":""}]
[{"$f":"IFERROR(INDEX(MyProgram!$A$7:$G$326,SMALL(IF(MyProgram!$K$7:$K$326,ROW($A$1:$A$320)),ROW($A131)),COLUMN(A$1)),\"\")","v":""},{"$f":"IFERROR(INDEX(MyProgram!$A$7:$G$326,SMALL(IF(MyProgram!$K$7:$K$326,ROW($A$1:$A$320)),ROW($A131)),COLUMN(B$1)),\"\")","v":""},{"$f":"IFERROR(INDEX(MyProgram!$A$7:$G$326,SMALL(IF(MyProgram!$K$7:$K$326,ROW($A$1:$A$320)),ROW($A131)),COLUMN(C$1)),\"\")","v":""},{"$f":"IFERROR(INDEX(MyProgram!$A$7:$G$326,SMALL(IF(MyProgram!$K$7:$K$326,ROW($A$1:$A$320)),ROW($A131)),COLUMN(D$1)),\"\")","v":""},{"$f":"IFERROR(INDEX(MyProgram!$A$7:$G$326,SMALL(IF(MyProgram!$K$7:$K$326,ROW($A$1:$A$320)),ROW($A131)),COLUMN(E$1)),\"\")","v":""},{"$f":"IFERROR(INDEX(MyProgram!$A$7:$G$326,SMALL(IF(MyProgram!$K$7:$K$326,ROW($A$1:$A$320)),ROW($A131)),COLUMN(F$1)),\"\")","v":""},{"$f":"IFERROR(INDEX(MyProgram!$A$7:$G$326,SMALL(IF(MyProgram!$K$7:$K$326,ROW($A$1:$A$320)),ROW($A131)),COLUMN(G$1)),\"\")","v":""}]
[null,{"$f":"IFERROR(INDEX(MyProgram!$A$7:$G$326,SMALL(IF(MyProgram!$K$7:$K$326,ROW($A$1:$A$320)),ROW($A132)),COLUMN(B$1)),\"\")","v":""},{"$f":"IFERROR(INDEX(MyProgram!$A$7:$G$326,SMALL(IF(MyProgram!$K$7:$K$326,ROW($A$1:$A$320)),ROW($A132)),COLUMN(C$1)),\"\")","v":""},{"$f":"IFERROR(INDEX(MyProgram!$A$7:$G$326,SMALL(IF(MyProgram!$K$7:$K$326,ROW($A$1:$A$320)),ROW($A132)),COLUMN(D$1)),\"\")","v":""},null,{"$f":"IFERROR(INDEX(MyProgram!$A$7:$G$326,SMALL(IF(MyProgram!$K$7:$K$326,ROW($A$1:$A$320)),ROW($A132)),COLUMN(F$1)),\"\")","v":""}]
[{"$f":"IFERROR(INDEX(MyProgram!$A$7:$G$326,SMALL(IF(MyProgram!$K$7:$K$326,ROW($A$1:$A$320)),ROW($A133)),COLUMN(A$1)),\"\")","v":""},{"$f":"IFERROR(INDEX(MyProgram!$A$7:$G$326,SMALL(IF(MyProgram!$K$7:$K$326,ROW($A$1:$A$320)),ROW($A133)),COLUMN(B$1)),\"\")","v":""},{"$f":"IFERROR(INDEX(MyProgram!$A$7:$G$326,SMALL(IF(MyProgram!$K$7:$K$326,ROW($A$1:$A$320)),ROW($A133)),COLUMN(C$1)),\"\")","v":""},{"$f":"IFERROR(INDEX(MyProgram!$A$7:$G$326,SMALL(IF(MyProgram!$K$7:$K$326,ROW($A$1:$A$320)),ROW($A133)),COLUMN(D$1)),\"\")","v":""},{"$f":"IFERROR(INDEX(MyProgram!$A$7:$G$326,SMALL(IF(MyProgram!$K$7:$K$326,ROW($A$1:$A$320)),ROW($A133)),COLUMN(E$1)),\"\")","v":""},{"$f":"IFERROR(INDEX(MyProgram!$A$7:$G$326,SMALL(IF(MyProgram!$K$7:$K$326,ROW($A$1:$A$320)),ROW($A133)),COLUMN(F$1)),\"\")","v":""},{"$f":"IFERROR(INDEX(MyProgram!$A$7:$G$326,SMALL(IF(MyProgram!$K$7:$K$326,ROW($A$1:$A$320)),ROW($A133)),COLUMN(G$1)),\"\")","v":""}]
[null,{"$f":"IFERROR(INDEX(MyProgram!$A$7:$G$326,SMALL(IF(MyProgram!$K$7:$K$326,ROW($A$1:$A$320)),ROW($A134)),COLUMN(B$1)),\"\")","v":""},{"$f":"IFERROR(INDEX(MyProgram!$A$7:$G$326,SMALL(IF(MyProgram!$K$7:$K$326,ROW($A$1:$A$320)),ROW($A134)),COLUMN(C$1)),\"\")","v":""},{"$f":"IFERROR(INDEX(MyProgram!$A$7:$G$326,SMALL(IF(MyProgram!$K$7:$K$326,ROW($A$1:$A$320)),ROW($A134)),COLUMN(D$1)),\"\")","v":""},null,{"$f":"IFERROR(INDEX(MyProgram!$A$7:$G$326,SMALL(IF(MyProgram!$K$7:$K$326,ROW($A$1:$A$320)),ROW($A134)),COLUMN(F$1)),\"\")","v":""}]
[{"$f":"IFERROR(INDEX(MyProgram!$A$7:$G$326,SMALL(IF(MyProgram!$K$7:$K$326,ROW($A$1:$A$320)),ROW($A135)),COLUMN(A$1)),\"\")","v":""},{"$f":"IFERROR(INDEX(MyProgram!$A$7:$G$326,SMALL(IF(MyProgram!$K$7:$K$326,ROW($A$1:$A$320)),ROW($A135)),COLUMN(B$1)),\"\")","v":""},{"$f":"IFERROR(INDEX(MyProgram!$A$7:$G$326,SMALL(IF(MyProgram!$K$7:$K$326,ROW($A$1:$A$320)),ROW($A135)),COLUMN(C$1)),\"\")","v":""},{"$f":"IFERROR(INDEX(MyProgram!$A$7:$G$326,SMALL(IF(MyProgram!$K$7:$K$326,ROW($A$1:$A$320)),ROW($A135)),COLUMN(D$1)),\"\")","v":""},{"$f":"IFERROR(INDEX(MyProgram!$A$7:$G$326,SMALL(IF(MyProgram!$K$7:$K$326,ROW($A$1:$A$320)),ROW($A135)),COLUMN(E$1)),\"\")","v":""},{"$f":"IFERROR(INDEX(MyProgram!$A$7:$G$326,SMALL(IF(MyProgram!$K$7:$K$326,ROW($A$1:$A$320)),ROW($A135)),COLUMN(F$1)),\"\")","v":""},{"$f":"IFERROR(INDEX(MyProgram!$A$7:$G$326,SMALL(IF(MyProgram!$K$7:$K$326,ROW($A$1:$A$320)),ROW($A135)),COLUMN(G$1)),\"\")","v":""}]
[null,{"$f":"IFERROR(INDEX(MyProgram!$A$7:$G$326,SMALL(IF(MyProgram!$K$7:$K$326,ROW($A$1:$A$320)),ROW($A136)),COLUMN(B$1)),\"\")","v":""},{"$f":"IFERROR(INDEX(MyProgram!$A$7:$G$326,SMALL(IF(MyProgram!$K$7:$K$326,ROW($A$1:$A$320)),ROW($A136)),COLUMN(C$1)),\"\")","v":""},{"$f":"IFERROR(INDEX(MyProgram!$A$7:$G$326,SMALL(IF(MyProgram!$K$7:$K$326,ROW($A$1:$A$320)),ROW($A136)),COLUMN(D$1)),\"\")","v":""},null,{"$f":"IFERROR(INDEX(MyProgram!$A$7:$G$326,SMALL(IF(MyProgram!$K$7:$K$326,ROW($A$1:$A$320)),ROW($A136)),COLUMN(F$1)),\"\")","v":""}]
[{"$f":"IFERROR(INDEX(MyProgram!$A$7:$G$326,SMALL(IF(MyProgram!$K$7:$K$326,ROW($A$1:$A$320)),ROW($A137)),COLUMN(A$1)),\"\")","v":""},{"$f":"IFERROR(INDEX(MyProgram!$A$7:$G$326,SMALL(IF(MyProgram!$K$7:$K$326,ROW($A$1:$A$320)),ROW($A137)),COLUMN(B$1)),\"\")","v":""},{"$f":"IFERROR(INDEX(MyProgram!$A$7:$G$326,SMALL(IF(MyProgram!$K$7:$K$326,ROW($A$1:$A$320)),ROW($A137)),COLUMN(C$1)),\"\")","v":""},{"$f":"IFERROR(INDEX(MyProgram!$A$7:$G$326,SMALL(IF(MyProgram!$K$7:$K$326,ROW($A$1:$A$320)),ROW($A137)),COLUMN(D$1)),\"\")","v":""},{"$f":"IFERROR(INDEX(MyProgram!$A$7:$G$326,SMALL(IF(MyProgram!$K$7:$K$326,ROW($A$1:$A$320)),ROW($A137)),COLUMN(E$1)),\"\")","v":""},{"$f":"IFERROR(INDEX(MyProgram!$A$7:$G$326,SMALL(IF(MyProgram!$K$7:$K$326,ROW($A$1:$A$320)),ROW($A137)),COLUMN(F$1)),\"\")","v":""},{"$f":"IFERROR(INDEX(MyProgram!$A$7:$G$326,SMALL(IF(MyProgram!$K$7:$K$326,ROW($A$1:$A$320)),ROW($A137)),COLUMN(G$1)),\"\")","v":""}]
[null,{"$f":"IFERROR(INDEX(MyProgram!$A$7:$G$326,SMALL(IF(MyProgram!$K$7:$K$326,ROW($A$1:$A$320)),ROW($A138)),COLUMN(B$1)),\"\")","v":""},{"$f":"IFERROR(INDEX(MyProgram!$A$7:$G$326,SMALL(IF(MyProgram!$K$7:$K$326,ROW($A$1:$A$320)),ROW($A138)),COLUMN(C$1)),\"\")","v":""},{"$f":"IFERROR(INDEX(MyProgram!$A$7:$G$326,SMALL(IF(MyProgram!$K$7:$K$326,ROW($A$1:$A$320)),ROW($A138)),COLUMN(D$1)),\"\")","v":""},null,{"$f":"IFERROR(INDEX(MyProgram!$A$7:$G$326,SMALL(IF(MyProgram!$K$7:$K$326,ROW($A$1:$A$320)),ROW($A138)),COLUMN(F$1)),\"\")","v":""}]
[{"$f":"IFERROR(INDEX(MyProgram!$A$7:$G$326,SMALL(IF(MyProgram!$K$7:$K$326,ROW($A$1:$A$320)),ROW($A139)),COLUMN(A$1)),\"\")","v":""},{"$f":"IFERROR(INDEX(MyProgram!$A$7:$G$326,SMALL(IF(MyProgram!$K$7:$K$326,ROW($A$1:$A$320)),ROW($A139)),COLUMN(B$1)),\"\")","v":""},{"$f":"IFERROR(INDEX(MyProgram!$A$7:$G$326,SMALL(IF(MyProgram!$K$7:$K$326,ROW($A$1:$A$320)),ROW($A139)),COLUMN(C$1)),\"\")","v":""},{"$f":"IFERROR(INDEX(MyProgram!$A$7:$G$326,SMALL(IF(MyProgram!$K$7:$K$326,ROW($A$1:$A$320)),ROW($A139)),COLUMN(D$1)),\"\")","v":""},{"$f":"IFERROR(INDEX(MyProgram!$A$7:$G$326,SMALL(IF(MyProgram!$K$7:$K$326,ROW($A$1:$A$320)),ROW($A139)),COLUMN(E$1)),\"\")","v":""},{"$f":"IFERROR(INDEX(MyProgram!$A$7:$G$326,SMALL(IF(MyProgram!$K$7:$K$326,ROW($A$1:$A$320)),ROW($A139)),COLUMN(F$1)),\"\")","v":""},{"$f":"IFERROR(INDEX(MyProgram!$A$7:$G$326,SMALL(IF(MyProgram!$K$7:$K$326,ROW($A$1:$A$320)),ROW($A139)),COLUMN(G$1)),\"\")","v":""}]
[null,{"$f":"IFERROR(INDEX(MyProgram!$A$7:$G$326,SMALL(IF(MyProgram!$K$7:$K$326,ROW($A$1:$A$320)),ROW($A140)),COLUMN(B$1)),\"\")","v":""},{"$f":"IFERROR(INDEX(MyProgram!$A$7:$G$326,SMALL(IF(MyProgram!$K$7:$K$326,ROW($A$1:$A$320)),ROW($A140)),COLUMN(C$1)),\"\")","v":""},{"$f":"IFERROR(INDEX(MyProgram!$A$7:$G$326,SMALL(IF(MyProgram!$K$7:$K$326,ROW($A$1:$A$320)),ROW($A140)),COLUMN(D$1)),\"\")","v":""},null,{"$f":"IFERROR(INDEX(MyProgram!$A$7:$G$326,SMALL(IF(MyProgram!$K$7:$K$326,ROW($A$1:$A$320)),ROW($A140)),COLUMN(F$1)),\"\")","v":""}]
[{"$f":"IFERROR(INDEX(MyProgram!$A$7:$G$326,SMALL(IF(MyProgram!$K$7:$K$326,ROW($A$1:$A$320)),ROW($A141)),COLUMN(A$1)),\"\")","v":""},{"$f":"IFERROR(INDEX(MyProgram!$A$7:$G$326,SMALL(IF(MyProgram!$K$7:$K$326,ROW($A$1:$A$320)),ROW($A141)),COLUMN(B$1)),\"\")","v":""},{"$f":"IFERROR(INDEX(MyProgram!$A$7:$G$326,SMALL(IF(MyProgram!$K$7:$K$326,ROW($A$1:$A$320)),ROW($A141)),COLUMN(C$1)),\"\")","v":""},{"$f":"IFERROR(INDEX(MyProgram!$A$7:$G$326,SMALL(IF(MyProgram!$K$7:$K$326,ROW($A$1:$A$320)),ROW($A141)),COLUMN(D$1)),\"\")","v":""},{"$f":"IFERROR(INDEX(MyProgram!$A$7:$G$326,SMALL(IF(MyProgram!$K$7:$K$326,ROW($A$1:$A$320)),ROW($A141)),COLUMN(E$1)),\"\")","v":""},{"$f":"IFERROR(INDEX(MyProgram!$A$7:$G$326,SMALL(IF(MyProgram!$K$7:$K$326,ROW($A$1:$A$320)),ROW($A141)),COLUMN(F$1)),\"\")","v":""},{"$f":"IFERROR(INDEX(MyProgram!$A$7:$G$326,SMALL(IF(MyProgram!$K$7:$K$326,ROW($A$1:$A$320)),ROW($A141)),COLUMN(G$1)),\"\")","v":""}]
[null,{"$f":"IFERROR(INDEX(MyProgram!$A$7:$G$326,SMALL(IF(MyProgram!$K$7:$K$326,ROW($A$1:$A$320)),ROW($A142)),COLUMN(B$1)),\"\")","v":""},{"$f":"IFERROR(INDEX(MyProgram!$A$7:$G$326,SMALL(IF(MyProgram!$K$7:$K$326,ROW($A$1:$A$320)),ROW($A142)),COLUMN(C$1)),\"\")","v":""},{"$f":"IFERROR(INDEX(MyProgram!$A$7:$G$326,SMALL(IF(MyProgram!$K$7:$K$326,ROW($A$1:$A$320)),ROW($A142)),COLUMN(D$1)),\"\")","v":""},null,{"$f":"IFERROR(INDEX(MyProgram!$A$7:$G$326,SMALL(IF(MyProgram!$K$7:$K$326,ROW($A$1:$A$320)),ROW($A142)),COLUMN(F$1)),\"\")","v":""}]
[{"$f":"IFERROR(INDEX(MyProgram!$A$7:$G$326,SMALL(IF(MyProgram!$K$7:$K$326,ROW($A$1:$A$320)),ROW($A143)),COLUMN(A$1)),\"\")","v":""},{"$f":"IFERROR(INDEX(MyProgram!$A$7:$G$326,SMALL(IF(MyProgram!$K$7:$K$326,ROW($A$1:$A$320)),ROW($A143)),COLUMN(B$1)),\"\")","v":""},{"$f":"IFERROR(INDEX(MyProgram!$A$7:$G$326,SMALL(IF(MyProgram!$K$7:$K$326,ROW($A$1:$A$320)),ROW($A143)),COLUMN(C$1)),\"\")","v":""},{"$f":"IFERROR(INDEX(MyProgram!$A$7:$G$326,SMALL(IF(MyProgram!$K$7:$K$326,ROW($A$1:$A$320)),ROW($A143)),COLUMN(D$1)),\"\")","v":""},{"$f":"IFERROR(INDEX(MyProgram!$A$7:$G$326,SMALL(IF(MyProgram!$K$7:$K$326,ROW($A$1:$A$320)),ROW($A143)),COLUMN(E$1)),\"\")","v":""},{"$f":"IFERROR(INDEX(MyProgram!$A$7:$G$326,SMALL(IF(MyProgram!$K$7:$K$326,ROW($A$1:$A$320)),ROW($A143)),COLUMN(F$1)),\"\")","v":""},{"$f":"IFERROR(INDEX(MyProgram!$A$7:$G$326,SMALL(IF(MyProgram!$K$7:$K$326,ROW($A$1:$A$320)),ROW($A143)),COLUMN(G$1)),\"\")","v":""}]
[null,{"$f":"IFERROR(INDEX(MyProgram!$A$7:$G$326,SMALL(IF(MyProgram!$K$7:$K$326,ROW($A$1:$A$320)),ROW($A144)),COLUMN(B$1)),\"\")","v":""},{"$f":"IFERROR(INDEX(MyProgram!$A$7:$G$326,SMALL(IF(MyProgram!$K$7:$K$326,ROW($A$1:$A$320)),ROW($A144)),COLUMN(C$1)),\"\")","v":""},{"$f":"IFERROR(INDEX(MyProgram!$A$7:$G$326,SMALL(IF(MyProgram!$K$7:$K$326,ROW($A$1:$A$320)),ROW($A144)),COLUMN(D$1)),\"\")","v":""},null,{"$f":"IFERROR(INDEX(MyProgram!$A$7:$G$326,SMALL(IF(MyProgram!$K$7:$K$326,ROW($A$1:$A$320)),ROW($A144)),COLUMN(F$1)),\"\")","v":""}]
[{"$f":"IFERROR(INDEX(MyProgram!$A$7:$G$326,SMALL(IF(MyProgram!$K$7:$K$326,ROW($A$1:$A$320)),ROW($A145)),COLUMN(A$1)),\"\")","v":""},{"$f":"IFERROR(INDEX(MyProgram!$A$7:$G$326,SMALL(IF(MyProgram!$K$7:$K$326,ROW($A$1:$A$320)),ROW($A145)),COLUMN(B$1)),\"\")","v":""},{"$f":"IFERROR(INDEX(MyProgram!$A$7:$G$326,SMALL(IF(MyProgram!$K$7:$K$326,ROW($A$1:$A$320)),ROW($A145)),COLUMN(C$1)),\"\")","v":""},{"$f":"IFERROR(INDEX(MyProgram!$A$7:$G$326,SMALL(IF(MyProgram!$K$7:$K$326,ROW($A$1:$A$320)),ROW($A145)),COLUMN(D$1)),\"\")","v":""},{"$f":"IFERROR(INDEX(MyProgram!$A$7:$G$326,SMALL(IF(MyProgram!$K$7:$K$326,ROW($A$1:$A$320)),ROW($A145)),COLUMN(E$1)),\"\")","v":""},{"$f":"IFERROR(INDEX(MyProgram!$A$7:$G$326,SMALL(IF(MyProgram!$K$7:$K$326,ROW($A$1:$A$320)),ROW($A145)),COLUMN(F$1)),\"\")","v":""},{"$f":"IFERROR(INDEX(MyProgram!$A$7:$G$326,SMALL(IF(MyProgram!$K$7:$K$326,ROW($A$1:$A$320)),ROW($A145)),COLUMN(G$1)),\"\")","v":""}]
[null,{"$f":"IFERROR(INDEX(MyProgram!$A$7:$G$326,SMALL(IF(MyProgram!$K$7:$K$326,ROW($A$1:$A$320)),ROW($A146)),COLUMN(B$1)),\"\")","v":""},{"$f":"IFERROR(INDEX(MyProgram!$A$7:$G$326,SMALL(IF(MyProgram!$K$7:$K$326,ROW($A$1:$A$320)),ROW($A146)),COLUMN(C$1)),\"\")","v":""},{"$f":"IFERROR(INDEX(MyProgram!$A$7:$G$326,SMALL(IF(MyProgram!$K$7:$K$326,ROW($A$1:$A$320)),ROW($A146)),COLUMN(D$1)),\"\")","v":""},null,{"$f":"IFERROR(INDEX(MyProgram!$A$7:$G$326,SMALL(IF(MyProgram!$K$7:$K$326,ROW($A$1:$A$320)),ROW($A146)),COLUMN(F$1)),\"\")","v":""}]
[{"$f":"IFERROR(INDEX(MyProgram!$A$7:$G$326,SMALL(IF(MyProgram!$K$7:$K$326,ROW($A$1:$A$320)),ROW($A147)),COLUMN(A$1)),\"\")","v":""},{"$f":"IFERROR(INDEX(MyProgram!$A$7:$G$326,SMALL(IF(MyProgram!$K$7:$K$326,ROW($A$1:$A$320)),ROW($A147)),COLUMN(B$1)),\"\")","v":""},{"$f":"IFERROR(INDEX(MyProgram!$A$7:$G$326,SMALL(IF(MyProgram!$K$7:$K$326,ROW($A$1:$A$320)),ROW($A147)),COLUMN(C$1)),\"\")","v":""},{"$f":"IFERROR(INDEX(MyProgram!$A$7:$G$326,SMALL(IF(MyProgram!$K$7:$K$326,ROW($A$1:$A$320)),ROW($A147)),COLUMN(D$1)),\"\")","v":""},{"$f":"IFERROR(INDEX(MyProgram!$A$7:$G$326,SMALL(IF(MyProgram!$K$7:$K$326,ROW($A$1:$A$320)),ROW($A147)),COLUMN(E$1)),\"\")","v":""},{"$f":"IFERROR(INDEX(MyProgram!$A$7:$G$326,SMALL(IF(MyProgram!$K$7:$K$326,ROW($A$1:$A$320)),ROW($A147)),COLUMN(F$1)),\"\")","v":""},{"$f":"IFERROR(INDEX(MyProgram!$A$7:$G$326,SMALL(IF(MyProgram!$K$7:$K$326,ROW($A$1:$A$320)),ROW($A147)),COLUMN(G$1)),\"\")","v":""}]
[null,{"$f":"IFERROR(INDEX(MyProgram!$A$7:$G$326,SMALL(IF(MyProgram!$K$7:$K$326,ROW($A$1:$A$320)),ROW($A148)),COLUMN(B$1)),\"\")","v":""},{"$f":"IFERROR(INDEX(MyProgram!$A$7:$G$326,SMALL(IF(MyProgram!$K$7:$K$326,ROW($A$1:$A$320)),ROW($A148)),COLUMN(C$1)),\"\")","v":""},{"$f":"IFERROR(INDEX(MyProgram!$A$7:$G$326,SMALL(IF(MyProgram!$K$7:$K$326,ROW($A$1:$A$320)),ROW($A148)),COLUMN(D$1)),\"\")","v":""},null,{"$f":"IFERROR(INDEX(MyProgram!$A$7:$G$326,SMALL(IF(MyProgram!$K$7:$K$326,ROW($A$1:$A$320)),ROW($A148)),COLUMN(F$1)),\"\")","v":""}]
[{"$f":"IFERROR(INDEX(MyProgram!$A$7:$G$326,SMALL(IF(MyProgram!$K$7:$K$326,ROW($A$1:$A$320)),ROW($A149)),COLUMN(A$1)),\"\")","v":""},{"$f":"IFERROR(INDEX(MyProgram!$A$7:$G$326,SMALL(IF(MyProgram!$K$7:$K$326,ROW($A$1:$A$320)),ROW($A149)),COLUMN(B$1)),\"\")","v":""},{"$f":"IFERROR(INDEX(MyProgram!$A$7:$G$326,SMALL(IF(MyProgram!$K$7:$K$326,ROW($A$1:$A$320)),ROW($A149)),COLUMN(C$1)),\"\")","v":""},{"$f":"IFERROR(INDEX(MyProgram!$A$7:$G$326,SMALL(IF(MyProgram!$K$7:$K$326,ROW($A$1:$A$320)),ROW($A149)),COLUMN(D$1)),\"\")","v":""},{"$f":"IFERROR(INDEX(MyProgram!$A$7:$G$326,SMALL(IF(MyProgram!$K$7:$K$326,ROW($A$1:$A$320)),ROW($A149)),COLUMN(E$1)),\"\")","v":""},{"$f":"IFERROR(INDEX(MyProgram!$A$7:$G$326,SMALL(IF(MyProgram!$K$7:$K$326,ROW($A$1:$A$320)),ROW($A149)),COLUMN(F$1)),\"\")","v":""},{"$f":"IFERROR(INDEX(MyProgram!$A$7:$G$326,SMALL(IF(MyProgram!$K$7:$K$326,ROW($A$1:$A$320)),ROW($A149)),COLUMN(G$1)),\"\")","v":""}]
[null,{"$f":"IFERROR(INDEX(MyProgram!$A$7:$G$326,SMALL(IF(MyProgram!$K$7:$K$326,ROW($A$1:$A$320)),ROW($A150)),COLUMN(B$1)),\"\")","v":""},{"$f":"IFERROR(INDEX(MyProgram!$A$7:$G$326,SMALL(IF(MyProgram!$K$7:$K$326,ROW($A$1:$A$320)),ROW($A150)),COLUMN(C$1)),\"\")","v":""},{"$f":"IFERROR(INDEX(MyProgram!$A$7:$G$326,SMALL(IF(MyProgram!$K$7:$K$326,ROW($A$1:$A$320)),ROW($A150)),COLUMN(D$1)),\"\")","v":""},null,{"$f":"IFERROR(INDEX(MyProgram!$A$7:$G$326,SMALL(IF(MyProgram!$K$7:$K$326,ROW($A$1:$A$320)),ROW($A150)),COLUMN(F$1)),\"\")","v":""}]
[{"$f":"IFERROR(INDEX(MyProgram!$A$7:$G$326,SMALL(IF(MyProgram!$K$7:$K$326,ROW($A$1:$A$320)),ROW($A151)),COLUMN(A$1)),\"\")","v":""},{"$f":"IFERROR(INDEX(MyProgram!$A$7:$G$326,SMALL(IF(MyProgram!$K$7:$K$326,ROW($A$1:$A$320)),ROW($A151)),COLUMN(B$1)),\"\")","v":""},{"$f":"IFERROR(INDEX(MyProgram!$A$7:$G$326,SMALL(IF(MyProgram!$K$7:$K$326,ROW($A$1:$A$320)),ROW($A151)),COLUMN(C$1)),\"\")","v":""},{"$f":"IFERROR(INDEX(MyProgram!$A$7:$G$326,SMALL(IF(MyProgram!$K$7:$K$326,ROW($A$1:$A$320)),ROW($A151)),COLUMN(D$1)),\"\")","v":""},{"$f":"IFERROR(INDEX(MyProgram!$A$7:$G$326,SMALL(IF(MyProgram!$K$7:$K$326,ROW($A$1:$A$320)),ROW($A151)),COLUMN(E$1)),\"\")","v":""},{"$f":"IFERROR(INDEX(MyProgram!$A$7:$G$326,SMALL(IF(MyProgram!$K$7:$K$326,ROW($A$1:$A$320)),ROW($A151)),COLUMN(F$1)),\"\")","v":""},{"$f":"IFERROR(INDEX(MyProgram!$A$7:$G$326,SMALL(IF(MyProgram!$K$7:$K$326,ROW($A$1:$A$320)),ROW($A151)),COLUMN(G$1)),\"\")","v":""}]
[null,{"$f":"IFERROR(INDEX(MyProgram!$A$7:$G$326,SMALL(IF(MyProgram!$K$7:$K$326,ROW($A$1:$A$320)),ROW($A152)),COLUMN(B$1)),\"\")","v":""},{"$f":"IFERROR(INDEX(MyProgram!$A$7:$G$326,SMALL(IF(MyProgram!$K$7:$K$326,ROW($A$1:$A$320)),ROW($A152)),COLUMN(C$1)),\"\")","v":""},{"$f":"IFERROR(INDEX(MyProgram!$A$7:$G$326,SMALL(IF(MyProgram!$K$7:$K$326,ROW($A$1:$A$320)),ROW($A152)),COLUMN(D$1)),\"\")","v":""},null,{"$f":"IFERROR(INDEX(MyProgram!$A$7:$G$326,SMALL(IF(MyProgram!$K$7:$K$326,ROW($A$1:$A$320)),ROW($A152)),COLUMN(F$1)),\"\")","v":""}]
[{"$f":"IFERROR(INDEX(MyProgram!$A$7:$G$326,SMALL(IF(MyProgram!$K$7:$K$326,ROW($A$1:$A$320)),ROW($A153)),COLUMN(A$1)),\"\")","v":""},{"$f":"IFERROR(INDEX(MyProgram!$A$7:$G$326,SMALL(IF(MyProgram!$K$7:$K$326,ROW($A$1:$A$320)),ROW($A153)),COLUMN(B$1)),\"\")","v":""},{"$f":"IFERROR(INDEX(MyProgram!$A$7:$G$326,SMALL(IF(MyProgram!$K$7:$K$326,ROW($A$1:$A$320)),ROW($A153)),COLUMN(C$1)),\"\")","v":""},{"$f":"IFERROR(INDEX(MyProgram!$A$7:$G$326,SMALL(IF(MyProgram!$K$7:$K$326,ROW($A$1:$A$320)),ROW($A153)),COLUMN(D$1)),\"\")","v":""},{"$f":"IFERROR(INDEX(MyProgram!$A$7:$G$326,SMALL(IF(MyProgram!$K$7:$K$326,ROW($A$1:$A$320)),ROW($A153)),COLUMN(E$1)),\"\")","v":""},{"$f":"IFERROR(INDEX(MyProgram!$A$7:$G$326,SMALL(IF(MyProgram!$K$7:$K$326,ROW($A$1:$A$320)),ROW($A153)),COLUMN(F$1)),\"\")","v":""},{"$f":"IFERROR(INDEX(MyProgram!$A$7:$G$326,SMALL(IF(MyProgram!$K$7:$K$326,ROW($A$1:$A$320)),ROW($A153)),COLUMN(G$1)),\"\")","v":""}]
[null,{"$f":"IFERROR(INDEX(MyProgram!$A$7:$G$326,SMALL(IF(MyProgram!$K$7:$K$326,ROW($A$1:$A$320)),ROW($A154)),COLUMN(B$1)),\"\")","v":""},{"$f":"IFERROR(INDEX(MyProgram!$A$7:$G$326,SMALL(IF(MyProgram!$K$7:$K$326,ROW($A$1:$A$320)),ROW($A154)),COLUMN(C$1)),\"\")","v":""},{"$f":"IFERROR(INDEX(MyProgram!$A$7:$G$326,SMALL(IF(MyProgram!$K$7:$K$326,ROW($A$1:$A$320)),ROW($A154)),COLUMN(D$1)),\"\")","v":""},null,{"$f":"IFERROR(INDEX(MyProgram!$A$7:$G$326,SMALL(IF(MyProgram!$K$7:$K$326,ROW($A$1:$A$320)),ROW($A154)),COLUMN(F$1)),\"\")","v":""}]
[{"$f":"IFERROR(INDEX(MyProgram!$A$7:$G$326,SMALL(IF(MyProgram!$K$7:$K$326,ROW($A$1:$A$320)),ROW($A155)),COLUMN(A$1)),\"\")","v":""},{"$f":"IFERROR(INDEX(MyProgram!$A$7:$G$326,SMALL(IF(MyProgram!$K$7:$K$326,ROW($A$1:$A$320)),ROW($A155)),COLUMN(B$1)),\"\")","v":""},{"$f":"IFERROR(INDEX(MyProgram!$A$7:$G$326,SMALL(IF(MyProgram!$K$7:$K$326,ROW($A$1:$A$320)),ROW($A155)),COLUMN(C$1)),\"\")","v":""},{"$f":"IFERROR(INDEX(MyProgram!$A$7:$G$326,SMALL(IF(MyProgram!$K$7:$K$326,ROW($A$1:$A$320)),ROW($A155)),COLUMN(D$1)),\"\")","v":""},{"$f":"IFERROR(INDEX(MyProgram!$A$7:$G$326,SMALL(IF(MyProgram!$K$7:$K$326,ROW($A$1:$A$320)),ROW($A155)),COLUMN(E$1)),\"\")","v":""},{"$f":"IFERROR(INDEX(MyProgram!$A$7:$G$326,SMALL(IF(MyProgram!$K$7:$K$326,ROW($A$1:$A$320)),ROW($A155)),COLUMN(F$1)),\"\")","v":""},{"$f":"IFERROR(INDEX(MyProgram!$A$7:$G$326,SMALL(IF(MyProgram!$K$7:$K$326,ROW($A$1:$A$320)),ROW($A155)),COLUMN(G$1)),\"\")","v":""}]
[null,{"$f":"IFERROR(INDEX(MyProgram!$A$7:$G$326,SMALL(IF(MyProgram!$K$7:$K$326,ROW($A$1:$A$320)),ROW($A156)),COLUMN(B$1)),\"\")","v":""},{"$f":"IFERROR(INDEX(MyProgram!$A$7:$G$326,SMALL(IF(MyProgram!$K$7:$K$326,ROW($A$1:$A$320)),ROW($A156)),COLUMN(C$1)),\"\")","v":""},{"$f":"IFERROR(INDEX(MyProgram!$A$7:$G$326,SMALL(IF(MyProgram!$K$7:$K$326,ROW($A$1:$A$320)),ROW($A156)),COLUMN(D$1)),\"\")","v":""},null,{"$f":"IFERROR(INDEX(MyProgram!$A$7:$G$326,SMALL(IF(MyProgram!$K$7:$K$326,ROW($A$1:$A$320)),ROW($A156)),COLUMN(F$1)),\"\")","v":""}]
[{"$f":"IFERROR(INDEX(MyProgram!$A$7:$G$326,SMALL(IF(MyProgram!$K$7:$K$326,ROW($A$1:$A$320)),ROW($A157)),COLUMN(A$1)),\"\")","v":""},{"$f":"IFERROR(INDEX(MyProgram!$A$7:$G$326,SMALL(IF(MyProgram!$K$7:$K$326,ROW($A$1:$A$320)),ROW($A157)),COLUMN(B$1)),\"\")","v":""},{"$f":"IFERROR(INDEX(MyProgram!$A$7:$G$326,SMALL(IF(MyProgram!$K$7:$K$326,ROW($A$1:$A$320)),ROW($A157)),COLUMN(C$1)),\"\")","v":""},{"$f":"IFERROR(INDEX(MyProgram!$A$7:$G$326,SMALL(IF(MyProgram!$K$7:$K$326,ROW($A$1:$A$320)),ROW($A157)),COLUMN(D$1)),\"\")","v":""},{"$f":"IFERROR(INDEX(MyProgram!$A$7:$G$326,SMALL(IF(MyProgram!$K$7:$K$326,ROW($A$1:$A$320)),ROW($A157)),COLUMN(E$1)),\"\")","v":""},{"$f":"IFERROR(INDEX(MyProgram!$A$7:$G$326,SMALL(IF(MyProgram!$K$7:$K$326,ROW($A$1:$A$320)),ROW($A157)),COLUMN(F$1)),\"\")","v":""},{"$f":"IFERROR(INDEX(MyProgram!$A$7:$G$326,SMALL(IF(MyProgram!$K$7:$K$326,ROW($A$1:$A$320)),ROW($A157)),COLUMN(G$1)),\"\")","v":""}]
[null,{"$f":"IFERROR(INDEX(MyProgram!$A$7:$G$326,SMALL(IF(MyProgram!$K$7:$K$326,ROW($A$1:$A$320)),ROW($A158)),COLUMN(B$1)),\"\")","v":""},{"$f":"IFERROR(INDEX(MyProgram!$A$7:$G$326,SMALL(IF(MyProgram!$K$7:$K$326,ROW($A$1:$A$320)),ROW($A158)),COLUMN(C$1)),\"\")","v":""},{"$f":"IFERROR(INDEX(MyProgram!$A$7:$G$326,SMALL(IF(MyProgram!$K$7:$K$326,ROW($A$1:$A$320)),ROW($A158)),COLUMN(D$1)),\"\")","v":""},null,{"$f":"IFERROR(INDEX(MyProgram!$A$7:$G$326,SMALL(IF(MyProgram!$K$7:$K$326,ROW($A$1:$A$320)),ROW($A158)),COLUMN(F$1)),\"\")","v":""}]
[{"$f":"IFERROR(INDEX(MyProgram!$A$7:$G$326,SMALL(IF(MyProgram!$K$7:$K$326,ROW($A$1:$A$320)),ROW($A159)),COLUMN(A$1)),\"\")","v":""},{"$f":"IFERROR(INDEX(MyProgram!$A$7:$G$326,SMALL(IF(MyProgram!$K$7:$K$326,ROW($A$1:$A$320)),ROW($A159)),COLUMN(B$1)),\"\")","v":""},{"$f":"IFERROR(INDEX(MyProgram!$A$7:$G$326,SMALL(IF(MyProgram!$K$7:$K$326,ROW($A$1:$A$320)),ROW($A159)),COLUMN(C$1)),\"\")","v":""},{"$f":"IFERROR(INDEX(MyProgram!$A$7:$G$326,SMALL(IF(MyProgram!$K$7:$K$326,ROW($A$1:$A$320)),ROW($A159)),COLUMN(D$1)),\"\")","v":""},{"$f":"IFERROR(INDEX(MyProgram!$A$7:$G$326,SMALL(IF(MyProgram!$K$7:$K$326,ROW($A$1:$A$320)),ROW($A159)),COLUMN(E$1)),\"\")","v":""},{"$f":"IFERROR(INDEX(MyProgram!$A$7:$G$326,SMALL(IF(MyProgram!$K$7:$K$326,ROW($A$1:$A$320)),ROW($A159)),COLUMN(F$1)),\"\")","v":""},{"$f":"IFERROR(INDEX(MyProgram!$A$7:$G$326,SMALL(IF(MyProgram!$K$7:$K$326,ROW($A$1:$A$320)),ROW($A159)),COLUMN(G$1)),\"\")","v":""}]
[null,{"$f":"IFERROR(INDEX(MyProgram!$A$7:$G$326,SMALL(IF(MyProgram!$K$7:$K$326,ROW($A$1:$A$320)),ROW($A160)),COLUMN(B$1)),\"\")","v":""},{"$f":"IFERROR(INDEX(MyProgram!$A$7:$G$326,SMALL(IF(MyProgram!$K$7:$K$326,ROW($A$1:$A$320)),ROW($A160)),COLUMN(C$1)),\"\")","v":""},{"$f":"IFERROR(INDEX(MyProgram!$A$7:$G$326,SMALL(IF(MyProgram!$K$7:$K$326,ROW($A$1:$A$320)),ROW($A160)),COLUMN(D$1)),\"\")","v":""},null,{"$f":"IFERROR(INDEX(MyProgram!$A$7:$G$326,SMALL(IF(MyProgram!$K$7:$K$326,ROW($A$1:$A$320)),ROW($A160)),COLUMN(F$1)),\"\")","v":""}]
[{"$f":"IFERROR(INDEX(MyProgram!$A$7:$G$326,SMALL(IF(MyProgram!$K$7:$K$326,ROW($A$1:$A$320)),ROW($A161)),COLUMN(A$1)),\"\")","v":""},{"$f":"IFERROR(INDEX(MyProgram!$A$7:$G$326,SMALL(IF(MyProgram!$K$7:$K$326,ROW($A$1:$A$320)),ROW($A161)),COLUMN(B$1)),\"\")","v":""},{"$f":"IFERROR(INDEX(MyProgram!$A$7:$G$326,SMALL(IF(MyProgram!$K$7:$K$326,ROW($A$1:$A$320)),ROW($A161)),COLUMN(C$1)),\"\")","v":""},{"$f":"IFERROR(INDEX(MyProgram!$A$7:$G$326,SMALL(IF(MyProgram!$K$7:$K$326,ROW($A$1:$A$320)),ROW($A161)),COLUMN(D$1)),\"\")","v":""},{"$f":"IFERROR(INDEX(MyProgram!$A$7:$G$326,SMALL(IF(MyProgram!$K$7:$K$326,ROW($A$1:$A$320)),ROW($A161)),COLUMN(E$1)),\"\")","v":""},{"$f":"IFERROR(INDEX(MyProgram!$A$7:$G$326,SMALL(IF(MyProgram!$K$7:$K$326,ROW($A$1:$A$320)),ROW($A161)),COLUMN(F$1)),\"\")","v":""},{"$f":"IFERROR(INDEX(MyProgram!$A$7:$G$326,SMALL(IF(MyProgram!$K$7:$K$326,ROW($A$1:$A$320)),ROW($A161)),COLUMN(G$1)),\"\")","v":""}]
[null,{"$f":"IFERROR(INDEX(MyProgram!$A$7:$G$326,SMALL(IF(MyProgram!$K$7:$K$326,ROW($A$1:$A$320)),ROW($A162)),COLUMN(B$1)),\"\")","v":""},{"$f":"IFERROR(INDEX(MyProgram!$A$7:$G$326,SMALL(IF(MyProgram!$K$7:$K$326,ROW($A$1:$A$320)),ROW($A162)),COLUMN(C$1)),\"\")","v":""},{"$f":"IFERROR(INDEX(MyProgram!$A$7:$G$326,SMALL(IF(MyProgram!$K$7:$K$326,ROW($A$1:$A$320)),ROW($A162)),COLUMN(D$1)),\"\")","v":""},null,{"$f":"IFERROR(INDEX(MyProgram!$A$7:$G$326,SMALL(IF(MyProgram!$K$7:$K$326,ROW($A$1:$A$320)),ROW($A162)),COLUMN(F$1)),\"\")","v":""}]
[{"$f":"IFERROR(INDEX(MyProgram!$A$7:$G$326,SMALL(IF(MyProgram!$K$7:$K$326,ROW($A$1:$A$320)),ROW($A163)),COLUMN(A$1)),\"\")","v":""},{"$f":"IFERROR(INDEX(MyProgram!$A$7:$G$326,SMALL(IF(MyProgram!$K$7:$K$326,ROW($A$1:$A$320)),ROW($A163)),COLUMN(B$1)),\"\")","v":""},{"$f":"IFERROR(INDEX(MyProgram!$A$7:$G$326,SMALL(IF(MyProgram!$K$7:$K$326,ROW($A$1:$A$320)),ROW($A163)),COLUMN(C$1)),\"\")","v":""},{"$f":"IFERROR(INDEX(MyProgram!$A$7:$G$326,SMALL(IF(MyProgram!$K$7:$K$326,ROW($A$1:$A$320)),ROW($A163)),COLUMN(D$1)),\"\")","v":""},{"$f":"IFERROR(INDEX(MyProgram!$A$7:$G$326,SMALL(IF(MyProgram!$K$7:$K$326,ROW($A$1:$A$320)),ROW($A163)),COLUMN(E$1)),\"\")","v":""},{"$f":"IFERROR(INDEX(MyProgram!$A$7:$G$326,SMALL(IF(MyProgram!$K$7:$K$326,ROW($A$1:$A$320)),ROW($A163)),COLUMN(F$1)),\"\")","v":""},{"$f":"IFERROR(INDEX(MyProgram!$A$7:$G$326,SMALL(IF(MyProgram!$K$7:$K$326,ROW($A$1:$A$320)),ROW($A163)),COLUMN(G$1)),\"\")","v":""}]
[null,{"$f":"IFERROR(INDEX(MyProgram!$A$7:$G$326,SMALL(IF(MyProgram!$K$7:$K$326,ROW($A$1:$A$320)),ROW($A164)),COLUMN(B$1)),\"\")","v":""},{"$f":"IFERROR(INDEX(MyProgram!$A$7:$G$326,SMALL(IF(MyProgram!$K$7:$K$326,ROW($A$1:$A$320)),ROW($A164)),COLUMN(C$1)),\"\")","v":""},{"$f":"IFERROR(INDEX(MyProgram!$A$7:$G$326,SMALL(IF(MyProgram!$K$7:$K$326,ROW($A$1:$A$320)),ROW($A164)),COLUMN(D$1)),\"\")","v":""},null,{"$f":"IFERROR(INDEX(MyProgram!$A$7:$G$326,SMALL(IF(MyProgram!$K$7:$K$326,ROW($A$1:$A$320)),ROW($A164)),COLUMN(F$1)),\"\")","v":""}]
[{"$f":"IFERROR(INDEX(MyProgram!$A$7:$G$326,SMALL(IF(MyProgram!$K$7:$K$326,ROW($A$1:$A$320)),ROW($A165)),COLUMN(A$1)),\"\")","v":""},{"$f":"IFERROR(INDEX(MyProgram!$A$7:$G$326,SMALL(IF(MyProgram!$K$7:$K$326,ROW($A$1:$A$320)),ROW($A165)),COLUMN(B$1)),\"\")","v":""},{"$f":"IFERROR(INDEX(MyProgram!$A$7:$G$326,SMALL(IF(MyProgram!$K$7:$K$326,ROW($A$1:$A$320)),ROW($A165)),COLUMN(C$1)),\"\")","v":""},{"$f":"IFERROR(INDEX(MyProgram!$A$7:$G$326,SMALL(IF(MyProgram!$K$7:$K$326,ROW($A$1:$A$320)),ROW($A165)),COLUMN(D$1)),\"\")","v":""},{"$f":"IFERROR(INDEX(MyProgram!$A$7:$G$326,SMALL(IF(MyProgram!$K$7:$K$326,ROW($A$1:$A$320)),ROW($A165)),COLUMN(E$1)),\"\")","v":""},{"$f":"IFERROR(INDEX(MyProgram!$A$7:$G$326,SMALL(IF(MyProgram!$K$7:$K$326,ROW($A$1:$A$320)),ROW($A165)),COLUMN(F$1)),\"\")","v":""},{"$f":"IFERROR(INDEX(MyProgram!$A$7:$G$326,SMALL(IF(MyProgram!$K$7:$K$326,ROW($A$1:$A$320)),ROW($A165)),COLUMN(G$1)),\"\")","v":""}]
[null,{"$f":"IFERROR(INDEX(MyProgram!$A$7:$G$326,SMALL(IF(MyProgram!$K$7:$K$326,ROW($A$1:$A$320)),ROW($A166)),COLUMN(B$1)),\"\")","v":""},{"$f":"IFERROR(INDEX(MyProgram!$A$7:$G$326,SMALL(IF(MyProgram!$K$7:$K$326,ROW($A$1:$A$320)),ROW($A166)),COLUMN(C$1)),\"\")","v":""},{"$f":"IFERROR(INDEX(MyProgram!$A$7:$G$326,SMALL(IF(MyProgram!$K$7:$K$326,ROW($A$1:$A$320)),ROW($A166)),COLUMN(D$1)),\"\")","v":""},null,{"$f":"IFERROR(INDEX(MyProgram!$A$7:$G$326,SMALL(IF(MyProgram!$K$7:$K$326,ROW($A$1:$A$320)),ROW($A166)),COLUMN(F$1)),\"\")","v":""}]
[{"$f":"IFERROR(INDEX(MyProgram!$A$7:$G$326,SMALL(IF(MyProgram!$K$7:$K$326,ROW($A$1:$A$320)),ROW($A167)),COLUMN(A$1)),\"\")","v":""},{"$f":"IFERROR(INDEX(MyProgram!$A$7:$G$326,SMALL(IF(MyProgram!$K$7:$K$326,ROW($A$1:$A$320)),ROW($A167)),COLUMN(B$1)),\"\")","v":""},{"$f":"IFERROR(INDEX(MyProgram!$A$7:$G$326,SMALL(IF(MyProgram!$K$7:$K$326,ROW($A$1:$A$320)),ROW($A167)),COLUMN(C$1)),\"\")","v":""},{"$f":"IFERROR(INDEX(MyProgram!$A$7:$G$326,SMALL(IF(MyProgram!$K$7:$K$326,ROW($A$1:$A$320)),ROW($A167)),COLUMN(D$1)),\"\")","v":""},{"$f":"IFERROR(INDEX(MyProgram!$A$7:$G$326,SMALL(IF(MyProgram!$K$7:$K$326,ROW($A$1:$A$320)),ROW($A167)),COLUMN(E$1)),\"\")","v":""},{"$f":"IFERROR(INDEX(MyProgram!$A$7:$G$326,SMALL(IF(MyProgram!$K$7:$K$326,ROW($A$1:$A$320)),ROW($A167)),COLUMN(F$1)),\"\")","v":""},{"$f":"IFERROR(INDEX(MyProgram!$A$7:$G$326,SMALL(IF(MyProgram!$K$7:$K$326,ROW($A$1:$A$320)),ROW($A167)),COLUMN(G$1)),\"\")","v":""}]
[null,{"$f":"IFERROR(INDEX(MyProgram!$A$7:$G$326,SMALL(IF(MyProgram!$K$7:$K$326,ROW($A$1:$A$320)),ROW($A168)),COLUMN(B$1)),\"\")","v":""},{"$f":"IFERROR(INDEX(MyProgram!$A$7:$G$326,SMALL(IF(MyProgram!$K$7:$K$326,ROW($A$1:$A$320)),ROW($A168)),COLUMN(C$1)),\"\")","v":""},{"$f":"IFERROR(INDEX(MyProgram!$A$7:$G$326,SMALL(IF(MyProgram!$K$7:$K$326,ROW($A$1:$A$320)),ROW($A168)),COLUMN(D$1)),\"\")","v":""},null,{"$f":"IFERROR(INDEX(MyProgram!$A$7:$G$326,SMALL(IF(MyProgram!$K$7:$K$326,ROW($A$1:$A$320)),ROW($A168)),COLUMN(F$1)),\"\")","v":""}]
[{"$f":"IFERROR(INDEX(MyProgram!$A$7:$G$326,SMALL(IF(MyProgram!$K$7:$K$326,ROW($A$1:$A$320)),ROW($A169)),COLUMN(A$1)),\"\")","v":""},{"$f":"IFERROR(INDEX(MyProgram!$A$7:$G$326,SMALL(IF(MyProgram!$K$7:$K$326,ROW($A$1:$A$320)),ROW($A169)),COLUMN(B$1)),\"\")","v":""},{"$f":"IFERROR(INDEX(MyProgram!$A$7:$G$326,SMALL(IF(MyProgram!$K$7:$K$326,ROW($A$1:$A$320)),ROW($A169)),COLUMN(C$1)),\"\")","v":""},{"$f":"IFERROR(INDEX(MyProgram!$A$7:$G$326,SMALL(IF(MyProgram!$K$7:$K$326,ROW($A$1:$A$320)),ROW($A169)),COLUMN(D$1)),\"\")","v":""},{"$f":"IFERROR(INDEX(MyProgram!$A$7:$G$326,SMALL(IF(MyProgram!$K$7:$K$326,ROW($A$1:$A$320)),ROW($A169)),COLUMN(E$1)),\"\")","v":""},{"$f":"IFERROR(INDEX(MyProgram!$A$7:$G$326,SMALL(IF(MyProgram!$K$7:$K$326,ROW($A$1:$A$320)),ROW($A169)),COLUMN(F$1)),\"\")","v":""},{"$f":"IFERROR(INDEX(MyProgram!$A$7:$G$326,SMALL(IF(MyProgram!$K$7:$K$326,ROW($A$1:$A$320)),ROW($A169)),COLUMN(G$1)),\"\")","v":""}]
[null,{"$f":"IFERROR(INDEX(MyProgram!$A$7:$G$326,SMALL(IF(MyProgram!$K$7:$K$326,ROW($A$1:$A$320)),ROW($A170)),COLUMN(B$1)),\"\")","v":""},{"$f":"IFERROR(INDEX(MyProgram!$A$7:$G$326,SMALL(IF(MyProgram!$K$7:$K$326,ROW($A$1:$A$320)),ROW($A170)),COLUMN(C$1)),\"\")","v":""},{"$f":"IFERROR(INDEX(MyProgram!$A$7:$G$326,SMALL(IF(MyProgram!$K$7:$K$326,ROW($A$1:$A$320)),ROW($A170)),COLUMN(D$1)),\"\")","v":""},null,{"$f":"IFERROR(INDEX(MyProgram!$A$7:$G$326,SMALL(IF(MyProgram!$K$7:$K$326,ROW($A$1:$A$320)),ROW($A170)),COLUMN(F$1)),\"\")","v":""}]
[{"$f":"IFERROR(INDEX(MyProgram!$A$7:$G$326,SMALL(IF(MyProgram!$K$7:$K$326,ROW($A$1:$A$320)),ROW($A171)),COLUMN(A$1)),\"\")","v":""},{"$f":"IFERROR(INDEX(MyProgram!$A$7:$G$326,SMALL(IF(MyProgram!$K$7:$K$326,ROW($A$1:$A$320)),ROW($A171)),COLUMN(B$1)),\"\")","v":""},{"$f":"IFERROR(INDEX(MyProgram!$A$7:$G$326,SMALL(IF(MyProgram!$K$7:$K$326,ROW($A$1:$A$320)),ROW($A171)),COLUMN(C$1)),\"\")","v":""},{"$f":"IFERROR(INDEX(MyProgram!$A$7:$G$326,SMALL(IF(MyProgram!$K$7:$K$326,ROW($A$1:$A$320)),ROW($A171)),COLUMN(D$1)),\"\")","v":""},{"$f":"IFERROR(INDEX(MyProgram!$A$7:$G$326,SMALL(IF(MyProgram!$K$7:$K$326,ROW($A$1:$A$320)),ROW($A171)),COLUMN(E$1)),\"\")","v":""},{"$f":"IFERROR(INDEX(MyProgram!$A$7:$G$326,SMALL(IF(MyProgram!$K$7:$K$326,ROW($A$1:$A$320)),ROW($A171)),COLUMN(F$1)),\"\")","v":""},{"$f":"IFERROR(INDEX(MyProgram!$A$7:$G$326,SMALL(IF(MyProgram!$K$7:$K$326,ROW($A$1:$A$320)),ROW($A171)),COLUMN(G$1)),\"\")","v":""}]
[null,{"$f":"IFERROR(INDEX(MyProgram!$A$7:$G$326,SMALL(IF(MyProgram!$K$7:$K$326,ROW($A$1:$A$320)),ROW($A172)),COLUMN(B$1)),\"\")","v":""},{"$f":"IFERROR(INDEX(MyProgram!$A$7:$G$326,SMALL(IF(MyProgram!$K$7:$K$326,ROW($A$1:$A$320)),ROW($A172)),COLUMN(C$1)),\"\")","v":""},{"$f":"IFERROR(INDEX(MyProgram!$A$7:$G$326,SMALL(IF(MyProgram!$K$7:$K$326,ROW($A$1:$A$320)),ROW($A172)),COLUMN(D$1)),\"\")","v":""},null,{"$f":"IFERROR(INDEX(MyProgram!$A$7:$G$326,SMALL(IF(MyProgram!$K$7:$K$326,ROW($A$1:$A$320)),ROW($A172)),COLUMN(F$1)),\"\")","v":""}]
[{"$f":"IFERROR(INDEX(MyProgram!$A$7:$G$326,SMALL(IF(MyProgram!$K$7:$K$326,ROW($A$1:$A$320)),ROW($A173)),COLUMN(A$1)),\"\")","v":""},{"$f":"IFERROR(INDEX(MyProgram!$A$7:$G$326,SMALL(IF(MyProgram!$K$7:$K$326,ROW($A$1:$A$320)),ROW($A173)),COLUMN(B$1)),\"\")","v":""},{"$f":"IFERROR(INDEX(MyProgram!$A$7:$G$326,SMALL(IF(MyProgram!$K$7:$K$326,ROW($A$1:$A$320)),ROW($A173)),COLUMN(C$1)),\"\")","v":""},{"$f":"IFERROR(INDEX(MyProgram!$A$7:$G$326,SMALL(IF(MyProgram!$K$7:$K$326,ROW($A$1:$A$320)),ROW($A173)),COLUMN(D$1)),\"\")","v":""},{"$f":"IFERROR(INDEX(MyProgram!$A$7:$G$326,SMALL(IF(MyProgram!$K$7:$K$326,ROW($A$1:$A$320)),ROW($A173)),COLUMN(E$1)),\"\")","v":""},{"$f":"IFERROR(INDEX(MyProgram!$A$7:$G$326,SMALL(IF(MyProgram!$K$7:$K$326,ROW($A$1:$A$320)),ROW($A173)),COLUMN(F$1)),\"\")","v":""},{"$f":"IFERROR(INDEX(MyProgram!$A$7:$G$326,SMALL(IF(MyProgram!$K$7:$K$326,ROW($A$1:$A$320)),ROW($A173)),COLUMN(G$1)),\"\")","v":""}]
[null,{"$f":"IFERROR(INDEX(MyProgram!$A$7:$G$326,SMALL(IF(MyProgram!$K$7:$K$326,ROW($A$1:$A$320)),ROW($A174)),COLUMN(B$1)),\"\")","v":""},{"$f":"IFERROR(INDEX(MyProgram!$A$7:$G$326,SMALL(IF(MyProgram!$K$7:$K$326,ROW($A$1:$A$320)),ROW($A174)),COLUMN(C$1)),\"\")","v":""},{"$f":"IFERROR(INDEX(MyProgram!$A$7:$G$326,SMALL(IF(MyProgram!$K$7:$K$326,ROW($A$1:$A$320)),ROW($A174)),COLUMN(D$1)),\"\")","v":""},null,{"$f":"IFERROR(INDEX(MyProgram!$A$7:$G$326,SMALL(IF(MyProgram!$K$7:$K$326,ROW($A$1:$A$320)),ROW($A174)),COLUMN(F$1)),\"\")","v":""}]
[{"$f":"IFERROR(INDEX(MyProgram!$A$7:$G$326,SMALL(IF(MyProgram!$K$7:$K$326,ROW($A$1:$A$320)),ROW($A175)),COLUMN(A$1)),\"\")","v":""},{"$f":"IFERROR(INDEX(MyProgram!$A$7:$G$326,SMALL(IF(MyProgram!$K$7:$K$326,ROW($A$1:$A$320)),ROW($A175)),COLUMN(B$1)),\"\")","v":""},{"$f":"IFERROR(INDEX(MyProgram!$A$7:$G$326,SMALL(IF(MyProgram!$K$7:$K$326,ROW($A$1:$A$320)),ROW($A175)),COLUMN(C$1)),\"\")","v":""},{"$f":"IFERROR(INDEX(MyProgram!$A$7:$G$326,SMALL(IF(MyProgram!$K$7:$K$326,ROW($A$1:$A$320)),ROW($A175)),COLUMN(D$1)),\"\")","v":""},{"$f":"IFERROR(INDEX(MyProgram!$A$7:$G$326,SMALL(IF(MyProgram!$K$7:$K$326,ROW($A$1:$A$320)),ROW($A175)),COLUMN(E$1)),\"\")","v":""},{"$f":"IFERROR(INDEX(MyProgram!$A$7:$G$326,SMALL(IF(MyProgram!$K$7:$K$326,ROW($A$1:$A$320)),ROW($A175)),COLUMN(F$1)),\"\")","v":""},{"$f":"IFERROR(INDEX(MyProgram!$A$7:$G$326,SMALL(IF(MyProgram!$K$7:$K$326,ROW($A$1:$A$320)),ROW($A175)),COLUMN(G$1)),\"\")","v":""}]
[null,{"$f":"IFERROR(INDEX(MyProgram!$A$7:$G$326,SMALL(IF(MyProgram!$K$7:$K$326,ROW($A$1:$A$320)),ROW($A176)),COLUMN(B$1)),\"\")","v":""},{"$f":"IFERROR(INDEX(MyProgram!$A$7:$G$326,SMALL(IF(MyProgram!$K$7:$K$326,ROW($A$1:$A$320)),ROW($A176)),COLUMN(C$1)),\"\")","v":""},{"$f":"IFERROR(INDEX(MyProgram!$A$7:$G$326,SMALL(IF(MyProgram!$K$7:$K$326,ROW($A$1:$A$320)),ROW($A176)),COLUMN(D$1)),\"\")","v":""},null,{"$f":"IFERROR(INDEX(MyProgram!$A$7:$G$326,SMALL(IF(MyProgram!$K$7:$K$326,ROW($A$1:$A$320)),ROW($A176)),COLUMN(F$1)),\"\")","v":""}]
[{"$f":"IFERROR(INDEX(MyProgram!$A$7:$G$326,SMALL(IF(MyProgram!$K$7:$K$326,ROW($A$1:$A$320)),ROW($A177)),COLUMN(A$1)),\"\")","v":""},{"$f":"IFERROR(INDEX(MyProgram!$A$7:$G$326,SMALL(IF(MyProgram!$K$7:$K$326,ROW($A$1:$A$320)),ROW($A177)),COLUMN(B$1)),\"\")","v":""},{"$f":"IFERROR(INDEX(MyProgram!$A$7:$G$326,SMALL(IF(MyProgram!$K$7:$K$326,ROW($A$1:$A$320)),ROW($A177)),COLUMN(C$1)),\"\")","v":""},{"$f":"IFERROR(INDEX(MyProgram!$A$7:$G$326,SMALL(IF(MyProgram!$K$7:$K$326,ROW($A$1:$A$320)),ROW($A177)),COLUMN(D$1)),\"\")","v":""},{"$f":"IFERROR(INDEX(MyProgram!$A$7:$G$326,SMALL(IF(MyProgram!$K$7:$K$326,ROW($A$1:$A$320)),ROW($A177)),COLUMN(E$1)),\"\")","v":""},{"$f":"IFERROR(INDEX(MyProgram!$A$7:$G$326,SMALL(IF(MyProgram!$K$7:$K$326,ROW($A$1:$A$320)),ROW($A177)),COLUMN(F$1)),\"\")","v":""},{"$f":"IFERROR(INDEX(MyProgram!$A$7:$G$326,SMALL(IF(MyProgram!$K$7:$K$326,ROW($A$1:$A$320)),ROW($A177)),COLUMN(G$1)),\"\")","v":""}]
[null,{"$f":"IFERROR(INDEX(MyProgram!$A$7:$G$326,SMALL(IF(MyProgram!$K$7:$K$326,ROW($A$1:$A$320)),ROW($A178)),COLUMN(B$1)),\"\")","v":""},{"$f":"IFERROR(INDEX(MyProgram!$A$7:$G$326,SMALL(IF(MyProgram!$K$7:$K$326,ROW($A$1:$A$320)),ROW($A178)),COLUMN(C$1)),\"\")","v":""},{"$f":"IFERROR(INDEX(MyProgram!$A$7:$G$326,SMALL(IF(MyProgram!$K$7:$K$326,ROW($A$1:$A$320)),ROW($A178)),COLUMN(D$1)),\"\")","v":""},null,{"$f":"IFERROR(INDEX(MyProgram!$A$7:$G$326,SMALL(IF(MyProgram!$K$7:$K$326,ROW($A$1:$A$320)),ROW($A178)),COLUMN(F$1)),\"\")","v":""}]
[{"$f":"IFERROR(INDEX(MyProgram!$A$7:$G$326,SMALL(IF(MyProgram!$K$7:$K$326,ROW($A$1:$A$320)),ROW($A179)),COLUMN(A$1)),\"\")","v":""},{"$f":"IFERROR(INDEX(MyProgram!$A$7:$G$326,SMALL(IF(MyProgram!$K$7:$K$326,ROW($A$1:$A$320)),ROW($A179)),COLUMN(B$1)),\"\")","v":""},{"$f":"IFERROR(INDEX(MyProgram!$A$7:$G$326,SMALL(IF(MyProgram!$K$7:$K$326,ROW($A$1:$A$320)),ROW($A179)),COLUMN(C$1)),\"\")","v":""},{"$f":"IFERROR(INDEX(MyProgram!$A$7:$G$326,SMALL(IF(MyProgram!$K$7:$K$326,ROW($A$1:$A$320)),ROW($A179)),COLUMN(D$1)),\"\")","v":""},{"$f":"IFERROR(INDEX(MyProgram!$A$7:$G$326,SMALL(IF(MyProgram!$K$7:$K$326,ROW($A$1:$A$320)),ROW($A179)),COLUMN(E$1)),\"\")","v":""},{"$f":"IFERROR(INDEX(MyProgram!$A$7:$G$326,SMALL(IF(MyProgram!$K$7:$K$326,ROW($A$1:$A$320)),ROW($A179)),COLUMN(F$1)),\"\")","v":""},{"$f":"IFERROR(INDEX(MyProgram!$A$7:$G$326,SMALL(IF(MyProgram!$K$7:$K$326,ROW($A$1:$A$320)),ROW($A179)),COLUMN(G$1)),\"\")","v":""}]
[null,{"$f":"IFERROR(INDEX(MyProgram!$A$7:$G$326,SMALL(IF(MyProgram!$K$7:$K$326,ROW($A$1:$A$320)),ROW($A180)),COLUMN(B$1)),\"\")","v":""},{"$f":"IFERROR(INDEX(MyProgram!$A$7:$G$326,SMALL(IF(MyProgram!$K$7:$K$326,ROW($A$1:$A$320)),ROW($A180)),COLUMN(C$1)),\"\")","v":""},{"$f":"IFERROR(INDEX(MyProgram!$A$7:$G$326,SMALL(IF(MyProgram!$K$7:$K$326,ROW($A$1:$A$320)),ROW($A180)),COLUMN(D$1)),\"\")","v":""},null,{"$f":"IFERROR(INDEX(MyProgram!$A$7:$G$326,SMALL(IF(MyProgram!$K$7:$K$326,ROW($A$1:$A$320)),ROW($A180)),COLUMN(F$1)),\"\")","v":""}]
[{"$f":"IFERROR(INDEX(MyProgram!$A$7:$G$326,SMALL(IF(MyProgram!$K$7:$K$326,ROW($A$1:$A$320)),ROW($A181)),COLUMN(A$1)),\"\")","v":""},{"$f":"IFERROR(INDEX(MyProgram!$A$7:$G$326,SMALL(IF(MyProgram!$K$7:$K$326,ROW($A$1:$A$320)),ROW($A181)),COLUMN(B$1)),\"\")","v":""},{"$f":"IFERROR(INDEX(MyProgram!$A$7:$G$326,SMALL(IF(MyProgram!$K$7:$K$326,ROW($A$1:$A$320)),ROW($A181)),COLUMN(C$1)),\"\")","v":""},{"$f":"IFERROR(INDEX(MyProgram!$A$7:$G$326,SMALL(IF(MyProgram!$K$7:$K$326,ROW($A$1:$A$320)),ROW($A181)),COLUMN(D$1)),\"\")","v":""},{"$f":"IFERROR(INDEX(MyProgram!$A$7:$G$326,SMALL(IF(MyProgram!$K$7:$K$326,ROW($A$1:$A$320)),ROW($A181)),COLUMN(E$1)),\"\")","v":""},{"$f":"IFERROR(INDEX(MyProgram!$A$7:$G$326,SMALL(IF(MyProgram!$K$7:$K$326,ROW($A$1:$A$320)),ROW($A181)),COLUMN(F$1)),\"\")","v":""},{"$f":"IFERROR(INDEX(MyProgram!$A$7:$G$326,SMALL(IF(MyProgram!$K$7:$K$326,ROW($A$1:$A$320)),ROW($A181)),COLUMN(G$1)),\"\")","v":""}]
[null,{"$f":"IFERROR(INDEX(MyProgram!$A$7:$G$326,SMALL(IF(MyProgram!$K$7:$K$326,ROW($A$1:$A$320)),ROW($A182)),COLUMN(B$1)),\"\")","v":""},{"$f":"IFERROR(INDEX(MyProgram!$A$7:$G$326,SMALL(IF(MyProgram!$K$7:$K$326,ROW($A$1:$A$320)),ROW($A182)),COLUMN(C$1)),\"\")","v":""},{"$f":"IFERROR(INDEX(MyProgram!$A$7:$G$326,SMALL(IF(MyProgram!$K$7:$K$326,ROW($A$1:$A$320)),ROW($A182)),COLUMN(D$1)),\"\")","v":""},null,{"$f":"IFERROR(INDEX(MyProgram!$A$7:$G$326,SMALL(IF(MyProgram!$K$7:$K$326,ROW($A$1:$A$320)),ROW($A182)),COLUMN(F$1)),\"\")","v":""}]
[{"$f":"IFERROR(INDEX(MyProgram!$A$7:$G$326,SMALL(IF(MyProgram!$K$7:$K$326,ROW($A$1:$A$320)),ROW($A183)),COLUMN(A$1)),\"\")","v":""},{"$f":"IFERROR(INDEX(MyProgram!$A$7:$G$326,SMALL(IF(MyProgram!$K$7:$K$326,ROW($A$1:$A$320)),ROW($A183)),COLUMN(B$1)),\"\")","v":""},{"$f":"IFERROR(INDEX(MyProgram!$A$7:$G$326,SMALL(IF(MyProgram!$K$7:$K$326,ROW($A$1:$A$320)),ROW($A183)),COLUMN(C$1)),\"\")","v":""},{"$f":"IFERROR(INDEX(MyProgram!$A$7:$G$326,SMALL(IF(MyProgram!$K$7:$K$326,ROW($A$1:$A$320)),ROW($A183)),COLUMN(D$1)),\"\")","v":""},{"$f":"IFERROR(INDEX(MyProgram!$A$7:$G$326,SMALL(IF(MyProgram!$K$7:$K$326,ROW($A$1:$A$320)),ROW($A183)),COLUMN(E$1)),\"\")","v":""},{"$f":"IFERROR(INDEX(MyProgram!$A$7:$G$326,SMALL(IF(MyProgram!$K$7:$K$326,ROW($A$1:$A$320)),ROW($A183)),COLUMN(F$1)),\"\")","v":""},{"$f":"IFERROR(INDEX(MyProgram!$A$7:$G$326,SMALL(IF(MyProgram!$K$7:$K$326,ROW($A$1:$A$320)),ROW($A183)),COLUMN(G$1)),\"\")","v":""}]
[null,{"$f":"IFERROR(INDEX(MyProgram!$A$7:$G$326,SMALL(IF(MyProgram!$K$7:$K$326,ROW($A$1:$A$320)),ROW($A184)),COLUMN(B$1)),\"\")","v":""},{"$f":"IFERROR(INDEX(MyProgram!$A$7:$G$326,SMALL(IF(MyProgram!$K$7:$K$326,ROW($A$1:$A$320)),ROW($A184)),COLUMN(C$1)),\"\")","v":""},{"$f":"IFERROR(INDEX(MyProgram!$A$7:$G$326,SMALL(IF(MyProgram!$K$7:$K$326,ROW($A$1:$A$320)),ROW($A184)),COLUMN(D$1)),\"\")","v":""},null,{"$f":"IFERROR(INDEX(MyProgram!$A$7:$G$326,SMALL(IF(MyProgram!$K$7:$K$326,ROW($A$1:$A$320)),ROW($A184)),COLUMN(F$1)),\"\")","v":""}]
[{"$f":"IFERROR(INDEX(MyProgram!$A$7:$G$326,SMALL(IF(MyProgram!$K$7:$K$326,ROW($A$1:$A$320)),ROW($A185)),COLUMN(A$1)),\"\")","v":""},{"$f":"IFERROR(INDEX(MyProgram!$A$7:$G$326,SMALL(IF(MyProgram!$K$7:$K$326,ROW($A$1:$A$320)),ROW($A185)),COLUMN(B$1)),\"\")","v":""},{"$f":"IFERROR(INDEX(MyProgram!$A$7:$G$326,SMALL(IF(MyProgram!$K$7:$K$326,ROW($A$1:$A$320)),ROW($A185)),COLUMN(C$1)),\"\")","v":""},{"$f":"IFERROR(INDEX(MyProgram!$A$7:$G$326,SMALL(IF(MyProgram!$K$7:$K$326,ROW($A$1:$A$320)),ROW($A185)),COLUMN(D$1)),\"\")","v":""},{"$f":"IFERROR(INDEX(MyProgram!$A$7:$G$326,SMALL(IF(MyProgram!$K$7:$K$326,ROW($A$1:$A$320)),ROW($A185)),COLUMN(E$1)),\"\")","v":""},{"$f":"IFERROR(INDEX(MyProgram!$A$7:$G$326,SMALL(IF(MyProgram!$K$7:$K$326,ROW($A$1:$A$320)),ROW($A185)),COLUMN(F$1)),\"\")","v":""},{"$f":"IFERROR(INDEX(MyProgram!$A$7:$G$326,SMALL(IF(MyProgram!$K$7:$K$326,ROW($A$1:$A$320)),ROW($A185)),COLUMN(G$1)),\"\")","v":""}]
[null,{"$f":"IFERROR(INDEX(MyProgram!$A$7:$G$326,SMALL(IF(MyProgram!$K$7:$K$326,ROW($A$1:$A$320)),ROW($A186)),COLUMN(B$1)),\"\")","v":""},{"$f":"IFERROR(INDEX(MyProgram!$A$7:$G$326,SMALL(IF(MyProgram!$K$7:$K$326,ROW($A$1:$A$320)),ROW($A186)),COLUMN(C$1)),\"\")","v":""},{"$f":"IFERROR(INDEX(MyProgram!$A$7:$G$326,SMALL(IF(MyProgram!$K$7:$K$326,ROW($A$1:$A$320)),ROW($A186)),COLUMN(D$1)),\"\")","v":""},null,{"$f":"IFERROR(INDEX(MyProgram!$A$7:$G$326,SMALL(IF(MyProgram!$K$7:$K$326,ROW($A$1:$A$320)),ROW($A186)),COLUMN(F$1)),\"\")","v":""}]
[{"$f":"IFERROR(INDEX(MyProgram!$A$7:$G$326,SMALL(IF(MyProgram!$K$7:$K$326,ROW($A$1:$A$320)),ROW($A187)),COLUMN(A$1)),\"\")","v":""},{"$f":"IFERROR(INDEX(MyProgram!$A$7:$G$326,SMALL(IF(MyProgram!$K$7:$K$326,ROW($A$1:$A$320)),ROW($A187)),COLUMN(B$1)),\"\")","v":""},{"$f":"IFERROR(INDEX(MyProgram!$A$7:$G$326,SMALL(IF(MyProgram!$K$7:$K$326,ROW($A$1:$A$320)),ROW($A187)),COLUMN(C$1)),\"\")","v":""},{"$f":"IFERROR(INDEX(MyProgram!$A$7:$G$326,SMALL(IF(MyProgram!$K$7:$K$326,ROW($A$1:$A$320)),ROW($A187)),COLUMN(D$1)),\"\")","v":""},{"$f":"IFERROR(INDEX(MyProgram!$A$7:$G$326,SMALL(IF(MyProgram!$K$7:$K$326,ROW($A$1:$A$320)),ROW($A187)),COLUMN(E$1)),\"\")","v":""},{"$f":"IFERROR(INDEX(MyProgram!$A$7:$G$326,SMALL(IF(MyProgram!$K$7:$K$326,ROW($A$1:$A$320)),ROW($A187)),COLUMN(F$1)),\"\")","v":""},{"$f":"IFERROR(INDEX(MyProgram!$A$7:$G$326,SMALL(IF(MyProgram!$K$7:$K$326,ROW($A$1:$A$320)),ROW($A187)),COLUMN(G$1)),\"\")","v":""}]
[null,{"$f":"IFERROR(INDEX(MyProgram!$A$7:$G$326,SMALL(IF(MyProgram!$K$7:$K$326,ROW($A$1:$A$320)),ROW($A188)),COLUMN(B$1)),\"\")","v":""},{"$f":"IFERROR(INDEX(MyProgram!$A$7:$G$326,SMALL(IF(MyProgram!$K$7:$K$326,ROW($A$1:$A$320)),ROW($A188)),COLUMN(C$1)),\"\")","v":""},{"$f":"IFERROR(INDEX(MyProgram!$A$7:$G$326,SMALL(IF(MyProgram!$K$7:$K$326,ROW($A$1:$A$320)),ROW($A188)),COLUMN(D$1)),\"\")","v":""},null,{"$f":"IFERROR(INDEX(MyProgram!$A$7:$G$326,SMALL(IF(MyProgram!$K$7:$K$326,ROW($A$1:$A$320)),ROW($A188)),COLUMN(F$1)),\"\")","v":""}]
[{"$f":"IFERROR(INDEX(MyProgram!$A$7:$G$326,SMALL(IF(MyProgram!$K$7:$K$326,ROW($A$1:$A$320)),ROW($A189)),COLUMN(A$1)),\"\")","v":""},{"$f":"IFERROR(INDEX(MyProgram!$A$7:$G$326,SMALL(IF(MyProgram!$K$7:$K$326,ROW($A$1:$A$320)),ROW($A189)),COLUMN(B$1)),\"\")","v":""},{"$f":"IFERROR(INDEX(MyProgram!$A$7:$G$326,SMALL(IF(MyProgram!$K$7:$K$326,ROW($A$1:$A$320)),ROW($A189)),COLUMN(C$1)),\"\")","v":""},{"$f":"IFERROR(INDEX(MyProgram!$A$7:$G$326,SMALL(IF(MyProgram!$K$7:$K$326,ROW($A$1:$A$320)),ROW($A189)),COLUMN(D$1)),\"\")","v":""},{"$f":"IFERROR(INDEX(MyProgram!$A$7:$G$326,SMALL(IF(MyProgram!$K$7:$K$326,ROW($A$1:$A$320)),ROW($A189)),COLUMN(E$1)),\"\")","v":""},{"$f":"IFERROR(INDEX(MyProgram!$A$7:$G$326,SMALL(IF(MyProgram!$K$7:$K$326,ROW($A$1:$A$320)),ROW($A189)),COLUMN(F$1)),\"\")","v":""},{"$f":"IFERROR(INDEX(MyProgram!$A$7:$G$326,SMALL(IF(MyProgram!$K$7:$K$326,ROW($A$1:$A$320)),ROW($A189)),COLUMN(G$1)),\"\")","v":""}]
[null,{"$f":"IFERROR(INDEX(MyProgram!$A$7:$G$326,SMALL(IF(MyProgram!$K$7:$K$326,ROW($A$1:$A$320)),ROW($A190)),COLUMN(B$1)),\"\")","v":""},{"$f":"IFERROR(INDEX(MyProgram!$A$7:$G$326,SMALL(IF(MyProgram!$K$7:$K$326,ROW($A$1:$A$320)),ROW($A190)),COLUMN(C$1)),\"\")","v":""},{"$f":"IFERROR(INDEX(MyProgram!$A$7:$G$326,SMALL(IF(MyProgram!$K$7:$K$326,ROW($A$1:$A$320)),ROW($A190)),COLUMN(D$1)),\"\")","v":""},null,{"$f":"IFERROR(INDEX(MyProgram!$A$7:$G$326,SMALL(IF(MyProgram!$K$7:$K$326,ROW($A$1:$A$320)),ROW($A190)),COLUMN(F$1)),\"\")","v":""}]
[{"$f":"IFERROR(INDEX(MyProgram!$A$7:$G$326,SMALL(IF(MyProgram!$K$7:$K$326,ROW($A$1:$A$320)),ROW($A191)),COLUMN(A$1)),\"\")","v":""},{"$f":"IFERROR(INDEX(MyProgram!$A$7:$G$326,SMALL(IF(MyProgram!$K$7:$K$326,ROW($A$1:$A$320)),ROW($A191)),COLUMN(B$1)),\"\")","v":""},{"$f":"IFERROR(INDEX(MyProgram!$A$7:$G$326,SMALL(IF(MyProgram!$K$7:$K$326,ROW($A$1:$A$320)),ROW($A191)),COLUMN(C$1)),\"\")","v":""},{"$f":"IFERROR(INDEX(MyProgram!$A$7:$G$326,SMALL(IF(MyProgram!$K$7:$K$326,ROW($A$1:$A$320)),ROW($A191)),COLUMN(D$1)),\"\")","v":""},{"$f":"IFERROR(INDEX(MyProgram!$A$7:$G$326,SMALL(IF(MyProgram!$K$7:$K$326,ROW($A$1:$A$320)),ROW($A191)),COLUMN(E$1)),\"\")","v":""},{"$f":"IFERROR(INDEX(MyProgram!$A$7:$G$326,SMALL(IF(MyProgram!$K$7:$K$326,ROW($A$1:$A$320)),ROW($A191)),COLUMN(F$1)),\"\")","v":""},{"$f":"IFERROR(INDEX(MyProgram!$A$7:$G$326,SMALL(IF(MyProgram!$K$7:$K$326,ROW($A$1:$A$320)),ROW($A191)),COLUMN(G$1)),\"\")","v":""}]
[null,{"$f":"IFERROR(INDEX(MyProgram!$A$7:$G$326,SMALL(IF(MyProgram!$K$7:$K$326,ROW($A$1:$A$320)),ROW($A192)),COLUMN(B$1)),\"\")","v":""},{"$f":"IFERROR(INDEX(MyProgram!$A$7:$G$326,SMALL(IF(MyProgram!$K$7:$K$326,ROW($A$1:$A$320)),ROW($A192)),COLUMN(C$1)),\"\")","v":""},{"$f":"IFERROR(INDEX(MyProgram!$A$7:$G$326,SMALL(IF(MyProgram!$K$7:$K$326,ROW($A$1:$A$320)),ROW($A192)),COLUMN(D$1)),\"\")","v":""},null,{"$f":"IFERROR(INDEX(MyProgram!$A$7:$G$326,SMALL(IF(MyProgram!$K$7:$K$326,ROW($A$1:$A$320)),ROW($A192)),COLUMN(F$1)),\"\")","v":""}]
[{"$f":"IFERROR(INDEX(MyProgram!$A$7:$G$326,SMALL(IF(MyProgram!$K$7:$K$326,ROW($A$1:$A$320)),ROW($A193)),COLUMN(A$1)),\"\")","v":""},{"$f":"IFERROR(INDEX(MyProgram!$A$7:$G$326,SMALL(IF(MyProgram!$K$7:$K$326,ROW($A$1:$A$320)),ROW($A193)),COLUMN(B$1)),\"\")","v":""},{"$f":"IFERROR(INDEX(MyProgram!$A$7:$G$326,SMALL(IF(MyProgram!$K$7:$K$326,ROW($A$1:$A$320)),ROW($A193)),COLUMN(C$1)),\"\")","v":""},{"$f":"IFERROR(INDEX(MyProgram!$A$7:$G$326,SMALL(IF(MyProgram!$K$7:$K$326,ROW($A$1:$A$320)),ROW($A193)),COLUMN(D$1)),\"\")","v":""},{"$f":"IFERROR(INDEX(MyProgram!$A$7:$G$326,SMALL(IF(MyProgram!$K$7:$K$326,ROW($A$1:$A$320)),ROW($A193)),COLUMN(E$1)),\"\")","v":""},{"$f":"IFERROR(INDEX(MyProgram!$A$7:$G$326,SMALL(IF(MyProgram!$K$7:$K$326,ROW($A$1:$A$320)),ROW($A193)),COLUMN(F$1)),\"\")","v":""},{"$f":"IFERROR(INDEX(MyProgram!$A$7:$G$326,SMALL(IF(MyProgram!$K$7:$K$326,ROW($A$1:$A$320)),ROW($A193)),COLUMN(G$1)),\"\")","v":""}]
[null,{"$f":"IFERROR(INDEX(MyProgram!$A$7:$G$326,SMALL(IF(MyProgram!$K$7:$K$326,ROW($A$1:$A$320)),ROW($A194)),COLUMN(B$1)),\"\")","v":""},{"$f":"IFERROR(INDEX(MyProgram!$A$7:$G$326,SMALL(IF(MyProgram!$K$7:$K$326,ROW($A$1:$A$320)),ROW($A194)),COLUMN(C$1)),\"\")","v":""},{"$f":"IFERROR(INDEX(MyProgram!$A$7:$G$326,SMALL(IF(MyProgram!$K$7:$K$326,ROW($A$1:$A$320)),ROW($A194)),COLUMN(D$1)),\"\")","v":""},null,{"$f":"IFERROR(INDEX(MyProgram!$A$7:$G$326,SMALL(IF(MyProgram!$K$7:$K$326,ROW($A$1:$A$320)),ROW($A194)),COLUMN(F$1)),\"\")","v":""}]
[{"$f":"IFERROR(INDEX(MyProgram!$A$7:$G$326,SMALL(IF(MyProgram!$K$7:$K$326,ROW($A$1:$A$320)),ROW($A195)),COLUMN(A$1)),\"\")","v":""},{"$f":"IFERROR(INDEX(MyProgram!$A$7:$G$326,SMALL(IF(MyProgram!$K$7:$K$326,ROW($A$1:$A$320)),ROW($A195)),COLUMN(B$1)),\"\")","v":""},{"$f":"IFERROR(INDEX(MyProgram!$A$7:$G$326,SMALL(IF(MyProgram!$K$7:$K$326,ROW($A$1:$A$320)),ROW($A195)),COLUMN(C$1)),\"\")","v":""},{"$f":"IFERROR(INDEX(MyProgram!$A$7:$G$326,SMALL(IF(MyProgram!$K$7:$K$326,ROW($A$1:$A$320)),ROW($A195)),COLUMN(D$1)),\"\")","v":""},{"$f":"IFERROR(INDEX(MyProgram!$A$7:$G$326,SMALL(IF(MyProgram!$K$7:$K$326,ROW($A$1:$A$320)),ROW($A195)),COLUMN(E$1)),\"\")","v":""},{"$f":"IFERROR(INDEX(MyProgram!$A$7:$G$326,SMALL(IF(MyProgram!$K$7:$K$326,ROW($A$1:$A$320)),ROW($A195)),COLUMN(F$1)),\"\")","v":""},{"$f":"IFERROR(INDEX(MyProgram!$A$7:$G$326,SMALL(IF(MyProgram!$K$7:$K$326,ROW($A$1:$A$320)),ROW($A195)),COLUMN(G$1)),\"\")","v":""}]
[null,{"$f":"IFERROR(INDEX(MyProgram!$A$7:$G$326,SMALL(IF(MyProgram!$K$7:$K$326,ROW($A$1:$A$320)),ROW($A196)),COLUMN(B$1)),\"\")","v":""},{"$f":"IFERROR(INDEX(MyProgram!$A$7:$G$326,SMALL(IF(MyProgram!$K$7:$K$326,ROW($A$1:$A$320)),ROW($A196)),COLUMN(C$1)),\"\")","v":""},{"$f":"IFERROR(INDEX(MyProgram!$A$7:$G$326,SMALL(IF(MyProgram!$K$7:$K$326,ROW($A$1:$A$320)),ROW($A196)),COLUMN(D$1)),\"\")","v":""},null,{"$f":"IFERROR(INDEX(MyProgram!$A$7:$G$326,SMALL(IF(MyProgram!$K$7:$K$326,ROW($A$1:$A$320)),ROW($A196)),COLUMN(F$1)),\"\")","v":""}]
[{"$f":"IFERROR(INDEX(MyProgram!$A$7:$G$326,SMALL(IF(MyProgram!$K$7:$K$326,ROW($A$1:$A$320)),ROW($A197)),COLUMN(A$1)),\"\")","v":""},{"$f":"IFERROR(INDEX(MyProgram!$A$7:$G$326,SMALL(IF(MyProgram!$K$7:$K$326,ROW($A$1:$A$320)),ROW($A197)),COLUMN(B$1)),\"\")","v":""},{"$f":"IFERROR(INDEX(MyProgram!$A$7:$G$326,SMALL(IF(MyProgram!$K$7:$K$326,ROW($A$1:$A$320)),ROW($A197)),COLUMN(C$1)),\"\")","v":""},{"$f":"IFERROR(INDEX(MyProgram!$A$7:$G$326,SMALL(IF(MyProgram!$K$7:$K$326,ROW($A$1:$A$320)),ROW($A197)),COLUMN(D$1)),\"\")","v":""},{"$f":"IFERROR(INDEX(MyProgram!$A$7:$G$326,SMALL(IF(MyProgram!$K$7:$K$326,ROW($A$1:$A$320)),ROW($A197)),COLUMN(E$1)),\"\")","v":""},{"$f":"IFERROR(INDEX(MyProgram!$A$7:$G$326,SMALL(IF(MyProgram!$K$7:$K$326,ROW($A$1:$A$320)),ROW($A197)),COLUMN(F$1)),\"\")","v":""},{"$f":"IFERROR(INDEX(MyProgram!$A$7:$G$326,SMALL(IF(MyProgram!$K$7:$K$326,ROW($A$1:$A$320)),ROW($A197)),COLUMN(G$1)),\"\")","v":""}]
[null,{"$f":"IFERROR(INDEX(MyProgram!$A$7:$G$326,SMALL(IF(MyProgram!$K$7:$K$326,ROW($A$1:$A$320)),ROW($A198)),COLUMN(B$1)),\"\")","v":""},{"$f":"IFERROR(INDEX(MyProgram!$A$7:$G$326,SMALL(IF(MyProgram!$K$7:$K$326,ROW($A$1:$A$320)),ROW($A198)),COLUMN(C$1)),\"\")","v":""},{"$f":"IFERROR(INDEX(MyProgram!$A$7:$G$326,SMALL(IF(MyProgram!$K$7:$K$326,ROW($A$1:$A$320)),ROW($A198)),COLUMN(D$1)),\"\")","v":""},null,{"$f":"IFERROR(INDEX(MyProgram!$A$7:$G$326,SMALL(IF(MyProgram!$K$7:$K$326,ROW($A$1:$A$320)),ROW($A198)),COLUMN(F$1)),\"\")","v":""}]
[{"$f":"IFERROR(INDEX(MyProgram!$A$7:$G$326,SMALL(IF(MyProgram!$K$7:$K$326,ROW($A$1:$A$320)),ROW($A199)),COLUMN(A$1)),\"\")","v":""},{"$f":"IFERROR(INDEX(MyProgram!$A$7:$G$326,SMALL(IF(MyProgram!$K$7:$K$326,ROW($A$1:$A$320)),ROW($A199)),COLUMN(B$1)),\"\")","v":""},{"$f":"IFERROR(INDEX(MyProgram!$A$7:$G$326,SMALL(IF(MyProgram!$K$7:$K$326,ROW($A$1:$A$320)),ROW($A199)),COLUMN(C$1)),\"\")","v":""},{"$f":"IFERROR(INDEX(MyProgram!$A$7:$G$326,SMALL(IF(MyProgram!$K$7:$K$326,ROW($A$1:$A$320)),ROW($A199)),COLUMN(D$1)),\"\")","v":""},{"$f":"IFERROR(INDEX(MyProgram!$A$7:$G$326,SMALL(IF(MyProgram!$K$7:$K$326,ROW($A$1:$A$320)),ROW($A199)),COLUMN(E$1)),\"\")","v":""},{"$f":"IFERROR(INDEX(MyProgram!$A$7:$G$326,SMALL(IF(MyProgram!$K$7:$K$326,ROW($A$1:$A$320)),ROW($A199)),COLUMN(F$1)),\"\")","v":""},{"$f":"IFERROR(INDEX(MyProgram!$A$7:$G$326,SMALL(IF(MyProgram!$K$7:$K$326,ROW($A$1:$A$320)),ROW($A199)),COLUMN(G$1)),\"\")","v":""}]
[null,{"$f":"IFERROR(INDEX(MyProgram!$A$7:$G$326,SMALL(IF(MyProgram!$K$7:$K$326,ROW($A$1:$A$320)),ROW($A200)),COLUMN(B$1)),\"\")","v":""},{"$f":"IFERROR(INDEX(MyProgram!$A$7:$G$326,SMALL(IF(MyProgram!$K$7:$K$326,ROW($A$1:$A$320)),ROW($A200)),COLUMN(C$1)),\"\")","v":""},{"$f":"IFERROR(INDEX(MyProgram!$A$7:$G$326,SMALL(IF(MyProgram!$K$7:$K$326,ROW($A$1:$A$320)),ROW($A200)),COLUMN(D$1)),\"\")","v":""},null,{"$f":"IFERROR(INDEX(MyProgram!$A$7:$G$326,SMALL(IF(MyProgram!$K$7:$K$326,ROW($A$1:$A$320)),ROW($A200)),COLUMN(F$1)),\"\")","v":""}]
[{"$f":"IFERROR(INDEX(MyProgram!$A$7:$G$326,SMALL(IF(MyProgram!$K$7:$K$326,ROW($A$1:$A$320)),ROW($A201)),COLUMN(A$1)),\"\")","v":""},{"$f":"IFERROR(INDEX(MyProgram!$A$7:$G$326,SMALL(IF(MyProgram!$K$7:$K$326,ROW($A$1:$A$320)),ROW($A201)),COLUMN(B$1)),\"\")","v":""},{"$f":"IFERROR(INDEX(MyProgram!$A$7:$G$326,SMALL(IF(MyProgram!$K$7:$K$326,ROW($A$1:$A$320)),ROW($A201)),COLUMN(C$1)),\"\")","v":""},{"$f":"IFERROR(INDEX(MyProgram!$A$7:$G$326,SMALL(IF(MyProgram!$K$7:$K$326,ROW($A$1:$A$320)),ROW($A201)),COLUMN(D$1)),\"\")","v":""},{"$f":"IFERROR(INDEX(MyProgram!$A$7:$G$326,SMALL(IF(MyProgram!$K$7:$K$326,ROW($A$1:$A$320)),ROW($A201)),COLUMN(E$1)),\"\")","v":""},{"$f":"IFERROR(INDEX(MyProgram!$A$7:$G$326,SMALL(IF(MyProgram!$K$7:$K$326,ROW($A$1:$A$320)),ROW($A201)),COLUMN(F$1)),\"\")","v":""},{"$f":"IFERROR(INDEX(MyProgram!$A$7:$G$326,SMALL(IF(MyProgram!$K$7:$K$326,ROW($A$1:$A$320)),ROW($A201)),COLUMN(G$1)),\"\")","v":""}]
[null,{"$f":"IFERROR(INDEX(MyProgram!$A$7:$G$326,SMALL(IF(MyProgram!$K$7:$K$326,ROW($A$1:$A$320)),ROW($A202)),COLUMN(B$1)),\"\")","v":""},{"$f":"IFERROR(INDEX(MyProgram!$A$7:$G$326,SMALL(IF(MyProgram!$K$7:$K$326,ROW($A$1:$A$320)),ROW($A202)),COLUMN(C$1)),\"\")","v":""},{"$f":"IFERROR(INDEX(MyProgram!$A$7:$G$326,SMALL(IF(MyProgram!$K$7:$K$326,ROW($A$1:$A$320)),ROW($A202)),COLUMN(D$1)),\"\")","v":""},null,{"$f":"IFERROR(INDEX(MyProgram!$A$7:$G$326,SMALL(IF(MyProgram!$K$7:$K$326,ROW($A$1:$A$320)),ROW($A202)),COLUMN(F$1)),\"\")","v":""}]
[{"$f":"IFERROR(INDEX(MyProgram!$A$7:$G$326,SMALL(IF(MyProgram!$K$7:$K$326,ROW($A$1:$A$320)),ROW($A203)),COLUMN(A$1)),\"\")","v":""},{"$f":"IFERROR(INDEX(MyProgram!$A$7:$G$326,SMALL(IF(MyProgram!$K$7:$K$326,ROW($A$1:$A$320)),ROW($A203)),COLUMN(B$1)),\"\")","v":""},{"$f":"IFERROR(INDEX(MyProgram!$A$7:$G$326,SMALL(IF(MyProgram!$K$7:$K$326,ROW($A$1:$A$320)),ROW($A203)),COLUMN(C$1)),\"\")","v":""},{"$f":"IFERROR(INDEX(MyProgram!$A$7:$G$326,SMALL(IF(MyProgram!$K$7:$K$326,ROW($A$1:$A$320)),ROW($A203)),COLUMN(D$1)),\"\")","v":""},{"$f":"IFERROR(INDEX(MyProgram!$A$7:$G$326,SMALL(IF(MyProgram!$K$7:$K$326,ROW($A$1:$A$320)),ROW($A203)),COLUMN(E$1)),\"\")","v":""},{"$f":"IFERROR(INDEX(MyProgram!$A$7:$G$326,SMALL(IF(MyProgram!$K$7:$K$326,ROW($A$1:$A$320)),ROW($A203)),COLUMN(F$1)),\"\")","v":""},{"$f":"IFERROR(INDEX(MyProgram!$A$7:$G$326,SMALL(IF(MyProgram!$K$7:$K$326,ROW($A$1:$A$320)),ROW($A203)),COLUMN(G$1)),\"\")","v":""}]
[null,{"$f":"IFERROR(INDEX(MyProgram!$A$7:$G$326,SMALL(IF(MyProgram!$K$7:$K$326,ROW($A$1:$A$320)),ROW($A204)),COLUMN(B$1)),\"\")","v":""},{"$f":"IFERROR(INDEX(MyProgram!$A$7:$G$326,SMALL(IF(MyProgram!$K$7:$K$326,ROW($A$1:$A$320)),ROW($A204)),COLUMN(C$1)),\"\")","v":""},{"$f":"IFERROR(INDEX(MyProgram!$A$7:$G$326,SMALL(IF(MyProgram!$K$7:$K$326,ROW($A$1:$A$320)),ROW($A204)),COLUMN(D$1)),\"\")","v":""},null,{"$f":"IFERROR(INDEX(MyProgram!$A$7:$G$326,SMALL(IF(MyProgram!$K$7:$K$326,ROW($A$1:$A$320)),ROW($A204)),COLUMN(F$1)),\"\")","v":""}]
[{"$f":"IFERROR(INDEX(MyProgram!$A$7:$G$326,SMALL(IF(MyProgram!$K$7:$K$326,ROW($A$1:$A$320)),ROW($A205)),COLUMN(A$1)),\"\")","v":""},{"$f":"IFERROR(INDEX(MyProgram!$A$7:$G$326,SMALL(IF(MyProgram!$K$7:$K$326,ROW($A$1:$A$320)),ROW($A205)),COLUMN(B$1)),\"\")","v":""},{"$f":"IFERROR(INDEX(MyProgram!$A$7:$G$326,SMALL(IF(MyProgram!$K$7:$K$326,ROW($A$1:$A$320)),ROW($A205)),COLUMN(C$1)),\"\")","v":""},{"$f":"IFERROR(INDEX(MyProgram!$A$7:$G$326,SMALL(IF(MyProgram!$K$7:$K$326,ROW($A$1:$A$320)),ROW($A205)),COLUMN(D$1)),\"\")","v":""},{"$f":"IFERROR(INDEX(MyProgram!$A$7:$G$326,SMALL(IF(MyProgram!$K$7:$K$326,ROW($A$1:$A$320)),ROW($A205)),COLUMN(E$1)),\"\")","v":""},{"$f":"IFERROR(INDEX(MyProgram!$A$7:$G$326,SMALL(IF(MyProgram!$K$7:$K$326,ROW($A$1:$A$320)),ROW($A205)),COLUMN(F$1)),\"\")","v":""},{"$f":"IFERROR(INDEX(MyProgram!$A$7:$G$326,SMALL(IF(MyProgram!$K$7:$K$326,ROW($A$1:$A$320)),ROW($A205)),COLUMN(G$1)),\"\")","v":""}]
[null,{"$f":"IFERROR(INDEX(MyProgram!$A$7:$G$326,SMALL(IF(MyProgram!$K$7:$K$326,ROW($A$1:$A$320)),ROW($A206)),COLUMN(B$1)),\"\")","v":""},{"$f":"IFERROR(INDEX(MyProgram!$A$7:$G$326,SMALL(IF(MyProgram!$K$7:$K$326,ROW($A$1:$A$320)),ROW($A206)),COLUMN(C$1)),\"\")","v":""},{"$f":"IFERROR(INDEX(MyProgram!$A$7:$G$326,SMALL(IF(MyProgram!$K$7:$K$326,ROW($A$1:$A$320)),ROW($A206)),COLUMN(D$1)),\"\")","v":""},null,{"$f":"IFERROR(INDEX(MyProgram!$A$7:$G$326,SMALL(IF(MyProgram!$K$7:$K$326,ROW($A$1:$A$320)),ROW($A206)),COLUMN(F$1)),\"\")","v":""}]
[{"$f":"IFERROR(INDEX(MyProgram!$A$7:$G$326,SMALL(IF(MyProgram!$K$7:$K$326,ROW($A$1:$A$320)),ROW($A207)),COLUMN(A$1)),\"\")","v":""},{"$f":"IFERROR(INDEX(MyProgram!$A$7:$G$326,SMALL(IF(MyProgram!$K$7:$K$326,ROW($A$1:$A$320)),ROW($A207)),COLUMN(B$1)),\"\")","v":""},{"$f":"IFERROR(INDEX(MyProgram!$A$7:$G$326,SMALL(IF(MyProgram!$K$7:$K$326,ROW($A$1:$A$320)),ROW($A207)),COLUMN(C$1)),\"\")","v":""},{"$f":"IFERROR(INDEX(MyProgram!$A$7:$G$326,SMALL(IF(MyProgram!$K$7:$K$326,ROW($A$1:$A$320)),ROW($A207)),COLUMN(D$1)),\"\")","v":""},{"$f":"IFERROR(INDEX(MyProgram!$A$7:$G$326,SMALL(IF(MyProgram!$K$7:$K$326,ROW($A$1:$A$320)),ROW($A207)),COLUMN(E$1)),\"\")","v":""},{"$f":"IFERROR(INDEX(MyProgram!$A$7:$G$326,SMALL(IF(MyProgram!$K$7:$K$326,ROW($A$1:$A$320)),ROW($A207)),COLUMN(F$1)),\"\")","v":""},{"$f":"IFERROR(INDEX(MyProgram!$A$7:$G$326,SMALL(IF(MyProgram!$K$7:$K$326,ROW($A$1:$A$320)),ROW($A207)),COLUMN(G$1)),\"\")","v":""}]
[null,{"$f":"IFERROR(INDEX(MyProgram!$A$7:$G$326,SMALL(IF(MyProgram!$K$7:$K$326,ROW($A$1:$A$320)),ROW($A208)),COLUMN(B$1)),\"\")","v":""},{"$f":"IFERROR(INDEX(MyProgram!$A$7:$G$326,SMALL(IF(MyProgram!$K$7:$K$326,ROW($A$1:$A$320)),ROW($A208)),COLUMN(C$1)),\"\")","v":""},{"$f":"IFERROR(INDEX(MyProgram!$A$7:$G$326,SMALL(IF(MyProgram!$K$7:$K$326,ROW($A$1:$A$320)),ROW($A208)),COLUMN(D$1)),\"\")","v":""},null,{"$f":"IFERROR(INDEX(MyProgram!$A$7:$G$326,SMALL(IF(MyProgram!$K$7:$K$326,ROW($A$1:$A$320)),ROW($A208)),COLUMN(F$1)),\"\")","v":""}]
[{"$f":"IFERROR(INDEX(MyProgram!$A$7:$G$326,SMALL(IF(MyProgram!$K$7:$K$326,ROW($A$1:$A$320)),ROW($A209)),COLUMN(A$1)),\"\")","v":""},{"$f":"IFERROR(INDEX(MyProgram!$A$7:$G$326,SMALL(IF(MyProgram!$K$7:$K$326,ROW($A$1:$A$320)),ROW($A209)),COLUMN(B$1)),\"\")","v":""},{"$f":"IFERROR(INDEX(MyProgram!$A$7:$G$326,SMALL(IF(MyProgram!$K$7:$K$326,ROW($A$1:$A$320)),ROW($A209)),COLUMN(C$1)),\"\")","v":""},{"$f":"IFERROR(INDEX(MyProgram!$A$7:$G$326,SMALL(IF(MyProgram!$K$7:$K$326,ROW($A$1:$A$320)),ROW($A209)),COLUMN(D$1)),\"\")","v":""},{"$f":"IFERROR(INDEX(MyProgram!$A$7:$G$326,SMALL(IF(MyProgram!$K$7:$K$326,ROW($A$1:$A$320)),ROW($A209)),COLUMN(E$1)),\"\")","v":""},{"$f":"IFERROR(INDEX(MyProgram!$A$7:$G$326,SMALL(IF(MyProgram!$K$7:$K$326,ROW($A$1:$A$320)),ROW($A209)),COLUMN(F$1)),\"\")","v":""},{"$f":"IFERROR(INDEX(MyProgram!$A$7:$G$326,SMALL(IF(MyProgram!$K$7:$K$326,ROW($A$1:$A$320)),ROW($A209)),COLUMN(G$1)),\"\")","v":""}]
[null,{"$f":"IFERROR(INDEX(MyProgram!$A$7:$G$326,SMALL(IF(MyProgram!$K$7:$K$326,ROW($A$1:$A$320)),ROW($A210)),COLUMN(B$1)),\"\")","v":""},{"$f":"IFERROR(INDEX(MyProgram!$A$7:$G$326,SMALL(IF(MyProgram!$K$7:$K$326,ROW($A$1:$A$320)),ROW($A210)),COLUMN(C$1)),\"\")","v":""},{"$f":"IFERROR(INDEX(MyProgram!$A$7:$G$326,SMALL(IF(MyProgram!$K$7:$K$326,ROW($A$1:$A$320)),ROW($A210)),COLUMN(D$1)),\"\")","v":""},null,{"$f":"IFERROR(INDEX(MyProgram!$A$7:$G$326,SMALL(IF(MyProgram!$K$7:$K$326,ROW($A$1:$A$320)),ROW($A210)),COLUMN(F$1)),\"\")","v":""}]
[{"$f":"IFERROR(INDEX(MyProgram!$A$7:$G$326,SMALL(IF(MyProgram!$K$7:$K$326,ROW($A$1:$A$320)),ROW($A211)),COLUMN(A$1)),\"\")","v":""},{"$f":"IFERROR(INDEX(MyProgram!$A$7:$G$326,SMALL(IF(MyProgram!$K$7:$K$326,ROW($A$1:$A$320)),ROW($A211)),COLUMN(B$1)),\"\")","v":""},{"$f":"IFERROR(INDEX(MyProgram!$A$7:$G$326,SMALL(IF(MyProgram!$K$7:$K$326,ROW($A$1:$A$320)),ROW($A211)),COLUMN(C$1)),\"\")","v":""},{"$f":"IFERROR(INDEX(MyProgram!$A$7:$G$326,SMALL(IF(MyProgram!$K$7:$K$326,ROW($A$1:$A$320)),ROW($A211)),COLUMN(D$1)),\"\")","v":""},{"$f":"IFERROR(INDEX(MyProgram!$A$7:$G$326,SMALL(IF(MyProgram!$K$7:$K$326,ROW($A$1:$A$320)),ROW($A211)),COLUMN(E$1)),\"\")","v":""},{"$f":"IFERROR(INDEX(MyProgram!$A$7:$G$326,SMALL(IF(MyProgram!$K$7:$K$326,ROW($A$1:$A$320)),ROW($A211)),COLUMN(F$1)),\"\")","v":""},{"$f":"IFERROR(INDEX(MyProgram!$A$7:$G$326,SMALL(IF(MyProgram!$K$7:$K$326,ROW($A$1:$A$320)),ROW($A211)),COLUMN(G$1)),\"\")","v":""}]
[null,{"$f":"IFERROR(INDEX(MyProgram!$A$7:$G$326,SMALL(IF(MyProgram!$K$7:$K$326,ROW($A$1:$A$320)),ROW($A212)),COLUMN(B$1)),\"\")","v":""},{"$f":"IFERROR(INDEX(MyProgram!$A$7:$G$326,SMALL(IF(MyProgram!$K$7:$K$326,ROW($A$1:$A$320)),ROW($A212)),COLUMN(C$1)),\"\")","v":""},{"$f":"IFERROR(INDEX(MyProgram!$A$7:$G$326,SMALL(IF(MyProgram!$K$7:$K$326,ROW($A$1:$A$320)),ROW($A212)),COLUMN(D$1)),\"\")","v":""},null,{"$f":"IFERROR(INDEX(MyProgram!$A$7:$G$326,SMALL(IF(MyProgram!$K$7:$K$326,ROW($A$1:$A$320)),ROW($A212)),COLUMN(F$1)),\"\")","v":""}]
[{"$f":"IFERROR(INDEX(MyProgram!$A$7:$G$326,SMALL(IF(MyProgram!$K$7:$K$326,ROW($A$1:$A$320)),ROW($A213)),COLUMN(A$1)),\"\")","v":""},{"$f":"IFERROR(INDEX(MyProgram!$A$7:$G$326,SMALL(IF(MyProgram!$K$7:$K$326,ROW($A$1:$A$320)),ROW($A213)),COLUMN(B$1)),\"\")","v":""},{"$f":"IFERROR(INDEX(MyProgram!$A$7:$G$326,SMALL(IF(MyProgram!$K$7:$K$326,ROW($A$1:$A$320)),ROW($A213)),COLUMN(C$1)),\"\")","v":""},{"$f":"IFERROR(INDEX(MyProgram!$A$7:$G$326,SMALL(IF(MyProgram!$K$7:$K$326,ROW($A$1:$A$320)),ROW($A213)),COLUMN(D$1)),\"\")","v":""},{"$f":"IFERROR(INDEX(MyProgram!$A$7:$G$326,SMALL(IF(MyProgram!$K$7:$K$326,ROW($A$1:$A$320)),ROW($A213)),COLUMN(E$1)),\"\")","v":""},{"$f":"IFERROR(INDEX(MyProgram!$A$7:$G$326,SMALL(IF(MyProgram!$K$7:$K$326,ROW($A$1:$A$320)),ROW($A213)),COLUMN(F$1)),\"\")","v":""},{"$f":"IFERROR(INDEX(MyProgram!$A$7:$G$326,SMALL(IF(MyProgram!$K$7:$K$326,ROW($A$1:$A$320)),ROW($A213)),COLUMN(G$1)),\"\")","v":""}]
[null,{"$f":"IFERROR(INDEX(MyProgram!$A$7:$G$326,SMALL(IF(MyProgram!$K$7:$K$326,ROW($A$1:$A$320)),ROW($A214)),COLUMN(B$1)),\"\")","v":""},{"$f":"IFERROR(INDEX(MyProgram!$A$7:$G$326,SMALL(IF(MyProgram!$K$7:$K$326,ROW($A$1:$A$320)),ROW($A214)),COLUMN(C$1)),\"\")","v":""},{"$f":"IFERROR(INDEX(MyProgram!$A$7:$G$326,SMALL(IF(MyProgram!$K$7:$K$326,ROW($A$1:$A$320)),ROW($A214)),COLUMN(D$1)),\"\")","v":""},null,{"$f":"IFERROR(INDEX(MyProgram!$A$7:$G$326,SMALL(IF(MyProgram!$K$7:$K$326,ROW($A$1:$A$320)),ROW($A214)),COLUMN(F$1)),\"\")","v":""}]
[{"$f":"IFERROR(INDEX(MyProgram!$A$7:$G$326,SMALL(IF(MyProgram!$K$7:$K$326,ROW($A$1:$A$320)),ROW($A215)),COLUMN(A$1)),\"\")","v":""},{"$f":"IFERROR(INDEX(MyProgram!$A$7:$G$326,SMALL(IF(MyProgram!$K$7:$K$326,ROW($A$1:$A$320)),ROW($A215)),COLUMN(B$1)),\"\")","v":""},{"$f":"IFERROR(INDEX(MyProgram!$A$7:$G$326,SMALL(IF(MyProgram!$K$7:$K$326,ROW($A$1:$A$320)),ROW($A215)),COLUMN(C$1)),\"\")","v":""},{"$f":"IFERROR(INDEX(MyProgram!$A$7:$G$326,SMALL(IF(MyProgram!$K$7:$K$326,ROW($A$1:$A$320)),ROW($A215)),COLUMN(D$1)),\"\")","v":""},{"$f":"IFERROR(INDEX(MyProgram!$A$7:$G$326,SMALL(IF(MyProgram!$K$7:$K$326,ROW($A$1:$A$320)),ROW($A215)),COLUMN(E$1)),\"\")","v":""},{"$f":"IFERROR(INDEX(MyProgram!$A$7:$G$326,SMALL(IF(MyProgram!$K$7:$K$326,ROW($A$1:$A$320)),ROW($A215)),COLUMN(F$1)),\"\")","v":""},{"$f":"IFERROR(INDEX(MyProgram!$A$7:$G$326,SMALL(IF(MyProgram!$K$7:$K$326,ROW($A$1:$A$320)),ROW($A215)),COLUMN(G$1)),\"\")","v":""}]
[null,{"$f":"IFERROR(INDEX(MyProgram!$A$7:$G$326,SMALL(IF(MyProgram!$K$7:$K$326,ROW($A$1:$A$320)),ROW($A216)),COLUMN(B$1)),\"\")","v":""},{"$f":"IFERROR(INDEX(MyProgram!$A$7:$G$326,SMALL(IF(MyProgram!$K$7:$K$326,ROW($A$1:$A$320)),ROW($A216)),COLUMN(C$1)),\"\")","v":""},{"$f":"IFERROR(INDEX(MyProgram!$A$7:$G$326,SMALL(IF(MyProgram!$K$7:$K$326,ROW($A$1:$A$320)),ROW($A216)),COLUMN(D$1)),\"\")","v":""},null,{"$f":"IFERROR(INDEX(MyProgram!$A$7:$G$326,SMALL(IF(MyProgram!$K$7:$K$326,ROW($A$1:$A$320)),ROW($A216)),COLUMN(F$1)),\"\")","v":""}]
[{"$f":"IFERROR(INDEX(MyProgram!$A$7:$G$326,SMALL(IF(MyProgram!$K$7:$K$326,ROW($A$1:$A$320)),ROW($A217)),COLUMN(A$1)),\"\")","v":""},{"$f":"IFERROR(INDEX(MyProgram!$A$7:$G$326,SMALL(IF(MyProgram!$K$7:$K$326,ROW($A$1:$A$320)),ROW($A217)),COLUMN(B$1)),\"\")","v":""},{"$f":"IFERROR(INDEX(MyProgram!$A$7:$G$326,SMALL(IF(MyProgram!$K$7:$K$326,ROW($A$1:$A$320)),ROW($A217)),COLUMN(C$1)),\"\")","v":""},{"$f":"IFERROR(INDEX(MyProgram!$A$7:$G$326,SMALL(IF(MyProgram!$K$7:$K$326,ROW($A$1:$A$320)),ROW($A217)),COLUMN(D$1)),\"\")","v":""},{"$f":"IFERROR(INDEX(MyProgram!$A$7:$G$326,SMALL(IF(MyProgram!$K$7:$K$326,ROW($A$1:$A$320)),ROW($A217)),COLUMN(E$1)),\"\")","v":""},{"$f":"IFERROR(INDEX(MyProgram!$A$7:$G$326,SMALL(IF(MyProgram!$K$7:$K$326,ROW($A$1:$A$320)),ROW($A217)),COLUMN(F$1)),\"\")","v":""},{"$f":"IFERROR(INDEX(MyProgram!$A$7:$G$326,SMALL(IF(MyProgram!$K$7:$K$326,ROW($A$1:$A$320)),ROW($A217)),COLUMN(G$1)),\"\")","v":""}]
[null,{"$f":"IFERROR(INDEX(MyProgram!$A$7:$G$326,SMALL(IF(MyProgram!$K$7:$K$326,ROW($A$1:$A$320)),ROW($A218)),COLUMN(B$1)),\"\")","v":""},{"$f":"IFERROR(INDEX(MyProgram!$A$7:$G$326,SMALL(IF(MyProgram!$K$7:$K$326,ROW($A$1:$A$320)),ROW($A218)),COLUMN(C$1)),\"\")","v":""},{"$f":"IFERROR(INDEX(MyProgram!$A$7:$G$326,SMALL(IF(MyProgram!$K$7:$K$326,ROW($A$1:$A$320)),ROW($A218)),COLUMN(D$1)),\"\")","v":""},null,{"$f":"IFERROR(INDEX(MyProgram!$A$7:$G$326,SMALL(IF(MyProgram!$K$7:$K$326,ROW($A$1:$A$320)),ROW($A218)),COLUMN(F$1)),\"\")","v":""}]
[{"$f":"IFERROR(INDEX(MyProgram!$A$7:$G$326,SMALL(IF(MyProgram!$K$7:$K$326,ROW($A$1:$A$320)),ROW($A219)),COLUMN(A$1)),\"\")","v":""},{"$f":"IFERROR(INDEX(MyProgram!$A$7:$G$326,SMALL(IF(MyProgram!$K$7:$K$326,ROW($A$1:$A$320)),ROW($A219)),COLUMN(B$1)),\"\")","v":""},{"$f":"IFERROR(INDEX(MyProgram!$A$7:$G$326,SMALL(IF(MyProgram!$K$7:$K$326,ROW($A$1:$A$320)),ROW($A219)),COLUMN(C$1)),\"\")","v":""},{"$f":"IFERROR(INDEX(MyProgram!$A$7:$G$326,SMALL(IF(MyProgram!$K$7:$K$326,ROW($A$1:$A$320)),ROW($A219)),COLUMN(D$1)),\"\")","v":""},{"$f":"IFERROR(INDEX(MyProgram!$A$7:$G$326,SMALL(IF(MyProgram!$K$7:$K$326,ROW($A$1:$A$320)),ROW($A219)),COLUMN(E$1)),\"\")","v":""},{"$f":"IFERROR(INDEX(MyProgram!$A$7:$G$326,SMALL(IF(MyProgram!$K$7:$K$326,ROW($A$1:$A$320)),ROW($A219)),COLUMN(F$1)),\"\")","v":""},{"$f":"IFERROR(INDEX(MyProgram!$A$7:$G$326,SMALL(IF(MyProgram!$K$7:$K$326,ROW($A$1:$A$320)),ROW($A219)),COLUMN(G$1)),\"\")","v":""}]
[null,{"$f":"IFERROR(INDEX(MyProgram!$A$7:$G$326,SMALL(IF(MyProgram!$K$7:$K$326,ROW($A$1:$A$320)),ROW($A220)),COLUMN(B$1)),\"\")","v":""},{"$f":"IFERROR(INDEX(MyProgram!$A$7:$G$326,SMALL(IF(MyProgram!$K$7:$K$326,ROW($A$1:$A$320)),ROW($A220)),COLUMN(C$1)),\"\")","v":""},{"$f":"IFERROR(INDEX(MyProgram!$A$7:$G$326,SMALL(IF(MyProgram!$K$7:$K$326,ROW($A$1:$A$320)),ROW($A220)),COLUMN(D$1)),\"\")","v":""},null,{"$f":"IFERROR(INDEX(MyProgram!$A$7:$G$326,SMALL(IF(MyProgram!$K$7:$K$326,ROW($A$1:$A$320)),ROW($A220)),COLUMN(F$1)),\"\")","v":""}]
[{"$f":"IFERROR(INDEX(MyProgram!$A$7:$G$326,SMALL(IF(MyProgram!$K$7:$K$326,ROW($A$1:$A$320)),ROW($A221)),COLUMN(A$1)),\"\")","v":""},{"$f":"IFERROR(INDEX(MyProgram!$A$7:$G$326,SMALL(IF(MyProgram!$K$7:$K$326,ROW($A$1:$A$320)),ROW($A221)),COLUMN(B$1)),\"\")","v":""},{"$f":"IFERROR(INDEX(MyProgram!$A$7:$G$326,SMALL(IF(MyProgram!$K$7:$K$326,ROW($A$1:$A$320)),ROW($A221)),COLUMN(C$1)),\"\")","v":""},{"$f":"IFERROR(INDEX(MyProgram!$A$7:$G$326,SMALL(IF(MyProgram!$K$7:$K$326,ROW($A$1:$A$320)),ROW($A221)),COLUMN(D$1)),\"\")","v":""},{"$f":"IFERROR(INDEX(MyProgram!$A$7:$G$326,SMALL(IF(MyProgram!$K$7:$K$326,ROW($A$1:$A$320)),ROW($A221)),COLUMN(E$1)),\"\")","v":""},{"$f":"IFERROR(INDEX(MyProgram!$A$7:$G$326,SMALL(IF(MyProgram!$K$7:$K$326,ROW($A$1:$A$320)),ROW($A221)),COLUMN(F$1)),\"\")","v":""},{"$f":"IFERROR(INDEX(MyProgram!$A$7:$G$326,SMALL(IF(MyProgram!$K$7:$K$326,ROW($A$1:$A$320)),ROW($A221)),COLUMN(G$1)),\"\")","v":""}]
[null,{"$f":"IFERROR(INDEX(MyProgram!$A$7:$G$326,SMALL(IF(MyProgram!$K$7:$K$326,ROW($A$1:$A$320)),ROW($A222)),COLUMN(B$1)),\"\")","v":""},{"$f":"IFERROR(INDEX(MyProgram!$A$7:$G$326,SMALL(IF(MyProgram!$K$7:$K$326,ROW($A$1:$A$320)),ROW($A222)),COLUMN(C$1)),\"\")","v":""},{"$f":"IFERROR(INDEX(MyProgram!$A$7:$G$326,SMALL(IF(MyProgram!$K$7:$K$326,ROW($A$1:$A$320)),ROW($A222)),COLUMN(D$1)),\"\")","v":""},null,{"$f":"IFERROR(INDEX(MyProgram!$A$7:$G$326,SMALL(IF(MyProgram!$K$7:$K$326,ROW($A$1:$A$320)),ROW($A222)),COLUMN(F$1)),\"\")","v":""}]
[{"$f":"IFERROR(INDEX(MyProgram!$A$7:$G$326,SMALL(IF(MyProgram!$K$7:$K$326,ROW($A$1:$A$320)),ROW($A223)),COLUMN(A$1)),\"\")","v":""},{"$f":"IFERROR(INDEX(MyProgram!$A$7:$G$326,SMALL(IF(MyProgram!$K$7:$K$326,ROW($A$1:$A$320)),ROW($A223)),COLUMN(B$1)),\"\")","v":""},{"$f":"IFERROR(INDEX(MyProgram!$A$7:$G$326,SMALL(IF(MyProgram!$K$7:$K$326,ROW($A$1:$A$320)),ROW($A223)),COLUMN(C$1)),\"\")","v":""},{"$f":"IFERROR(INDEX(MyProgram!$A$7:$G$326,SMALL(IF(MyProgram!$K$7:$K$326,ROW($A$1:$A$320)),ROW($A223)),COLUMN(D$1)),\"\")","v":""},{"$f":"IFERROR(INDEX(MyProgram!$A$7:$G$326,SMALL(IF(MyProgram!$K$7:$K$326,ROW($A$1:$A$320)),ROW($A223)),COLUMN(E$1)),\"\")","v":""},{"$f":"IFERROR(INDEX(MyProgram!$A$7:$G$326,SMALL(IF(MyProgram!$K$7:$K$326,ROW($A$1:$A$320)),ROW($A223)),COLUMN(F$1)),\"\")","v":""},{"$f":"IFERROR(INDEX(MyProgram!$A$7:$G$326,SMALL(IF(MyProgram!$K$7:$K$326,ROW($A$1:$A$320)),ROW($A223)),COLUMN(G$1)),\"\")","v":""}]
[null,{"$f":"IFERROR(INDEX(MyProgram!$A$7:$G$326,SMALL(IF(MyProgram!$K$7:$K$326,ROW($A$1:$A$320)),ROW($A224)),COLUMN(B$1)),\"\")","v":""},{"$f":"IFERROR(INDEX(MyProgram!$A$7:$G$326,SMALL(IF(MyProgram!$K$7:$K$326,ROW($A$1:$A$320)),ROW($A224)),COLUMN(C$1)),\"\")","v":""},{"$f":"IFERROR(INDEX(MyProgram!$A$7:$G$326,SMALL(IF(MyProgram!$K$7:$K$326,ROW($A$1:$A$320)),ROW($A224)),COLUMN(D$1)),\"\")","v":""},null,{"$f":"IFERROR(INDEX(MyProgram!$A$7:$G$326,SMALL(IF(MyProgram!$K$7:$K$326,ROW($A$1:$A$320)),ROW($A224)),COLUMN(F$1)),\"\")","v":""}]
[{"$f":"IFERROR(INDEX(MyProgram!$A$7:$G$326,SMALL(IF(MyProgram!$K$7:$K$326,ROW($A$1:$A$320)),ROW($A225)),COLUMN(A$1)),\"\")","v":""},{"$f":"IFERROR(INDEX(MyProgram!$A$7:$G$326,SMALL(IF(MyProgram!$K$7:$K$326,ROW($A$1:$A$320)),ROW($A225)),COLUMN(B$1)),\"\")","v":""},{"$f":"IFERROR(INDEX(MyProgram!$A$7:$G$326,SMALL(IF(MyProgram!$K$7:$K$326,ROW($A$1:$A$320)),ROW($A225)),COLUMN(C$1)),\"\")","v":""},{"$f":"IFERROR(INDEX(MyProgram!$A$7:$G$326,SMALL(IF(MyProgram!$K$7:$K$326,ROW($A$1:$A$320)),ROW($A225)),COLUMN(D$1)),\"\")","v":""},{"$f":"IFERROR(INDEX(MyProgram!$A$7:$G$326,SMALL(IF(MyProgram!$K$7:$K$326,ROW($A$1:$A$320)),ROW($A225)),COLUMN(E$1)),\"\")","v":""},{"$f":"IFERROR(INDEX(MyProgram!$A$7:$G$326,SMALL(IF(MyProgram!$K$7:$K$326,ROW($A$1:$A$320)),ROW($A225)),COLUMN(F$1)),\"\")","v":""},{"$f":"IFERROR(INDEX(MyProgram!$A$7:$G$326,SMALL(IF(MyProgram!$K$7:$K$326,ROW($A$1:$A$320)),ROW($A225)),COLUMN(G$1)),\"\")","v":""}]
[null,{"$f":"IFERROR(INDEX(MyProgram!$A$7:$G$326,SMALL(IF(MyProgram!$K$7:$K$326,ROW($A$1:$A$320)),ROW($A226)),COLUMN(B$1)),\"\")","v":""},{"$f":"IFERROR(INDEX(MyProgram!$A$7:$G$326,SMALL(IF(MyProgram!$K$7:$K$326,ROW($A$1:$A$320)),ROW($A226)),COLUMN(C$1)),\"\")","v":""},{"$f":"IFERROR(INDEX(MyProgram!$A$7:$G$326,SMALL(IF(MyProgram!$K$7:$K$326,ROW($A$1:$A$320)),ROW($A226)),COLUMN(D$1)),\"\")","v":""},null,{"$f":"IFERROR(INDEX(MyProgram!$A$7:$G$326,SMALL(IF(MyProgram!$K$7:$K$326,ROW($A$1:$A$320)),ROW($A226)),COLUMN(F$1)),\"\")","v":""}]
[{"$f":"IFERROR(INDEX(MyProgram!$A$7:$G$326,SMALL(IF(MyProgram!$K$7:$K$326,ROW($A$1:$A$320)),ROW($A227)),COLUMN(A$1)),\"\")","v":""},{"$f":"IFERROR(INDEX(MyProgram!$A$7:$G$326,SMALL(IF(MyProgram!$K$7:$K$326,ROW($A$1:$A$320)),ROW($A227)),COLUMN(B$1)),\"\")","v":""},{"$f":"IFERROR(INDEX(MyProgram!$A$7:$G$326,SMALL(IF(MyProgram!$K$7:$K$326,ROW($A$1:$A$320)),ROW($A227)),COLUMN(C$1)),\"\")","v":""},{"$f":"IFERROR(INDEX(MyProgram!$A$7:$G$326,SMALL(IF(MyProgram!$K$7:$K$326,ROW($A$1:$A$320)),ROW($A227)),COLUMN(D$1)),\"\")","v":""},{"$f":"IFERROR(INDEX(MyProgram!$A$7:$G$326,SMALL(IF(MyProgram!$K$7:$K$326,ROW($A$1:$A$320)),ROW($A227)),COLUMN(E$1)),\"\")","v":""},{"$f":"IFERROR(INDEX(MyProgram!$A$7:$G$326,SMALL(IF(MyProgram!$K$7:$K$326,ROW($A$1:$A$320)),ROW($A227)),COLUMN(F$1)),\"\")","v":""},{"$f":"IFERROR(INDEX(MyProgram!$A$7:$G$326,SMALL(IF(MyProgram!$K$7:$K$326,ROW($A$1:$A$320)),ROW($A227)),COLUMN(G$1)),\"\")","v":""}]
[null,{"$f":"IFERROR(INDEX(MyProgram!$A$7:$G$326,SMALL(IF(MyProgram!$K$7:$K$326,ROW($A$1:$A$320)),ROW($A228)),COLUMN(B$1)),\"\")","v":""},{"$f":"IFERROR(INDEX(MyProgram!$A$7:$G$326,SMALL(IF(MyProgram!$K$7:$K$326,ROW($A$1:$A$320)),ROW($A228)),COLUMN(C$1)),\"\")","v":""},{"$f":"IFERROR(INDEX(MyProgram!$A$7:$G$326,SMALL(IF(MyProgram!$K$7:$K$326,ROW($A$1:$A$320)),ROW($A228)),COLUMN(D$1)),\"\")","v":""},null,{"$f":"IFERROR(INDEX(MyProgram!$A$7:$G$326,SMALL(IF(MyProgram!$K$7:$K$326,ROW($A$1:$A$320)),ROW($A228)),COLUMN(F$1)),\"\")","v":""}]
[{"$f":"IFERROR(INDEX(MyProgram!$A$7:$G$326,SMALL(IF(MyProgram!$K$7:$K$326,ROW($A$1:$A$320)),ROW($A229)),COLUMN(A$1)),\"\")","v":""},{"$f":"IFERROR(INDEX(MyProgram!$A$7:$G$326,SMALL(IF(MyProgram!$K$7:$K$326,ROW($A$1:$A$320)),ROW($A229)),COLUMN(B$1)),\"\")","v":""},{"$f":"IFERROR(INDEX(MyProgram!$A$7:$G$326,SMALL(IF(MyProgram!$K$7:$K$326,ROW($A$1:$A$320)),ROW($A229)),COLUMN(C$1)),\"\")","v":""},{"$f":"IFERROR(INDEX(MyProgram!$A$7:$G$326,SMALL(IF(MyProgram!$K$7:$K$326,ROW($A$1:$A$320)),ROW($A229)),COLUMN(D$1)),\"\")","v":""},{"$f":"IFERROR(INDEX(MyProgram!$A$7:$G$326,SMALL(IF(MyProgram!$K$7:$K$326,ROW($A$1:$A$320)),ROW($A229)),COLUMN(E$1)),\"\")","v":""},{"$f":"IFERROR(INDEX(MyProgram!$A$7:$G$326,SMALL(IF(MyProgram!$K$7:$K$326,ROW($A$1:$A$320)),ROW($A229)),COLUMN(F$1)),\"\")","v":""},{"$f":"IFERROR(INDEX(MyProgram!$A$7:$G$326,SMALL(IF(MyProgram!$K$7:$K$326,ROW($A$1:$A$320)),ROW($A229)),COLUMN(G$1)),\"\")","v":""}]
[null,{"$f":"IFERROR(INDEX(MyProgram!$A$7:$G$326,SMALL(IF(MyProgram!$K$7:$K$326,ROW($A$1:$A$320)),ROW($A230)),COLUMN(B$1)),\"\")","v":""},{"$f":"IFERROR(INDEX(MyProgram!$A$7:$G$326,SMALL(IF(MyProgram!$K$7:$K$326,ROW($A$1:$A$320)),ROW($A230)),COLUMN(C$1)),\"\")","v":""},{"$f":"IFERROR(INDEX(MyProgram!$A$7:$G$326,SMALL(IF(MyProgram!$K$7:$K$326,ROW($A$1:$A$320)),ROW($A230)),COLUMN(D$1)),\"\")","v":""},null,{"$f":"IFERROR(INDEX(MyProgram!$A$7:$G$326,SMALL(IF(MyProgram!$K$7:$K$326,ROW($A$1:$A$320)),ROW($A230)),COLUMN(F$1)),\"\")","v":""}]
[{"$f":"IFERROR(INDEX(MyProgram!$A$7:$G$326,SMALL(IF(MyProgram!$K$7:$K$326,ROW($A$1:$A$320)),ROW($A231)),COLUMN(A$1)),\"\")","v":""},{"$f":"IFERROR(INDEX(MyProgram!$A$7:$G$326,SMALL(IF(MyProgram!$K$7:$K$326,ROW($A$1:$A$320)),ROW($A231)),COLUMN(B$1)),\"\")","v":""},{"$f":"IFERROR(INDEX(MyProgram!$A$7:$G$326,SMALL(IF(MyProgram!$K$7:$K$326,ROW($A$1:$A$320)),ROW($A231)),COLUMN(C$1)),\"\")","v":""},{"$f":"IFERROR(INDEX(MyProgram!$A$7:$G$326,SMALL(IF(MyProgram!$K$7:$K$326,ROW($A$1:$A$320)),ROW($A231)),COLUMN(D$1)),\"\")","v":""},{"$f":"IFERROR(INDEX(MyProgram!$A$7:$G$326,SMALL(IF(MyProgram!$K$7:$K$326,ROW($A$1:$A$320)),ROW($A231)),COLUMN(E$1)),\"\")","v":""},{"$f":"IFERROR(INDEX(MyProgram!$A$7:$G$326,SMALL(IF(MyProgram!$K$7:$K$326,ROW($A$1:$A$320)),ROW($A231)),COLUMN(F$1)),\"\")","v":""},{"$f":"IFERROR(INDEX(MyProgram!$A$7:$G$326,SMALL(IF(MyProgram!$K$7:$K$326,ROW($A$1:$A$320)),ROW($A231)),COLUMN(G$1)),\"\")","v":""}]
[null,{"$f":"IFERROR(INDEX(MyProgram!$A$7:$G$326,SMALL(IF(MyProgram!$K$7:$K$326,ROW($A$1:$A$320)),ROW($A232)),COLUMN(B$1)),\"\")","v":""},{"$f":"IFERROR(INDEX(MyProgram!$A$7:$G$326,SMALL(IF(MyProgram!$K$7:$K$326,ROW($A$1:$A$320)),ROW($A232)),COLUMN(C$1)),\"\")","v":""},{"$f":"IFERROR(INDEX(MyProgram!$A$7:$G$326,SMALL(IF(MyProgram!$K$7:$K$326,ROW($A$1:$A$320)),ROW($A232)),COLUMN(D$1)),\"\")","v":""},null,{"$f":"IFERROR(INDEX(MyProgram!$A$7:$G$326,SMALL(IF(MyProgram!$K$7:$K$326,ROW($A$1:$A$320)),ROW($A232)),COLUMN(F$1)),\"\")","v":""}]
[{"$f":"IFERROR(INDEX(MyProgram!$A$7:$G$326,SMALL(IF(MyProgram!$K$7:$K$326,ROW($A$1:$A$320)),ROW($A233)),COLUMN(A$1)),\"\")","v":""},{"$f":"IFERROR(INDEX(MyProgram!$A$7:$G$326,SMALL(IF(MyProgram!$K$7:$K$326,ROW($A$1:$A$320)),ROW($A233)),COLUMN(B$1)),\"\")","v":""},{"$f":"IFERROR(INDEX(MyProgram!$A$7:$G$326,SMALL(IF(MyProgram!$K$7:$K$326,ROW($A$1:$A$320)),ROW($A233)),COLUMN(C$1)),\"\")","v":""},{"$f":"IFERROR(INDEX(MyProgram!$A$7:$G$326,SMALL(IF(MyProgram!$K$7:$K$326,ROW($A$1:$A$320)),ROW($A233)),COLUMN(D$1)),\"\")","v":""},{"$f":"IFERROR(INDEX(MyProgram!$A$7:$G$326,SMALL(IF(MyProgram!$K$7:$K$326,ROW($A$1:$A$320)),ROW($A233)),COLUMN(E$1)),\"\")","v":""},{"$f":"IFERROR(INDEX(MyProgram!$A$7:$G$326,SMALL(IF(MyProgram!$K$7:$K$326,ROW($A$1:$A$320)),ROW($A233)),COLUMN(F$1)),\"\")","v":""},{"$f":"IFERROR(INDEX(MyProgram!$A$7:$G$326,SMALL(IF(MyProgram!$K$7:$K$326,ROW($A$1:$A$320)),ROW($A233)),COLUMN(G$1)),\"\")","v":""}]
[null,{"$f":"IFERROR(INDEX(MyProgram!$A$7:$G$326,SMALL(IF(MyProgram!$K$7:$K$326,ROW($A$1:$A$320)),ROW($A234)),COLUMN(B$1)),\"\")","v":""},{"$f":"IFERROR(INDEX(MyProgram!$A$7:$G$326,SMALL(IF(MyProgram!$K$7:$K$326,ROW($A$1:$A$320)),ROW($A234)),COLUMN(C$1)),\"\")","v":""},{"$f":"IFERROR(INDEX(MyProgram!$A$7:$G$326,SMALL(IF(MyProgram!$K$7:$K$326,ROW($A$1:$A$320)),ROW($A234)),COLUMN(D$1)),\"\")","v":""},null,{"$f":"IFERROR(INDEX(MyProgram!$A$7:$G$326,SMALL(IF(MyProgram!$K$7:$K$326,ROW($A$1:$A$320)),ROW($A234)),COLUMN(F$1)),\"\")","v":""}]
[{"$f":"IFERROR(INDEX(MyProgram!$A$7:$G$326,SMALL(IF(MyProgram!$K$7:$K$326,ROW($A$1:$A$320)),ROW($A235)),COLUMN(A$1)),\"\")","v":""},{"$f":"IFERROR(INDEX(MyProgram!$A$7:$G$326,SMALL(IF(MyProgram!$K$7:$K$326,ROW($A$1:$A$320)),ROW($A235)),COLUMN(B$1)),\"\")","v":""},{"$f":"IFERROR(INDEX(MyProgram!$A$7:$G$326,SMALL(IF(MyProgram!$K$7:$K$326,ROW($A$1:$A$320)),ROW($A235)),COLUMN(C$1)),\"\")","v":""},{"$f":"IFERROR(INDEX(MyProgram!$A$7:$G$326,SMALL(IF(MyProgram!$K$7:$K$326,ROW($A$1:$A$320)),ROW($A235)),COLUMN(D$1)),\"\")","v":""},{"$f":"IFERROR(INDEX(MyProgram!$A$7:$G$326,SMALL(IF(MyProgram!$K$7:$K$326,ROW($A$1:$A$320)),ROW($A235)),COLUMN(E$1)),\"\")","v":""},{"$f":"IFERROR(INDEX(MyProgram!$A$7:$G$326,SMALL(IF(MyProgram!$K$7:$K$326,ROW($A$1:$A$320)),ROW($A235)),COLUMN(F$1)),\"\")","v":""},{"$f":"IFERROR(INDEX(MyProgram!$A$7:$G$326,SMALL(IF(MyProgram!$K$7:$K$326,ROW($A$1:$A$320)),ROW($A235)),COLUMN(G$1)),\"\")","v":""}]
[null,{"$f":"IFERROR(INDEX(MyProgram!$A$7:$G$326,SMALL(IF(MyProgram!$K$7:$K$326,ROW($A$1:$A$320)),ROW($A236)),COLUMN(B$1)),\"\")","v":""},{"$f":"IFERROR(INDEX(MyProgram!$A$7:$G$326,SMALL(IF(MyProgram!$K$7:$K$326,ROW($A$1:$A$320)),ROW($A236)),COLUMN(C$1)),\"\")","v":""},{"$f":"IFERROR(INDEX(MyProgram!$A$7:$G$326,SMALL(IF(MyProgram!$K$7:$K$326,ROW($A$1:$A$320)),ROW($A236)),COLUMN(D$1)),\"\")","v":""},null,{"$f":"IFERROR(INDEX(MyProgram!$A$7:$G$326,SMALL(IF(MyProgram!$K$7:$K$326,ROW($A$1:$A$320)),ROW($A236)),COLUMN(F$1)),\"\")","v":""}]
[{"$f":"IFERROR(INDEX(MyProgram!$A$7:$G$326,SMALL(IF(MyProgram!$K$7:$K$326,ROW($A$1:$A$320)),ROW($A237)),COLUMN(A$1)),\"\")","v":""},{"$f":"IFERROR(INDEX(MyProgram!$A$7:$G$326,SMALL(IF(MyProgram!$K$7:$K$326,ROW($A$1:$A$320)),ROW($A237)),COLUMN(B$1)),\"\")","v":""},{"$f":"IFERROR(INDEX(MyProgram!$A$7:$G$326,SMALL(IF(MyProgram!$K$7:$K$326,ROW($A$1:$A$320)),ROW($A237)),COLUMN(C$1)),\"\")","v":""},{"$f":"IFERROR(INDEX(MyProgram!$A$7:$G$326,SMALL(IF(MyProgram!$K$7:$K$326,ROW($A$1:$A$320)),ROW($A237)),COLUMN(D$1)),\"\")","v":""},{"$f":"IFERROR(INDEX(MyProgram!$A$7:$G$326,SMALL(IF(MyProgram!$K$7:$K$326,ROW($A$1:$A$320)),ROW($A237)),COLUMN(E$1)),\"\")","v":""},{"$f":"IFERROR(INDEX(MyProgram!$A$7:$G$326,SMALL(IF(MyProgram!$K$7:$K$326,ROW($A$1:$A$320)),ROW($A237)),COLUMN(F$1)),\"\")","v":""},{"$f":"IFERROR(INDEX(MyProgram!$A$7:$G$326,SMALL(IF(MyProgram!$K$7:$K$326,ROW($A$1:$A$320)),ROW($A237)),COLUMN(G$1)),\"\")","v":""}]
[null,{"$f":"IFERROR(INDEX(MyProgram!$A$7:$G$326,SMALL(IF(MyProgram!$K$7:$K$326,ROW($A$1:$A$320)),ROW($A238)),COLUMN(B$1)),\"\")","v":""},{"$f":"IFERROR(INDEX(MyProgram!$A$7:$G$326,SMALL(IF(MyProgram!$K$7:$K$326,ROW($A$1:$A$320)),ROW($A238)),COLUMN(C$1)),\"\")","v":""},{"$f":"IFERROR(INDEX(MyProgram!$A$7:$G$326,SMALL(IF(MyProgram!$K$7:$K$326,ROW($A$1:$A$320)),ROW($A238)),COLUMN(D$1)),\"\")","v":""},null,{"$f":"IFERROR(INDEX(MyProgram!$A$7:$G$326,SMALL(IF(MyProgram!$K$7:$K$326,ROW($A$1:$A$320)),ROW($A238)),COLUMN(F$1)),\"\")","v":""}]
[{"$f":"IFERROR(INDEX(MyProgram!$A$7:$G$326,SMALL(IF(MyProgram!$K$7:$K$326,ROW($A$1:$A$320)),ROW($A239)),COLUMN(A$1)),\"\")","v":""},{"$f":"IFERROR(INDEX(MyProgram!$A$7:$G$326,SMALL(IF(MyProgram!$K$7:$K$326,ROW($A$1:$A$320)),ROW($A239)),COLUMN(B$1)),\"\")","v":""},{"$f":"IFERROR(INDEX(MyProgram!$A$7:$G$326,SMALL(IF(MyProgram!$K$7:$K$326,ROW($A$1:$A$320)),ROW($A239)),COLUMN(C$1)),\"\")","v":""},{"$f":"IFERROR(INDEX(MyProgram!$A$7:$G$326,SMALL(IF(MyProgram!$K$7:$K$326,ROW($A$1:$A$320)),ROW($A239)),COLUMN(D$1)),\"\")","v":""},{"$f":"IFERROR(INDEX(MyProgram!$A$7:$G$326,SMALL(IF(MyProgram!$K$7:$K$326,ROW($A$1:$A$320)),ROW($A239)),COLUMN(E$1)),\"\")","v":""},{"$f":"IFERROR(INDEX(MyProgram!$A$7:$G$326,SMALL(IF(MyProgram!$K$7:$K$326,ROW($A$1:$A$320)),ROW($A239)),COLUMN(F$1)),\"\")","v":""},{"$f":"IFERROR(INDEX(MyProgram!$A$7:$G$326,SMALL(IF(MyProgram!$K$7:$K$326,ROW($A$1:$A$320)),ROW($A239)),COLUMN(G$1)),\"\")","v":""}]
[null,{"$f":"IFERROR(INDEX(MyProgram!$A$7:$G$326,SMALL(IF(MyProgram!$K$7:$K$326,ROW($A$1:$A$320)),ROW($A240)),COLUMN(B$1)),\"\")","v":""},{"$f":"IFERROR(INDEX(MyProgram!$A$7:$G$326,SMALL(IF(MyProgram!$K$7:$K$326,ROW($A$1:$A$320)),ROW($A240)),COLUMN(C$1)),\"\")","v":""},{"$f":"IFERROR(INDEX(MyProgram!$A$7:$G$326,SMALL(IF(MyProgram!$K$7:$K$326,ROW($A$1:$A$320)),ROW($A240)),COLUMN(D$1)),\"\")","v":""},null,{"$f":"IFERROR(INDEX(MyProgram!$A$7:$G$326,SMALL(IF(MyProgram!$K$7:$K$326,ROW($A$1:$A$320)),ROW($A240)),COLUMN(F$1)),\"\")","v":""}]
[{"$f":"IFERROR(INDEX(MyProgram!$A$7:$G$326,SMALL(IF(MyProgram!$K$7:$K$326,ROW($A$1:$A$320)),ROW($A241)),COLUMN(A$1)),\"\")","v":""},{"$f":"IFERROR(INDEX(MyProgram!$A$7:$G$326,SMALL(IF(MyProgram!$K$7:$K$326,ROW($A$1:$A$320)),ROW($A241)),COLUMN(B$1)),\"\")","v":""},{"$f":"IFERROR(INDEX(MyProgram!$A$7:$G$326,SMALL(IF(MyProgram!$K$7:$K$326,ROW($A$1:$A$320)),ROW($A241)),COLUMN(C$1)),\"\")","v":""},{"$f":"IFERROR(INDEX(MyProgram!$A$7:$G$326,SMALL(IF(MyProgram!$K$7:$K$326,ROW($A$1:$A$320)),ROW($A241)),COLUMN(D$1)),\"\")","v":""},{"$f":"IFERROR(INDEX(MyProgram!$A$7:$G$326,SMALL(IF(MyProgram!$K$7:$K$326,ROW($A$1:$A$320)),ROW($A241)),COLUMN(E$1)),\"\")","v":""},{"$f":"IFERROR(INDEX(MyProgram!$A$7:$G$326,SMALL(IF(MyProgram!$K$7:$K$326,ROW($A$1:$A$320)),ROW($A241)),COLUMN(F$1)),\"\")","v":""},{"$f":"IFERROR(INDEX(MyProgram!$A$7:$G$326,SMALL(IF(MyProgram!$K$7:$K$326,ROW($A$1:$A$320)),ROW($A241)),COLUMN(G$1)),\"\")","v":""}]
[null,{"$f":"IFERROR(INDEX(MyProgram!$A$7:$G$326,SMALL(IF(MyProgram!$K$7:$K$326,ROW($A$1:$A$320)),ROW($A242)),COLUMN(B$1)),\"\")","v":""},{"$f":"IFERROR(INDEX(MyProgram!$A$7:$G$326,SMALL(IF(MyProgram!$K$7:$K$326,ROW($A$1:$A$320)),ROW($A242)),COLUMN(C$1)),\"\")","v":""},{"$f":"IFERROR(INDEX(MyProgram!$A$7:$G$326,SMALL(IF(MyProgram!$K$7:$K$326,ROW($A$1:$A$320)),ROW($A242)),COLUMN(D$1)),\"\")","v":""},null,{"$f":"IFERROR(INDEX(MyProgram!$A$7:$G$326,SMALL(IF(MyProgram!$K$7:$K$326,ROW($A$1:$A$320)),ROW($A242)),COLUMN(F$1)),\"\")","v":""}]
[{"$f":"IFERROR(INDEX(MyProgram!$A$7:$G$326,SMALL(IF(MyProgram!$K$7:$K$326,ROW($A$1:$A$320)),ROW($A243)),COLUMN(A$1)),\"\")","v":""},{"$f":"IFERROR(INDEX(MyProgram!$A$7:$G$326,SMALL(IF(MyProgram!$K$7:$K$326,ROW($A$1:$A$320)),ROW($A243)),COLUMN(B$1)),\"\")","v":""},{"$f":"IFERROR(INDEX(MyProgram!$A$7:$G$326,SMALL(IF(MyProgram!$K$7:$K$326,ROW($A$1:$A$320)),ROW($A243)),COLUMN(C$1)),\"\")","v":""},{"$f":"IFERROR(INDEX(MyProgram!$A$7:$G$326,SMALL(IF(MyProgram!$K$7:$K$326,ROW($A$1:$A$320)),ROW($A243)),COLUMN(D$1)),\"\")","v":""},{"$f":"IFERROR(INDEX(MyProgram!$A$7:$G$326,SMALL(IF(MyProgram!$K$7:$K$326,ROW($A$1:$A$320)),ROW($A243)),COLUMN(E$1)),\"\")","v":""},{"$f":"IFERROR(INDEX(MyProgram!$A$7:$G$326,SMALL(IF(MyProgram!$K$7:$K$326,ROW($A$1:$A$320)),ROW($A243)),COLUMN(F$1)),\"\")","v":""},{"$f":"IFERROR(INDEX(MyProgram!$A$7:$G$326,SMALL(IF(MyProgram!$K$7:$K$326,ROW($A$1:$A$320)),ROW($A243)),COLUMN(G$1)),\"\")","v":""}]
[null,{"$f":"IFERROR(INDEX(MyProgram!$A$7:$G$326,SMALL(IF(MyProgram!$K$7:$K$326,ROW($A$1:$A$320)),ROW($A244)),COLUMN(B$1)),\"\")","v":""},{"$f":"IFERROR(INDEX(MyProgram!$A$7:$G$326,SMALL(IF(MyProgram!$K$7:$K$326,ROW($A$1:$A$320)),ROW($A244)),COLUMN(C$1)),\"\")","v":""},{"$f":"IFERROR(INDEX(MyProgram!$A$7:$G$326,SMALL(IF(MyProgram!$K$7:$K$326,ROW($A$1:$A$320)),ROW($A244)),COLUMN(D$1)),\"\")","v":""},null,{"$f":"IFERROR(INDEX(MyProgram!$A$7:$G$326,SMALL(IF(MyProgram!$K$7:$K$326,ROW($A$1:$A$320)),ROW($A244)),COLUMN(F$1)),\"\")","v":""}]
[{"$f":"IFERROR(INDEX(MyProgram!$A$7:$G$326,SMALL(IF(MyProgram!$K$7:$K$326,ROW($A$1:$A$320)),ROW($A245)),COLUMN(A$1)),\"\")","v":""},{"$f":"IFERROR(INDEX(MyProgram!$A$7:$G$326,SMALL(IF(MyProgram!$K$7:$K$326,ROW($A$1:$A$320)),ROW($A245)),COLUMN(B$1)),\"\")","v":""},{"$f":"IFERROR(INDEX(MyProgram!$A$7:$G$326,SMALL(IF(MyProgram!$K$7:$K$326,ROW($A$1:$A$320)),ROW($A245)),COLUMN(C$1)),\"\")","v":""},{"$f":"IFERROR(INDEX(MyProgram!$A$7:$G$326,SMALL(IF(MyProgram!$K$7:$K$326,ROW($A$1:$A$320)),ROW($A245)),COLUMN(D$1)),\"\")","v":""},{"$f":"IFERROR(INDEX(MyProgram!$A$7:$G$326,SMALL(IF(MyProgram!$K$7:$K$326,ROW($A$1:$A$320)),ROW($A245)),COLUMN(E$1)),\"\")","v":""},{"$f":"IFERROR(INDEX(MyProgram!$A$7:$G$326,SMALL(IF(MyProgram!$K$7:$K$326,ROW($A$1:$A$320)),ROW($A245)),COLUMN(F$1)),\"\")","v":""},{"$f":"IFERROR(INDEX(MyProgram!$A$7:$G$326,SMALL(IF(MyProgram!$K$7:$K$326,ROW($A$1:$A$320)),ROW($A245)),COLUMN(G$1)),\"\")","v":""}]
[null,{"$f":"IFERROR(INDEX(MyProgram!$A$7:$G$326,SMALL(IF(MyProgram!$K$7:$K$326,ROW($A$1:$A$320)),ROW($A246)),COLUMN(B$1)),\"\")","v":""},{"$f":"IFERROR(INDEX(MyProgram!$A$7:$G$326,SMALL(IF(MyProgram!$K$7:$K$326,ROW($A$1:$A$320)),ROW($A246)),COLUMN(C$1)),\"\")","v":""},{"$f":"IFERROR(INDEX(MyProgram!$A$7:$G$326,SMALL(IF(MyProgram!$K$7:$K$326,ROW($A$1:$A$320)),ROW($A246)),COLUMN(D$1)),\"\")","v":""},null,{"$f":"IFERROR(INDEX(MyProgram!$A$7:$G$326,SMALL(IF(MyProgram!$K$7:$K$326,ROW($A$1:$A$320)),ROW($A246)),COLUMN(F$1)),\"\")","v":""}]
[{"$f":"IFERROR(INDEX(MyProgram!$A$7:$G$326,SMALL(IF(MyProgram!$K$7:$K$326,ROW($A$1:$A$320)),ROW($A247)),COLUMN(A$1)),\"\")","v":""},{"$f":"IFERROR(INDEX(MyProgram!$A$7:$G$326,SMALL(IF(MyProgram!$K$7:$K$326,ROW($A$1:$A$320)),ROW($A247)),COLUMN(B$1)),\"\")","v":""},{"$f":"IFERROR(INDEX(MyProgram!$A$7:$G$326,SMALL(IF(MyProgram!$K$7:$K$326,ROW($A$1:$A$320)),ROW($A247)),COLUMN(C$1)),\"\")","v":""},{"$f":"IFERROR(INDEX(MyProgram!$A$7:$G$326,SMALL(IF(MyProgram!$K$7:$K$326,ROW($A$1:$A$320)),ROW($A247)),COLUMN(D$1)),\"\")","v":""},{"$f":"IFERROR(INDEX(MyProgram!$A$7:$G$326,SMALL(IF(MyProgram!$K$7:$K$326,ROW($A$1:$A$320)),ROW($A247)),COLUMN(E$1)),\"\")","v":""},{"$f":"IFERROR(INDEX(MyProgram!$A$7:$G$326,SMALL(IF(MyProgram!$K$7:$K$326,ROW($A$1:$A$320)),ROW($A247)),COLUMN(F$1)),\"\")","v":""},{"$f":"IFERROR(INDEX(MyProgram!$A$7:$G$326,SMALL(IF(MyProgram!$K$7:$K$326,ROW($A$1:$A$320)),ROW($A247)),COLUMN(G$1)),\"\")","v":""}]
[null,{"$f":"IFERROR(INDEX(MyProgram!$A$7:$G$326,SMALL(IF(MyProgram!$K$7:$K$326,ROW($A$1:$A$320)),ROW($A248)),COLUMN(B$1)),\"\")","v":""},{"$f":"IFERROR(INDEX(MyProgram!$A$7:$G$326,SMALL(IF(MyProgram!$K$7:$K$326,ROW($A$1:$A$320)),ROW($A248)),COLUMN(C$1)),\"\")","v":""},{"$f":"IFERROR(INDEX(MyProgram!$A$7:$G$326,SMALL(IF(MyProgram!$K$7:$K$326,ROW($A$1:$A$320)),ROW($A248)),COLUMN(D$1)),\"\")","v":""},null,{"$f":"IFERROR(INDEX(MyProgram!$A$7:$G$326,SMALL(IF(MyProgram!$K$7:$K$326,ROW($A$1:$A$320)),ROW($A248)),COLUMN(F$1)),\"\")","v":""}]
[{"$f":"IFERROR(INDEX(MyProgram!$A$7:$G$326,SMALL(IF(MyProgram!$K$7:$K$326,ROW($A$1:$A$320)),ROW($A249)),COLUMN(A$1)),\"\")","v":""},{"$f":"IFERROR(INDEX(MyProgram!$A$7:$G$326,SMALL(IF(MyProgram!$K$7:$K$326,ROW($A$1:$A$320)),ROW($A249)),COLUMN(B$1)),\"\")","v":""},{"$f":"IFERROR(INDEX(MyProgram!$A$7:$G$326,SMALL(IF(MyProgram!$K$7:$K$326,ROW($A$1:$A$320)),ROW($A249)),COLUMN(C$1)),\"\")","v":""},{"$f":"IFERROR(INDEX(MyProgram!$A$7:$G$326,SMALL(IF(MyProgram!$K$7:$K$326,ROW($A$1:$A$320)),ROW($A249)),COLUMN(D$1)),\"\")","v":""},{"$f":"IFERROR(INDEX(MyProgram!$A$7:$G$326,SMALL(IF(MyProgram!$K$7:$K$326,ROW($A$1:$A$320)),ROW($A249)),COLUMN(E$1)),\"\")","v":""},{"$f":"IFERROR(INDEX(MyProgram!$A$7:$G$326,SMALL(IF(MyProgram!$K$7:$K$326,ROW($A$1:$A$320)),ROW($A249)),COLUMN(F$1)),\"\")","v":""},{"$f":"IFERROR(INDEX(MyProgram!$A$7:$G$326,SMALL(IF(MyProgram!$K$7:$K$326,ROW($A$1:$A$320)),ROW($A249)),COLUMN(G$1)),\"\")","v":""}]
[null,{"$f":"IFERROR(INDEX(MyProgram!$A$7:$G$326,SMALL(IF(MyProgram!$K$7:$K$326,ROW($A$1:$A$320)),ROW($A250)),COLUMN(B$1)),\"\")","v":""},{"$f":"IFERROR(INDEX(MyProgram!$A$7:$G$326,SMALL(IF(MyProgram!$K$7:$K$326,ROW($A$1:$A$320)),ROW($A250)),COLUMN(C$1)),\"\")","v":""},{"$f":"IFERROR(INDEX(MyProgram!$A$7:$G$326,SMALL(IF(MyProgram!$K$7:$K$326,ROW($A$1:$A$320)),ROW($A250)),COLUMN(D$1)),\"\")","v":""},null,{"$f":"IFERROR(INDEX(MyProgram!$A$7:$G$326,SMALL(IF(MyProgram!$K$7:$K$326,ROW($A$1:$A$320)),ROW($A250)),COLUMN(F$1)),\"\")","v":""}]
[{"$f":"IFERROR(INDEX(MyProgram!$A$7:$G$326,SMALL(IF(MyProgram!$K$7:$K$326,ROW($A$1:$A$320)),ROW($A251)),COLUMN(A$1)),\"\")","v":""},{"$f":"IFERROR(INDEX(MyProgram!$A$7:$G$326,SMALL(IF(MyProgram!$K$7:$K$326,ROW($A$1:$A$320)),ROW($A251)),COLUMN(B$1)),\"\")","v":""},{"$f":"IFERROR(INDEX(MyProgram!$A$7:$G$326,SMALL(IF(MyProgram!$K$7:$K$326,ROW($A$1:$A$320)),ROW($A251)),COLUMN(C$1)),\"\")","v":""},{"$f":"IFERROR(INDEX(MyProgram!$A$7:$G$326,SMALL(IF(MyProgram!$K$7:$K$326,ROW($A$1:$A$320)),ROW($A251)),COLUMN(D$1)),\"\")","v":""},{"$f":"IFERROR(INDEX(MyProgram!$A$7:$G$326,SMALL(IF(MyProgram!$K$7:$K$326,ROW($A$1:$A$320)),ROW($A251)),COLUMN(E$1)),\"\")","v":""},{"$f":"IFERROR(INDEX(MyProgram!$A$7:$G$326,SMALL(IF(MyProgram!$K$7:$K$326,ROW($A$1:$A$320)),ROW($A251)),COLUMN(F$1)),\"\")","v":""},{"$f":"IFERROR(INDEX(MyProgram!$A$7:$G$326,SMALL(IF(MyProgram!$K$7:$K$326,ROW($A$1:$A$320)),ROW($A251)),COLUMN(G$1)),\"\")","v":""}]
[null,{"$f":"IFERROR(INDEX(MyProgram!$A$7:$G$326,SMALL(IF(MyProgram!$K$7:$K$326,ROW($A$1:$A$320)),ROW($A252)),COLUMN(B$1)),\"\")","v":""},{"$f":"IFERROR(INDEX(MyProgram!$A$7:$G$326,SMALL(IF(MyProgram!$K$7:$K$326,ROW($A$1:$A$320)),ROW($A252)),COLUMN(C$1)),\"\")","v":""},{"$f":"IFERROR(INDEX(MyProgram!$A$7:$G$326,SMALL(IF(MyProgram!$K$7:$K$326,ROW($A$1:$A$320)),ROW($A252)),COLUMN(D$1)),\"\")","v":""},null,{"$f":"IFERROR(INDEX(MyProgram!$A$7:$G$326,SMALL(IF(MyProgram!$K$7:$K$326,ROW($A$1:$A$320)),ROW($A252)),COLUMN(F$1)),\"\")","v":""}]
[{"$f":"IFERROR(INDEX(MyProgram!$A$7:$G$326,SMALL(IF(MyProgram!$K$7:$K$326,ROW($A$1:$A$320)),ROW($A253)),COLUMN(A$1)),\"\")","v":""},{"$f":"IFERROR(INDEX(MyProgram!$A$7:$G$326,SMALL(IF(MyProgram!$K$7:$K$326,ROW($A$1:$A$320)),ROW($A253)),COLUMN(B$1)),\"\")","v":""},{"$f":"IFERROR(INDEX(MyProgram!$A$7:$G$326,SMALL(IF(MyProgram!$K$7:$K$326,ROW($A$1:$A$320)),ROW($A253)),COLUMN(C$1)),\"\")","v":""},{"$f":"IFERROR(INDEX(MyProgram!$A$7:$G$326,SMALL(IF(MyProgram!$K$7:$K$326,ROW($A$1:$A$320)),ROW($A253)),COLUMN(D$1)),\"\")","v":""},{"$f":"IFERROR(INDEX(MyProgram!$A$7:$G$326,SMALL(IF(MyProgram!$K$7:$K$326,ROW($A$1:$A$320)),ROW($A253)),COLUMN(E$1)),\"\")","v":""},{"$f":"IFERROR(INDEX(MyProgram!$A$7:$G$326,SMALL(IF(MyProgram!$K$7:$K$326,ROW($A$1:$A$320)),ROW($A253)),COLUMN(F$1)),\"\")","v":""},{"$f":"IFERROR(INDEX(MyProgram!$A$7:$G$326,SMALL(IF(MyProgram!$K$7:$K$326,ROW($A$1:$A$320)),ROW($A253)),COLUMN(G$1)),\"\")","v":""}]
[null,{"$f":"IFERROR(INDEX(MyProgram!$A$7:$G$326,SMALL(IF(MyProgram!$K$7:$K$326,ROW($A$1:$A$320)),ROW($A254)),COLUMN(B$1)),\"\")","v":""},{"$f":"IFERROR(INDEX(MyProgram!$A$7:$G$326,SMALL(IF(MyProgram!$K$7:$K$326,ROW($A$1:$A$320)),ROW($A254)),COLUMN(C$1)),\"\")","v":""},{"$f":"IFERROR(INDEX(MyProgram!$A$7:$G$326,SMALL(IF(MyProgram!$K$7:$K$326,ROW($A$1:$A$320)),ROW($A254)),COLUMN(D$1)),\"\")","v":""},null,{"$f":"IFERROR(INDEX(MyProgram!$A$7:$G$326,SMALL(IF(MyProgram!$K$7:$K$326,ROW($A$1:$A$320)),ROW($A254)),COLUMN(F$1)),\"\")","v":""}]
[{"$f":"IFERROR(INDEX(MyProgram!$A$7:$G$326,SMALL(IF(MyProgram!$K$7:$K$326,ROW($A$1:$A$320)),ROW($A255)),COLUMN(A$1)),\"\")","v":""},{"$f":"IFERROR(INDEX(MyProgram!$A$7:$G$326,SMALL(IF(MyProgram!$K$7:$K$326,ROW($A$1:$A$320)),ROW($A255)),COLUMN(B$1)),\"\")","v":""},{"$f":"IFERROR(INDEX(MyProgram!$A$7:$G$326,SMALL(IF(MyProgram!$K$7:$K$326,ROW($A$1:$A$320)),ROW($A255)),COLUMN(C$1)),\"\")","v":""},{"$f":"IFERROR(INDEX(MyProgram!$A$7:$G$326,SMALL(IF(MyProgram!$K$7:$K$326,ROW($A$1:$A$320)),ROW($A255)),COLUMN(D$1)),\"\")","v":""},{"$f":"IFERROR(INDEX(MyProgram!$A$7:$G$326,SMALL(IF(MyProgram!$K$7:$K$326,ROW($A$1:$A$320)),ROW($A255)),COLUMN(E$1)),\"\")","v":""},{"$f":"IFERROR(INDEX(MyProgram!$A$7:$G$326,SMALL(IF(MyProgram!$K$7:$K$326,ROW($A$1:$A$320)),ROW($A255)),COLUMN(F$1)),\"\")","v":""},{"$f":"IFERROR(INDEX(MyProgram!$A$7:$G$326,SMALL(IF(MyProgram!$K$7:$K$326,ROW($A$1:$A$320)),ROW($A255)),COLUMN(G$1)),\"\")","v":""}]
[null,{"$f":"IFERROR(INDEX(MyProgram!$A$7:$G$326,SMALL(IF(MyProgram!$K$7:$K$326,ROW($A$1:$A$320)),ROW($A256)),COLUMN(B$1)),\"\")","v":""},{"$f":"IFERROR(INDEX(MyProgram!$A$7:$G$326,SMALL(IF(MyProgram!$K$7:$K$326,ROW($A$1:$A$320)),ROW($A256)),COLUMN(C$1)),\"\")","v":""},{"$f":"IFERROR(INDEX(MyProgram!$A$7:$G$326,SMALL(IF(MyProgram!$K$7:$K$326,ROW($A$1:$A$320)),ROW($A256)),COLUMN(D$1)),\"\")","v":""},null,{"$f":"IFERROR(INDEX(MyProgram!$A$7:$G$326,SMALL(IF(MyProgram!$K$7:$K$326,ROW($A$1:$A$320)),ROW($A256)),COLUMN(F$1)),\"\")","v":""}]
[{"$f":"IFERROR(INDEX(MyProgram!$A$7:$G$326,SMALL(IF(MyProgram!$K$7:$K$326,ROW($A$1:$A$320)),ROW($A257)),COLUMN(A$1)),\"\")","v":""},{"$f":"IFERROR(INDEX(MyProgram!$A$7:$G$326,SMALL(IF(MyProgram!$K$7:$K$326,ROW($A$1:$A$320)),ROW($A257)),COLUMN(B$1)),\"\")","v":""},{"$f":"IFERROR(INDEX(MyProgram!$A$7:$G$326,SMALL(IF(MyProgram!$K$7:$K$326,ROW($A$1:$A$320)),ROW($A257)),COLUMN(C$1)),\"\")","v":""},{"$f":"IFERROR(INDEX(MyProgram!$A$7:$G$326,SMALL(IF(MyProgram!$K$7:$K$326,ROW($A$1:$A$320)),ROW($A257)),COLUMN(D$1)),\"\")","v":""},{"$f":"IFERROR(INDEX(MyProgram!$A$7:$G$326,SMALL(IF(MyProgram!$K$7:$K$326,ROW($A$1:$A$320)),ROW($A257)),COLUMN(E$1)),\"\")","v":""},{"$f":"IFERROR(INDEX(MyProgram!$A$7:$G$326,SMALL(IF(MyProgram!$K$7:$K$326,ROW($A$1:$A$320)),ROW($A257)),COLUMN(F$1)),\"\")","v":""},{"$f":"IFERROR(INDEX(MyProgram!$A$7:$G$326,SMALL(IF(MyProgram!$K$7:$K$326,ROW($A$1:$A$320)),ROW($A257)),COLUMN(G$1)),\"\")","v":""}]
[null,{"$f":"IFERROR(INDEX(MyProgram!$A$7:$G$326,SMALL(IF(MyProgram!$K$7:$K$326,ROW($A$1:$A$320)),ROW($A258)),COLUMN(B$1)),\"\")","v":""},{"$f":"IFERROR(INDEX(MyProgram!$A$7:$G$326,SMALL(IF(MyProgram!$K$7:$K$326,ROW($A$1:$A$320)),ROW($A258)),COLUMN(C$1)),\"\")","v":""},{"$f":"IFERROR(INDEX(MyProgram!$A$7:$G$326,SMALL(IF(MyProgram!$K$7:$K$326,ROW($A$1:$A$320)),ROW($A258)),COLUMN(D$1)),\"\")","v":""},null,{"$f":"IFERROR(INDEX(MyProgram!$A$7:$G$326,SMALL(IF(MyProgram!$K$7:$K$326,ROW($A$1:$A$320)),ROW($A258)),COLUMN(F$1)),\"\")","v":""}]
[{"$f":"IFERROR(INDEX(MyProgram!$A$7:$G$326,SMALL(IF(MyProgram!$K$7:$K$326,ROW($A$1:$A$320)),ROW($A259)),COLUMN(A$1)),\"\")","v":""},{"$f":"IFERROR(INDEX(MyProgram!$A$7:$G$326,SMALL(IF(MyProgram!$K$7:$K$326,ROW($A$1:$A$320)),ROW($A259)),COLUMN(B$1)),\"\")","v":""},{"$f":"IFERROR(INDEX(MyProgram!$A$7:$G$326,SMALL(IF(MyProgram!$K$7:$K$326,ROW($A$1:$A$320)),ROW($A259)),COLUMN(C$1)),\"\")","v":""},{"$f":"IFERROR(INDEX(MyProgram!$A$7:$G$326,SMALL(IF(MyProgram!$K$7:$K$326,ROW($A$1:$A$320)),ROW($A259)),COLUMN(D$1)),\"\")","v":""},{"$f":"IFERROR(INDEX(MyProgram!$A$7:$G$326,SMALL(IF(MyProgram!$K$7:$K$326,ROW($A$1:$A$320)),ROW($A259)),COLUMN(E$1)),\"\")","v":""},{"$f":"IFERROR(INDEX(MyProgram!$A$7:$G$326,SMALL(IF(MyProgram!$K$7:$K$326,ROW($A$1:$A$320)),ROW($A259)),COLUMN(F$1)),\"\")","v":""},{"$f":"IFERROR(INDEX(MyProgram!$A$7:$G$326,SMALL(IF(MyProgram!$K$7:$K$326,ROW($A$1:$A$320)),ROW($A259)),COLUMN(G$1)),\"\")","v":""}]
[null,{"$f":"IFERROR(INDEX(MyProgram!$A$7:$G$326,SMALL(IF(MyProgram!$K$7:$K$326,ROW($A$1:$A$320)),ROW($A260)),COLUMN(B$1)),\"\")","v":""},{"$f":"IFERROR(INDEX(MyProgram!$A$7:$G$326,SMALL(IF(MyProgram!$K$7:$K$326,ROW($A$1:$A$320)),ROW($A260)),COLUMN(C$1)),\"\")","v":""},{"$f":"IFERROR(INDEX(MyProgram!$A$7:$G$326,SMALL(IF(MyProgram!$K$7:$K$326,ROW($A$1:$A$320)),ROW($A260)),COLUMN(D$1)),\"\")","v":""},null,{"$f":"IFERROR(INDEX(MyProgram!$A$7:$G$326,SMALL(IF(MyProgram!$K$7:$K$326,ROW($A$1:$A$320)),ROW($A260)),COLUMN(F$1)),\"\")","v":""}]
[{"$f":"IFERROR(INDEX(MyProgram!$A$7:$G$326,SMALL(IF(MyProgram!$K$7:$K$326,ROW($A$1:$A$320)),ROW($A261)),COLUMN(A$1)),\"\")","v":""},{"$f":"IFERROR(INDEX(MyProgram!$A$7:$G$326,SMALL(IF(MyProgram!$K$7:$K$326,ROW($A$1:$A$320)),ROW($A261)),COLUMN(B$1)),\"\")","v":""},{"$f":"IFERROR(INDEX(MyProgram!$A$7:$G$326,SMALL(IF(MyProgram!$K$7:$K$326,ROW($A$1:$A$320)),ROW($A261)),COLUMN(C$1)),\"\")","v":""},{"$f":"IFERROR(INDEX(MyProgram!$A$7:$G$326,SMALL(IF(MyProgram!$K$7:$K$326,ROW($A$1:$A$320)),ROW($A261)),COLUMN(D$1)),\"\")","v":""},{"$f":"IFERROR(INDEX(MyProgram!$A$7:$G$326,SMALL(IF(MyProgram!$K$7:$K$326,ROW($A$1:$A$320)),ROW($A261)),COLUMN(E$1)),\"\")","v":""},{"$f":"IFERROR(INDEX(MyProgram!$A$7:$G$326,SMALL(IF(MyProgram!$K$7:$K$326,ROW($A$1:$A$320)),ROW($A261)),COLUMN(F$1)),\"\")","v":""},{"$f":"IFERROR(INDEX(MyProgram!$A$7:$G$326,SMALL(IF(MyProgram!$K$7:$K$326,ROW($A$1:$A$320)),ROW($A261)),COLUMN(G$1)),\"\")","v":""}]
[null,{"$f":"IFERROR(INDEX(MyProgram!$A$7:$G$326,SMALL(IF(MyProgram!$K$7:$K$326,ROW($A$1:$A$320)),ROW($A262)),COLUMN(B$1)),\"\")","v":""},{"$f":"IFERROR(INDEX(MyProgram!$A$7:$G$326,SMALL(IF(MyProgram!$K$7:$K$326,ROW($A$1:$A$320)),ROW($A262)),COLUMN(C$1)),\"\")","v":""},{"$f":"IFERROR(INDEX(MyProgram!$A$7:$G$326,SMALL(IF(MyProgram!$K$7:$K$326,ROW($A$1:$A$320)),ROW($A262)),COLUMN(D$1)),\"\")","v":""},null,{"$f":"IFERROR(INDEX(MyProgram!$A$7:$G$326,SMALL(IF(MyProgram!$K$7:$K$326,ROW($A$1:$A$320)),ROW($A262)),COLUMN(F$1)),\"\")","v":""}]
[{"$f":"IFERROR(INDEX(MyProgram!$A$7:$G$326,SMALL(IF(MyProgram!$K$7:$K$326,ROW($A$1:$A$320)),ROW($A263)),COLUMN(A$1)),\"\")","v":""},{"$f":"IFERROR(INDEX(MyProgram!$A$7:$G$326,SMALL(IF(MyProgram!$K$7:$K$326,ROW($A$1:$A$320)),ROW($A263)),COLUMN(B$1)),\"\")","v":""},{"$f":"IFERROR(INDEX(MyProgram!$A$7:$G$326,SMALL(IF(MyProgram!$K$7:$K$326,ROW($A$1:$A$320)),ROW($A263)),COLUMN(C$1)),\"\")","v":""},{"$f":"IFERROR(INDEX(MyProgram!$A$7:$G$326,SMALL(IF(MyProgram!$K$7:$K$326,ROW($A$1:$A$320)),ROW($A263)),COLUMN(D$1)),\"\")","v":""},{"$f":"IFERROR(INDEX(MyProgram!$A$7:$G$326,SMALL(IF(MyProgram!$K$7:$K$326,ROW($A$1:$A$320)),ROW($A263)),COLUMN(E$1)),\"\")","v":""},{"$f":"IFERROR(INDEX(MyProgram!$A$7:$G$326,SMALL(IF(MyProgram!$K$7:$K$326,ROW($A$1:$A$320)),ROW($A263)),COLUMN(F$1)),\"\")","v":""},{"$f":"IFERROR(INDEX(MyProgram!$A$7:$G$326,SMALL(IF(MyProgram!$K$7:$K$326,ROW($A$1:$A$320)),ROW($A263)),COLUMN(G$1)),\"\")","v":""}]
[null,{"$f":"IFERROR(INDEX(MyProgram!$A$7:$G$326,SMALL(IF(MyProgram!$K$7:$K$326,ROW($A$1:$A$320)),ROW($A264)),COLUMN(B$1)),\"\")","v":""},{"$f":"IFERROR(INDEX(MyProgram!$A$7:$G$326,SMALL(IF(MyProgram!$K$7:$K$326,ROW($A$1:$A$320)),ROW($A264)),COLUMN(C$1)),\"\")","v":""},{"$f":"IFERROR(INDEX(MyProgram!$A$7:$G$326,SMALL(IF(MyProgram!$K$7:$K$326,ROW($A$1:$A$320)),ROW($A264)),COLUMN(D$1)),\"\")","v":""},null,{"$f":"IFERROR(INDEX(MyProgram!$A$7:$G$326,SMALL(IF(MyProgram!$K$7:$K$326,ROW($A$1:$A$320)),ROW($A264)),COLUMN(F$1)),\"\")","v":""}]
[{"$f":"IFERROR(INDEX(MyProgram!$A$7:$G$326,SMALL(IF(MyProgram!$K$7:$K$326,ROW($A$1:$A$320)),ROW($A265)),COLUMN(A$1)),\"\")","v":""},{"$f":"IFERROR(INDEX(MyProgram!$A$7:$G$326,SMALL(IF(MyProgram!$K$7:$K$326,ROW($A$1:$A$320)),ROW($A265)),COLUMN(B$1)),\"\")","v":""},{"$f":"IFERROR(INDEX(MyProgram!$A$7:$G$326,SMALL(IF(MyProgram!$K$7:$K$326,ROW($A$1:$A$320)),ROW($A265)),COLUMN(C$1)),\"\")","v":""},{"$f":"IFERROR(INDEX(MyProgram!$A$7:$G$326,SMALL(IF(MyProgram!$K$7:$K$326,ROW($A$1:$A$320)),ROW($A265)),COLUMN(D$1)),\"\")","v":""},{"$f":"IFERROR(INDEX(MyProgram!$A$7:$G$326,SMALL(IF(MyProgram!$K$7:$K$326,ROW($A$1:$A$320)),ROW($A265)),COLUMN(E$1)),\"\")","v":""},{"$f":"IFERROR(INDEX(MyProgram!$A$7:$G$326,SMALL(IF(MyProgram!$K$7:$K$326,ROW($A$1:$A$320)),ROW($A265)),COLUMN(F$1)),\"\")","v":""},{"$f":"IFERROR(INDEX(MyProgram!$A$7:$G$326,SMALL(IF(MyProgram!$K$7:$K$326,ROW($A$1:$A$320)),ROW($A265)),COLUMN(G$1)),\"\")","v":""}]
[null,{"$f":"IFERROR(INDEX(MyProgram!$A$7:$G$326,SMALL(IF(MyProgram!$K$7:$K$326,ROW($A$1:$A$320)),ROW($A266)),COLUMN(B$1)),\"\")","v":""},{"$f":"IFERROR(INDEX(MyProgram!$A$7:$G$326,SMALL(IF(MyProgram!$K$7:$K$326,ROW($A$1:$A$320)),ROW($A266)),COLUMN(C$1)),\"\")","v":""},{"$f":"IFERROR(INDEX(MyProgram!$A$7:$G$326,SMALL(IF(MyProgram!$K$7:$K$326,ROW($A$1:$A$320)),ROW($A266)),COLUMN(D$1)),\"\")","v":""},null,{"$f":"IFERROR(INDEX(MyProgram!$A$7:$G$326,SMALL(IF(MyProgram!$K$7:$K$326,ROW($A$1:$A$320)),ROW($A266)),COLUMN(F$1)),\"\")","v":""}]
[{"$f":"IFERROR(INDEX(MyProgram!$A$7:$G$326,SMALL(IF(MyProgram!$K$7:$K$326,ROW($A$1:$A$320)),ROW($A267)),COLUMN(A$1)),\"\")","v":""},{"$f":"IFERROR(INDEX(MyProgram!$A$7:$G$326,SMALL(IF(MyProgram!$K$7:$K$326,ROW($A$1:$A$320)),ROW($A267)),COLUMN(B$1)),\"\")","v":""},{"$f":"IFERROR(INDEX(MyProgram!$A$7:$G$326,SMALL(IF(MyProgram!$K$7:$K$326,ROW($A$1:$A$320)),ROW($A267)),COLUMN(C$1)),\"\")","v":""},{"$f":"IFERROR(INDEX(MyProgram!$A$7:$G$326,SMALL(IF(MyProgram!$K$7:$K$326,ROW($A$1:$A$320)),ROW($A267)),COLUMN(D$1)),\"\")","v":""},{"$f":"IFERROR(INDEX(MyProgram!$A$7:$G$326,SMALL(IF(MyProgram!$K$7:$K$326,ROW($A$1:$A$320)),ROW($A267)),COLUMN(E$1)),\"\")","v":""},{"$f":"IFERROR(INDEX(MyProgram!$A$7:$G$326,SMALL(IF(MyProgram!$K$7:$K$326,ROW($A$1:$A$320)),ROW($A267)),COLUMN(F$1)),\"\")","v":""},{"$f":"IFERROR(INDEX(MyProgram!$A$7:$G$326,SMALL(IF(MyProgram!$K$7:$K$326,ROW($A$1:$A$320)),ROW($A267)),COLUMN(G$1)),\"\")","v":""}]
[null,{"$f":"IFERROR(INDEX(MyProgram!$A$7:$G$326,SMALL(IF(MyProgram!$K$7:$K$326,ROW($A$1:$A$320)),ROW($A268)),COLUMN(B$1)),\"\")","v":""},{"$f":"IFERROR(INDEX(MyProgram!$A$7:$G$326,SMALL(IF(MyProgram!$K$7:$K$326,ROW($A$1:$A$320)),ROW($A268)),COLUMN(C$1)),\"\")","v":""},{"$f":"IFERROR(INDEX(MyProgram!$A$7:$G$326,SMALL(IF(MyProgram!$K$7:$K$326,ROW($A$1:$A$320)),ROW($A268)),COLUMN(D$1)),\"\")","v":""},null,{"$f":"IFERROR(INDEX(MyProgram!$A$7:$G$326,SMALL(IF(MyProgram!$K$7:$K$326,ROW($A$1:$A$320)),ROW($A268)),COLUMN(F$1)),\"\")","v":""}]
[{"$f":"IFERROR(INDEX(MyProgram!$A$7:$G$326,SMALL(IF(MyProgram!$K$7:$K$326,ROW($A$1:$A$320)),ROW($A269)),COLUMN(A$1)),\"\")","v":""},{"$f":"IFERROR(INDEX(MyProgram!$A$7:$G$326,SMALL(IF(MyProgram!$K$7:$K$326,ROW($A$1:$A$320)),ROW($A269)),COLUMN(B$1)),\"\")","v":""},{"$f":"IFERROR(INDEX(MyProgram!$A$7:$G$326,SMALL(IF(MyProgram!$K$7:$K$326,ROW($A$1:$A$320)),ROW($A269)),COLUMN(C$1)),\"\")","v":""},{"$f":"IFERROR(INDEX(MyProgram!$A$7:$G$326,SMALL(IF(MyProgram!$K$7:$K$326,ROW($A$1:$A$320)),ROW($A269)),COLUMN(D$1)),\"\")","v":""},{"$f":"IFERROR(INDEX(MyProgram!$A$7:$G$326,SMALL(IF(MyProgram!$K$7:$K$326,ROW($A$1:$A$320)),ROW($A269)),COLUMN(E$1)),\"\")","v":""},{"$f":"IFERROR(INDEX(MyProgram!$A$7:$G$326,SMALL(IF(MyProgram!$K$7:$K$326,ROW($A$1:$A$320)),ROW($A269)),COLUMN(F$1)),\"\")","v":""},{"$f":"IFERROR(INDEX(MyProgram!$A$7:$G$326,SMALL(IF(MyProgram!$K$7:$K$326,ROW($A$1:$A$320)),ROW($A269)),COLUMN(G$1)),\"\")","v":""}]
[null,{"$f":"IFERROR(INDEX(MyProgram!$A$7:$G$326,SMALL(IF(MyProgram!$K$7:$K$326,ROW($A$1:$A$320)),ROW($A270)),COLUMN(B$1)),\"\")","v":""},{"$f":"IFERROR(INDEX(MyProgram!$A$7:$G$326,SMALL(IF(MyProgram!$K$7:$K$326,ROW($A$1:$A$320)),ROW($A270)),COLUMN(C$1)),\"\")","v":""},{"$f":"IFERROR(INDEX(MyProgram!$A$7:$G$326,SMALL(IF(MyProgram!$K$7:$K$326,ROW($A$1:$A$320)),ROW($A270)),COLUMN(D$1)),\"\")","v":""},null,{"$f":"IFERROR(INDEX(MyProgram!$A$7:$G$326,SMALL(IF(MyProgram!$K$7:$K$326,ROW($A$1:$A$320)),ROW($A270)),COLUMN(F$1)),\"\")","v":""}]
[{"$f":"IFERROR(INDEX(MyProgram!$A$7:$G$326,SMALL(IF(MyProgram!$K$7:$K$326,ROW($A$1:$A$320)),ROW($A271)),COLUMN(A$1)),\"\")","v":""},{"$f":"IFERROR(INDEX(MyProgram!$A$7:$G$326,SMALL(IF(MyProgram!$K$7:$K$326,ROW($A$1:$A$320)),ROW($A271)),COLUMN(B$1)),\"\")","v":""},{"$f":"IFERROR(INDEX(MyProgram!$A$7:$G$326,SMALL(IF(MyProgram!$K$7:$K$326,ROW($A$1:$A$320)),ROW($A271)),COLUMN(C$1)),\"\")","v":""},{"$f":"IFERROR(INDEX(MyProgram!$A$7:$G$326,SMALL(IF(MyProgram!$K$7:$K$326,ROW($A$1:$A$320)),ROW($A271)),COLUMN(D$1)),\"\")","v":""},{"$f":"IFERROR(INDEX(MyProgram!$A$7:$G$326,SMALL(IF(MyProgram!$K$7:$K$326,ROW($A$1:$A$320)),ROW($A271)),COLUMN(E$1)),\"\")","v":""},{"$f":"IFERROR(INDEX(MyProgram!$A$7:$G$326,SMALL(IF(MyProgram!$K$7:$K$326,ROW($A$1:$A$320)),ROW($A271)),COLUMN(F$1)),\"\")","v":""},{"$f":"IFERROR(INDEX(MyProgram!$A$7:$G$326,SMALL(IF(MyProgram!$K$7:$K$326,ROW($A$1:$A$320)),ROW($A271)),COLUMN(G$1)),\"\")","v":""}]
[null,{"$f":"IFERROR(INDEX(MyProgram!$A$7:$G$326,SMALL(IF(MyProgram!$K$7:$K$326,ROW($A$1:$A$320)),ROW($A272)),COLUMN(B$1)),\"\")","v":""},{"$f":"IFERROR(INDEX(MyProgram!$A$7:$G$326,SMALL(IF(MyProgram!$K$7:$K$326,ROW($A$1:$A$320)),ROW($A272)),COLUMN(C$1)),\"\")","v":""},{"$f":"IFERROR(INDEX(MyProgram!$A$7:$G$326,SMALL(IF(MyProgram!$K$7:$K$326,ROW($A$1:$A$320)),ROW($A272)),COLUMN(D$1)),\"\")","v":""},null,{"$f":"IFERROR(INDEX(MyProgram!$A$7:$G$326,SMALL(IF(MyProgram!$K$7:$K$326,ROW($A$1:$A$320)),ROW($A272)),COLUMN(F$1)),\"\")","v":""}]
[{"$f":"IFERROR(INDEX(MyProgram!$A$7:$G$326,SMALL(IF(MyProgram!$K$7:$K$326,ROW($A$1:$A$320)),ROW($A273)),COLUMN(A$1)),\"\")","v":""},{"$f":"IFERROR(INDEX(MyProgram!$A$7:$G$326,SMALL(IF(MyProgram!$K$7:$K$326,ROW($A$1:$A$320)),ROW($A273)),COLUMN(B$1)),\"\")","v":""},{"$f":"IFERROR(INDEX(MyProgram!$A$7:$G$326,SMALL(IF(MyProgram!$K$7:$K$326,ROW($A$1:$A$320)),ROW($A273)),COLUMN(C$1)),\"\")","v":""},{"$f":"IFERROR(INDEX(MyProgram!$A$7:$G$326,SMALL(IF(MyProgram!$K$7:$K$326,ROW($A$1:$A$320)),ROW($A273)),COLUMN(D$1)),\"\")","v":""},{"$f":"IFERROR(INDEX(MyProgram!$A$7:$G$326,SMALL(IF(MyProgram!$K$7:$K$326,ROW($A$1:$A$320)),ROW($A273)),COLUMN(E$1)),\"\")","v":""},{"$f":"IFERROR(INDEX(MyProgram!$A$7:$G$326,SMALL(IF(MyProgram!$K$7:$K$326,ROW($A$1:$A$320)),ROW($A273)),COLUMN(F$1)),\"\")","v":""},{"$f":"IFERROR(INDEX(MyProgram!$A$7:$G$326,SMALL(IF(MyProgram!$K$7:$K$326,ROW($A$1:$A$320)),ROW($A273)),COLUMN(G$1)),\"\")","v":""}]
[null,{"$f":"IFERROR(INDEX(MyProgram!$A$7:$G$326,SMALL(IF(MyProgram!$K$7:$K$326,ROW($A$1:$A$320)),ROW($A274)),COLUMN(B$1)),\"\")","v":""},{"$f":"IFERROR(INDEX(MyProgram!$A$7:$G$326,SMALL(IF(MyProgram!$K$7:$K$326,ROW($A$1:$A$320)),ROW($A274)),COLUMN(C$1)),\"\")","v":""},{"$f":"IFERROR(INDEX(MyProgram!$A$7:$G$326,SMALL(IF(MyProgram!$K$7:$K$326,ROW($A$1:$A$320)),ROW($A274)),COLUMN(D$1)),\"\")","v":""},null,{"$f":"IFERROR(INDEX(MyProgram!$A$7:$G$326,SMALL(IF(MyProgram!$K$7:$K$326,ROW($A$1:$A$320)),ROW($A274)),COLUMN(F$1)),\"\")","v":""}]
[{"$f":"IFERROR(INDEX(MyProgram!$A$7:$G$326,SMALL(IF(MyProgram!$K$7:$K$326,ROW($A$1:$A$320)),ROW($A275)),COLUMN(A$1)),\"\")","v":""},{"$f":"IFERROR(INDEX(MyProgram!$A$7:$G$326,SMALL(IF(MyProgram!$K$7:$K$326,ROW($A$1:$A$320)),ROW($A275)),COLUMN(B$1)),\"\")","v":""},{"$f":"IFERROR(INDEX(MyProgram!$A$7:$G$326,SMALL(IF(MyProgram!$K$7:$K$326,ROW($A$1:$A$320)),ROW($A275)),COLUMN(C$1)),\"\")","v":""},{"$f":"IFERROR(INDEX(MyProgram!$A$7:$G$326,SMALL(IF(MyProgram!$K$7:$K$326,ROW($A$1:$A$320)),ROW($A275)),COLUMN(D$1)),\"\")","v":""},{"$f":"IFERROR(INDEX(MyProgram!$A$7:$G$326,SMALL(IF(MyProgram!$K$7:$K$326,ROW($A$1:$A$320)),ROW($A275)),COLUMN(E$1)),\"\")","v":""},{"$f":"IFERROR(INDEX(MyProgram!$A$7:$G$326,SMALL(IF(MyProgram!$K$7:$K$326,ROW($A$1:$A$320)),ROW($A275)),COLUMN(F$1)),\"\")","v":""},{"$f":"IFERROR(INDEX(MyProgram!$A$7:$G$326,SMALL(IF(MyProgram!$K$7:$K$326,ROW($A$1:$A$320)),ROW($A275)),COLUMN(G$1)),\"\")","v":""}]
[null,{"$f":"IFERROR(INDEX(MyProgram!$A$7:$G$326,SMALL(IF(MyProgram!$K$7:$K$326,ROW($A$1:$A$320)),ROW($A276)),COLUMN(B$1)),\"\")","v":""},{"$f":"IFERROR(INDEX(MyProgram!$A$7:$G$326,SMALL(IF(MyProgram!$K$7:$K$326,ROW($A$1:$A$320)),ROW($A276)),COLUMN(C$1)),\"\")","v":""},{"$f":"IFERROR(INDEX(MyProgram!$A$7:$G$326,SMALL(IF(MyProgram!$K$7:$K$326,ROW($A$1:$A$320)),ROW($A276)),COLUMN(D$1)),\"\")","v":""},null,{"$f":"IFERROR(INDEX(MyProgram!$A$7:$G$326,SMALL(IF(MyProgram!$K$7:$K$326,ROW($A$1:$A$320)),ROW($A276)),COLUMN(F$1)),\"\")","v":""}]
[{"$f":"IFERROR(INDEX(MyProgram!$A$7:$G$326,SMALL(IF(MyProgram!$K$7:$K$326,ROW($A$1:$A$320)),ROW($A277)),COLUMN(A$1)),\"\")","v":""},{"$f":"IFERROR(INDEX(MyProgram!$A$7:$G$326,SMALL(IF(MyProgram!$K$7:$K$326,ROW($A$1:$A$320)),ROW($A277)),COLUMN(B$1)),\"\")","v":""},{"$f":"IFERROR(INDEX(MyProgram!$A$7:$G$326,SMALL(IF(MyProgram!$K$7:$K$326,ROW($A$1:$A$320)),ROW($A277)),COLUMN(C$1)),\"\")","v":""},{"$f":"IFERROR(INDEX(MyProgram!$A$7:$G$326,SMALL(IF(MyProgram!$K$7:$K$326,ROW($A$1:$A$320)),ROW($A277)),COLUMN(D$1)),\"\")","v":""},{"$f":"IFERROR(INDEX(MyProgram!$A$7:$G$326,SMALL(IF(MyProgram!$K$7:$K$326,ROW($A$1:$A$320)),ROW($A277)),COLUMN(E$1)),\"\")","v":""},{"$f":"IFERROR(INDEX(MyProgram!$A$7:$G$326,SMALL(IF(MyProgram!$K$7:$K$326,ROW($A$1:$A$320)),ROW($A277)),COLUMN(F$1)),\"\")","v":""},{"$f":"IFERROR(INDEX(MyProgram!$A$7:$G$326,SMALL(IF(MyProgram!$K$7:$K$326,ROW($A$1:$A$320)),ROW($A277)),COLUMN(G$1)),\"\")","v":""}]
[null,{"$f":"IFERROR(INDEX(MyProgram!$A$7:$G$326,SMALL(IF(MyProgram!$K$7:$K$326,ROW($A$1:$A$320)),ROW($A278)),COLUMN(B$1)),\"\")","v":""},{"$f":"IFERROR(INDEX(MyProgram!$A$7:$G$326,SMALL(IF(MyProgram!$K$7:$K$326,ROW($A$1:$A$320)),ROW($A278)),COLUMN(C$1)),\"\")","v":""},{"$f":"IFERROR(INDEX(MyProgram!$A$7:$G$326,SMALL(IF(MyProgram!$K$7:$K$326,ROW($A$1:$A$320)),ROW($A278)),COLUMN(D$1)),\"\")","v":""},null,{"$f":"IFERROR(INDEX(MyProgram!$A$7:$G$326,SMALL(IF(MyProgram!$K$7:$K$326,ROW($A$1:$A$320)),ROW($A278)),COLUMN(F$1)),\"\")","v":""}]
[{"$f":"IFERROR(INDEX(MyProgram!$A$7:$G$326,SMALL(IF(MyProgram!$K$7:$K$326,ROW($A$1:$A$320)),ROW($A279)),COLUMN(A$1)),\"\")","v":""},{"$f":"IFERROR(INDEX(MyProgram!$A$7:$G$326,SMALL(IF(MyProgram!$K$7:$K$326,ROW($A$1:$A$320)),ROW($A279)),COLUMN(B$1)),\"\")","v":""},{"$f":"IFERROR(INDEX(MyProgram!$A$7:$G$326,SMALL(IF(MyProgram!$K$7:$K$326,ROW($A$1:$A$320)),ROW($A279)),COLUMN(C$1)),\"\")","v":""},{"$f":"IFERROR(INDEX(MyProgram!$A$7:$G$326,SMALL(IF(MyProgram!$K$7:$K$326,ROW($A$1:$A$320)),ROW($A279)),COLUMN(D$1)),\"\")","v":""},{"$f":"IFERROR(INDEX(MyProgram!$A$7:$G$326,SMALL(IF(MyProgram!$K$7:$K$326,ROW($A$1:$A$320)),ROW($A279)),COLUMN(E$1)),\"\")","v":""},{"$f":"IFERROR(INDEX(MyProgram!$A$7:$G$326,SMALL(IF(MyProgram!$K$7:$K$326,ROW($A$1:$A$320)),ROW($A279)),COLUMN(F$1)),\"\")","v":""},{"$f":"IFERROR(INDEX(MyProgram!$A$7:$G$326,SMALL(IF(MyProgram!$K$7:$K$326,ROW($A$1:$A$320)),ROW($A279)),COLUMN(G$1)),\"\")","v":""}]
[null,{"$f":"IFERROR(INDEX(MyProgram!$A$7:$G$326,SMALL(IF(MyProgram!$K$7:$K$326,ROW($A$1:$A$320)),ROW($A280)),COLUMN(B$1)),\"\")","v":""},{"$f":"IFERROR(INDEX(MyProgram!$A$7:$G$326,SMALL(IF(MyProgram!$K$7:$K$326,ROW($A$1:$A$320)),ROW($A280)),COLUMN(C$1)),\"\")","v":""},{"$f":"IFERROR(INDEX(MyProgram!$A$7:$G$326,SMALL(IF(MyProgram!$K$7:$K$326,ROW($A$1:$A$320)),ROW($A280)),COLUMN(D$1)),\"\")","v":""},null,{"$f":"IFERROR(INDEX(MyProgram!$A$7:$G$326,SMALL(IF(MyProgram!$K$7:$K$326,ROW($A$1:$A$320)),ROW($A280)),COLUMN(F$1)),\"\")","v":""}]
[{"$f":"IFERROR(INDEX(MyProgram!$A$7:$G$326,SMALL(IF(MyProgram!$K$7:$K$326,ROW($A$1:$A$320)),ROW($A281)),COLUMN(A$1)),\"\")","v":""},{"$f":"IFERROR(INDEX(MyProgram!$A$7:$G$326,SMALL(IF(MyProgram!$K$7:$K$326,ROW($A$1:$A$320)),ROW($A281)),COLUMN(B$1)),\"\")","v":""},{"$f":"IFERROR(INDEX(MyProgram!$A$7:$G$326,SMALL(IF(MyProgram!$K$7:$K$326,ROW($A$1:$A$320)),ROW($A281)),COLUMN(C$1)),\"\")","v":""},{"$f":"IFERROR(INDEX(MyProgram!$A$7:$G$326,SMALL(IF(MyProgram!$K$7:$K$326,ROW($A$1:$A$320)),ROW($A281)),COLUMN(D$1)),\"\")","v":""},{"$f":"IFERROR(INDEX(MyProgram!$A$7:$G$326,SMALL(IF(MyProgram!$K$7:$K$326,ROW($A$1:$A$320)),ROW($A281)),COLUMN(E$1)),\"\")","v":""},{"$f":"IFERROR(INDEX(MyProgram!$A$7:$G$326,SMALL(IF(MyProgram!$K$7:$K$326,ROW($A$1:$A$320)),ROW($A281)),COLUMN(F$1)),\"\")","v":""},{"$f":"IFERROR(INDEX(MyProgram!$A$7:$G$326,SMALL(IF(MyProgram!$K$7:$K$326,ROW($A$1:$A$320)),ROW($A281)),COLUMN(G$1)),\"\")","v":""}]
[null,{"$f":"IFERROR(INDEX(MyProgram!$A$7:$G$326,SMALL(IF(MyProgram!$K$7:$K$326,ROW($A$1:$A$320)),ROW($A282)),COLUMN(B$1)),\"\")","v":""},{"$f":"IFERROR(INDEX(MyProgram!$A$7:$G$326,SMALL(IF(MyProgram!$K$7:$K$326,ROW($A$1:$A$320)),ROW($A282)),COLUMN(C$1)),\"\")","v":""},{"$f":"IFERROR(INDEX(MyProgram!$A$7:$G$326,SMALL(IF(MyProgram!$K$7:$K$326,ROW($A$1:$A$320)),ROW($A282)),COLUMN(D$1)),\"\")","v":""},null,{"$f":"IFERROR(INDEX(MyProgram!$A$7:$G$326,SMALL(IF(MyProgram!$K$7:$K$326,ROW($A$1:$A$320)),ROW($A282)),COLUMN(F$1)),\"\")","v":""}]
[{"$f":"IFERROR(INDEX(MyProgram!$A$7:$G$326,SMALL(IF(MyProgram!$K$7:$K$326,ROW($A$1:$A$320)),ROW($A283)),COLUMN(A$1)),\"\")","v":""},{"$f":"IFERROR(INDEX(MyProgram!$A$7:$G$326,SMALL(IF(MyProgram!$K$7:$K$326,ROW($A$1:$A$320)),ROW($A283)),COLUMN(B$1)),\"\")","v":""},{"$f":"IFERROR(INDEX(MyProgram!$A$7:$G$326,SMALL(IF(MyProgram!$K$7:$K$326,ROW($A$1:$A$320)),ROW($A283)),COLUMN(C$1)),\"\")","v":""},{"$f":"IFERROR(INDEX(MyProgram!$A$7:$G$326,SMALL(IF(MyProgram!$K$7:$K$326,ROW($A$1:$A$320)),ROW($A283)),COLUMN(D$1)),\"\")","v":""},{"$f":"IFERROR(INDEX(MyProgram!$A$7:$G$326,SMALL(IF(MyProgram!$K$7:$K$326,ROW($A$1:$A$320)),ROW($A283)),COLUMN(E$1)),\"\")","v":""},{"$f":"IFERROR(INDEX(MyProgram!$A$7:$G$326,SMALL(IF(MyProgram!$K$7:$K$326,ROW($A$1:$A$320)),ROW($A283)),COLUMN(F$1)),\"\")","v":""},{"$f":"IFERROR(INDEX(MyProgram!$A$7:$G$326,SMALL(IF(MyProgram!$K$7:$K$326,ROW($A$1:$A$320)),ROW($A283)),COLUMN(G$1)),\"\")","v":""}]
[null,{"$f":"IFERROR(INDEX(MyProgram!$A$7:$G$326,SMALL(IF(MyProgram!$K$7:$K$326,ROW($A$1:$A$320)),ROW($A284)),COLUMN(B$1)),\"\")","v":""},{"$f":"IFERROR(INDEX(MyProgram!$A$7:$G$326,SMALL(IF(MyProgram!$K$7:$K$326,ROW($A$1:$A$320)),ROW($A284)),COLUMN(C$1)),\"\")","v":""},{"$f":"IFERROR(INDEX(MyProgram!$A$7:$G$326,SMALL(IF(MyProgram!$K$7:$K$326,ROW($A$1:$A$320)),ROW($A284)),COLUMN(D$1)),\"\")","v":""},null,{"$f":"IFERROR(INDEX(MyProgram!$A$7:$G$326,SMALL(IF(MyProgram!$K$7:$K$326,ROW($A$1:$A$320)),ROW($A284)),COLUMN(F$1)),\"\")","v":""}]
[{"$f":"IFERROR(INDEX(MyProgram!$A$7:$G$326,SMALL(IF(MyProgram!$K$7:$K$326,ROW($A$1:$A$320)),ROW($A285)),COLUMN(A$1)),\"\")","v":""},{"$f":"IFERROR(INDEX(MyProgram!$A$7:$G$326,SMALL(IF(MyProgram!$K$7:$K$326,ROW($A$1:$A$320)),ROW($A285)),COLUMN(B$1)),\"\")","v":""},{"$f":"IFERROR(INDEX(MyProgram!$A$7:$G$326,SMALL(IF(MyProgram!$K$7:$K$326,ROW($A$1:$A$320)),ROW($A285)),COLUMN(C$1)),\"\")","v":""},{"$f":"IFERROR(INDEX(MyProgram!$A$7:$G$326,SMALL(IF(MyProgram!$K$7:$K$326,ROW($A$1:$A$320)),ROW($A285)),COLUMN(D$1)),\"\")","v":""},{"$f":"IFERROR(INDEX(MyProgram!$A$7:$G$326,SMALL(IF(MyProgram!$K$7:$K$326,ROW($A$1:$A$320)),ROW($A285)),COLUMN(E$1)),\"\")","v":""},{"$f":"IFERROR(INDEX(MyProgram!$A$7:$G$326,SMALL(IF(MyProgram!$K$7:$K$326,ROW($A$1:$A$320)),ROW($A285)),COLUMN(F$1)),\"\")","v":""},{"$f":"IFERROR(INDEX(MyProgram!$A$7:$G$326,SMALL(IF(MyProgram!$K$7:$K$326,ROW($A$1:$A$320)),ROW($A285)),COLUMN(G$1)),\"\")","v":""}]
[null,{"$f":"IFERROR(INDEX(MyProgram!$A$7:$G$326,SMALL(IF(MyProgram!$K$7:$K$326,ROW($A$1:$A$320)),ROW($A286)),COLUMN(B$1)),\"\")","v":""},{"$f":"IFERROR(INDEX(MyProgram!$A$7:$G$326,SMALL(IF(MyProgram!$K$7:$K$326,ROW($A$1:$A$320)),ROW($A286)),COLUMN(C$1)),\"\")","v":""},{"$f":"IFERROR(INDEX(MyProgram!$A$7:$G$326,SMALL(IF(MyProgram!$K$7:$K$326,ROW($A$1:$A$320)),ROW($A286)),COLUMN(D$1)),\"\")","v":""},null,{"$f":"IFERROR(INDEX(MyProgram!$A$7:$G$326,SMALL(IF(MyProgram!$K$7:$K$326,ROW($A$1:$A$320)),ROW($A286)),COLUMN(F$1)),\"\")","v":""}]
[{"$f":"IFERROR(INDEX(MyProgram!$A$7:$G$326,SMALL(IF(MyProgram!$K$7:$K$326,ROW($A$1:$A$320)),ROW($A287)),COLUMN(A$1)),\"\")","v":""},{"$f":"IFERROR(INDEX(MyProgram!$A$7:$G$326,SMALL(IF(MyProgram!$K$7:$K$326,ROW($A$1:$A$320)),ROW($A287)),COLUMN(B$1)),\"\")","v":""},{"$f":"IFERROR(INDEX(MyProgram!$A$7:$G$326,SMALL(IF(MyProgram!$K$7:$K$326,ROW($A$1:$A$320)),ROW($A287)),COLUMN(C$1)),\"\")","v":""},{"$f":"IFERROR(INDEX(MyProgram!$A$7:$G$326,SMALL(IF(MyProgram!$K$7:$K$326,ROW($A$1:$A$320)),ROW($A287)),COLUMN(D$1)),\"\")","v":""},{"$f":"IFERROR(INDEX(MyProgram!$A$7:$G$326,SMALL(IF(MyProgram!$K$7:$K$326,ROW($A$1:$A$320)),ROW($A287)),COLUMN(E$1)),\"\")","v":""},{"$f":"IFERROR(INDEX(MyProgram!$A$7:$G$326,SMALL(IF(MyProgram!$K$7:$K$326,ROW($A$1:$A$320)),ROW($A287)),COLUMN(F$1)),\"\")","v":""},{"$f":"IFERROR(INDEX(MyProgram!$A$7:$G$326,SMALL(IF(MyProgram!$K$7:$K$326,ROW($A$1:$A$320)),ROW($A287)),COLUMN(G$1)),\"\")","v":""}]
[null,{"$f":"IFERROR(INDEX(MyProgram!$A$7:$G$326,SMALL(IF(MyProgram!$K$7:$K$326,ROW($A$1:$A$320)),ROW($A288)),COLUMN(B$1)),\"\")","v":""},{"$f":"IFERROR(INDEX(MyProgram!$A$7:$G$326,SMALL(IF(MyProgram!$K$7:$K$326,ROW($A$1:$A$320)),ROW($A288)),COLUMN(C$1)),\"\")","v":""},{"$f":"IFERROR(INDEX(MyProgram!$A$7:$G$326,SMALL(IF(MyProgram!$K$7:$K$326,ROW($A$1:$A$320)),ROW($A288)),COLUMN(D$1)),\"\")","v":""},null,{"$f":"IFERROR(INDEX(MyProgram!$A$7:$G$326,SMALL(IF(MyProgram!$K$7:$K$326,ROW($A$1:$A$320)),ROW($A288)),COLUMN(F$1)),\"\")","v":""}]
[{"$f":"IFERROR(INDEX(MyProgram!$A$7:$G$326,SMALL(IF(MyProgram!$K$7:$K$326,ROW($A$1:$A$320)),ROW($A289)),COLUMN(A$1)),\"\")","v":""},{"$f":"IFERROR(INDEX(MyProgram!$A$7:$G$326,SMALL(IF(MyProgram!$K$7:$K$326,ROW($A$1:$A$320)),ROW($A289)),COLUMN(B$1)),\"\")","v":""},{"$f":"IFERROR(INDEX(MyProgram!$A$7:$G$326,SMALL(IF(MyProgram!$K$7:$K$326,ROW($A$1:$A$320)),ROW($A289)),COLUMN(C$1)),\"\")","v":""},{"$f":"IFERROR(INDEX(MyProgram!$A$7:$G$326,SMALL(IF(MyProgram!$K$7:$K$326,ROW($A$1:$A$320)),ROW($A289)),COLUMN(D$1)),\"\")","v":""},{"$f":"IFERROR(INDEX(MyProgram!$A$7:$G$326,SMALL(IF(MyProgram!$K$7:$K$326,ROW($A$1:$A$320)),ROW($A289)),COLUMN(E$1)),\"\")","v":""},{"$f":"IFERROR(INDEX(MyProgram!$A$7:$G$326,SMALL(IF(MyProgram!$K$7:$K$326,ROW($A$1:$A$320)),ROW($A289)),COLUMN(F$1)),\"\")","v":""},{"$f":"IFERROR(INDEX(MyProgram!$A$7:$G$326,SMALL(IF(MyProgram!$K$7:$K$326,ROW($A$1:$A$320)),ROW($A289)),COLUMN(G$1)),\"\")","v":""}]
[null,{"$f":"IFERROR(INDEX(MyProgram!$A$7:$G$326,SMALL(IF(MyProgram!$K$7:$K$326,ROW($A$1:$A$320)),ROW($A290)),COLUMN(B$1)),\"\")","v":""},{"$f":"IFERROR(INDEX(MyProgram!$A$7:$G$326,SMALL(IF(MyProgram!$K$7:$K$326,ROW($A$1:$A$320)),ROW($A290)),COLUMN(C$1)),\"\")","v":""},{"$f":"IFERROR(INDEX(MyProgram!$A$7:$G$326,SMALL(IF(MyProgram!$K$7:$K$326,ROW($A$1:$A$320)),ROW($A290)),COLUMN(D$1)),\"\")","v":""},null,{"$f":"IFERROR(INDEX(MyProgram!$A$7:$G$326,SMALL(IF(MyProgram!$K$7:$K$326,ROW($A$1:$A$320)),ROW($A290)),COLUMN(F$1)),\"\")","v":""}]
[{"$f":"IFERROR(INDEX(MyProgram!$A$7:$G$326,SMALL(IF(MyProgram!$K$7:$K$326,ROW($A$1:$A$320)),ROW($A291)),COLUMN(A$1)),\"\")","v":""},{"$f":"IFERROR(INDEX(MyProgram!$A$7:$G$326,SMALL(IF(MyProgram!$K$7:$K$326,ROW($A$1:$A$320)),ROW($A291)),COLUMN(B$1)),\"\")","v":""},{"$f":"IFERROR(INDEX(MyProgram!$A$7:$G$326,SMALL(IF(MyProgram!$K$7:$K$326,ROW($A$1:$A$320)),ROW($A291)),COLUMN(C$1)),\"\")","v":""},{"$f":"IFERROR(INDEX(MyProgram!$A$7:$G$326,SMALL(IF(MyProgram!$K$7:$K$326,ROW($A$1:$A$320)),ROW($A291)),COLUMN(D$1)),\"\")","v":""},{"$f":"IFERROR(INDEX(MyProgram!$A$7:$G$326,SMALL(IF(MyProgram!$K$7:$K$326,ROW($A$1:$A$320)),ROW($A291)),COLUMN(E$1)),\"\")","v":""},{"$f":"IFERROR(INDEX(MyProgram!$A$7:$G$326,SMALL(IF(MyProgram!$K$7:$K$326,ROW($A$1:$A$320)),ROW($A291)),COLUMN(F$1)),\"\")","v":""},{"$f":"IFERROR(INDEX(MyProgram!$A$7:$G$326,SMALL(IF(MyProgram!$K$7:$K$326,ROW($A$1:$A$320)),ROW($A291)),COLUMN(G$1)),\"\")","v":""}]
[null,{"$f":"IFERROR(INDEX(MyProgram!$A$7:$G$326,SMALL(IF(MyProgram!$K$7:$K$326,ROW($A$1:$A$320)),ROW($A292)),COLUMN(B$1)),\"\")","v":""},{"$f":"IFERROR(INDEX(MyProgram!$A$7:$G$326,SMALL(IF(MyProgram!$K$7:$K$326,ROW($A$1:$A$320)),ROW($A292)),COLUMN(C$1)),\"\")","v":""},{"$f":"IFERROR(INDEX(MyProgram!$A$7:$G$326,SMALL(IF(MyProgram!$K$7:$K$326,ROW($A$1:$A$320)),ROW($A292)),COLUMN(D$1)),\"\")","v":""},null,{"$f":"IFERROR(INDEX(MyProgram!$A$7:$G$326,SMALL(IF(MyProgram!$K$7:$K$326,ROW($A$1:$A$320)),ROW($A292)),COLUMN(F$1)),\"\")","v":""}]
[{"$f":"IFERROR(INDEX(MyProgram!$A$7:$G$326,SMALL(IF(MyProgram!$K$7:$K$326,ROW($A$1:$A$320)),ROW($A293)),COLUMN(A$1)),\"\")","v":""},{"$f":"IFERROR(INDEX(MyProgram!$A$7:$G$326,SMALL(IF(MyProgram!$K$7:$K$326,ROW($A$1:$A$320)),ROW($A293)),COLUMN(B$1)),\"\")","v":""},{"$f":"IFERROR(INDEX(MyProgram!$A$7:$G$326,SMALL(IF(MyProgram!$K$7:$K$326,ROW($A$1:$A$320)),ROW($A293)),COLUMN(C$1)),\"\")","v":""},{"$f":"IFERROR(INDEX(MyProgram!$A$7:$G$326,SMALL(IF(MyProgram!$K$7:$K$326,ROW($A$1:$A$320)),ROW($A293)),COLUMN(D$1)),\"\")","v":""},{"$f":"IFERROR(INDEX(MyProgram!$A$7:$G$326,SMALL(IF(MyProgram!$K$7:$K$326,ROW($A$1:$A$320)),ROW($A293)),COLUMN(E$1)),\"\")","v":""},{"$f":"IFERROR(INDEX(MyProgram!$A$7:$G$326,SMALL(IF(MyProgram!$K$7:$K$326,ROW($A$1:$A$320)),ROW($A293)),COLUMN(F$1)),\"\")","v":""},{"$f":"IFERROR(INDEX(MyProgram!$A$7:$G$326,SMALL(IF(MyProgram!$K$7:$K$326,ROW($A$1:$A$320)),ROW($A293)),COLUMN(G$1)),\"\")","v":""}]
[null,{"$f":"IFERROR(INDEX(MyProgram!$A$7:$G$326,SMALL(IF(MyProgram!$K$7:$K$326,ROW($A$1:$A$320)),ROW($A294)),COLUMN(B$1)),\"\")","v":""},{"$f":"IFERROR(INDEX(MyProgram!$A$7:$G$326,SMALL(IF(MyProgram!$K$7:$K$326,ROW($A$1:$A$320)),ROW($A294)),COLUMN(C$1)),\"\")","v":""},{"$f":"IFERROR(INDEX(MyProgram!$A$7:$G$326,SMALL(IF(MyProgram!$K$7:$K$326,ROW($A$1:$A$320)),ROW($A294)),COLUMN(D$1)),\"\")","v":""},null,{"$f":"IFERROR(INDEX(MyProgram!$A$7:$G$326,SMALL(IF(MyProgram!$K$7:$K$326,ROW($A$1:$A$320)),ROW($A294)),COLUMN(F$1)),\"\")","v":""}]
[{"$f":"IFERROR(INDEX(MyProgram!$A$7:$G$326,SMALL(IF(MyProgram!$K$7:$K$326,ROW($A$1:$A$320)),ROW($A295)),COLUMN(A$1)),\"\")","v":""},{"$f":"IFERROR(INDEX(MyProgram!$A$7:$G$326,SMALL(IF(MyProgram!$K$7:$K$326,ROW($A$1:$A$320)),ROW($A295)),COLUMN(B$1)),\"\")","v":""},{"$f":"IFERROR(INDEX(MyProgram!$A$7:$G$326,SMALL(IF(MyProgram!$K$7:$K$326,ROW($A$1:$A$320)),ROW($A295)),COLUMN(C$1)),\"\")","v":""},{"$f":"IFERROR(INDEX(MyProgram!$A$7:$G$326,SMALL(IF(MyProgram!$K$7:$K$326,ROW($A$1:$A$320)),ROW($A295)),COLUMN(D$1)),\"\")","v":""},{"$f":"IFERROR(INDEX(MyProgram!$A$7:$G$326,SMALL(IF(MyProgram!$K$7:$K$326,ROW($A$1:$A$320)),ROW($A295)),COLUMN(E$1)),\"\")","v":""},{"$f":"IFERROR(INDEX(MyProgram!$A$7:$G$326,SMALL(IF(MyProgram!$K$7:$K$326,ROW($A$1:$A$320)),ROW($A295)),COLUMN(F$1)),\"\")","v":""},{"$f":"IFERROR(INDEX(MyProgram!$A$7:$G$326,SMALL(IF(MyProgram!$K$7:$K$326,ROW($A$1:$A$320)),ROW($A295)),COLUMN(G$1)),\"\")","v":""}]
[null,{"$f":"IFERROR(INDEX(MyProgram!$A$7:$G$326,SMALL(IF(MyProgram!$K$7:$K$326,ROW($A$1:$A$320)),ROW($A296)),COLUMN(B$1)),\"\")","v":""},{"$f":"IFERROR(INDEX(MyProgram!$A$7:$G$326,SMALL(IF(MyProgram!$K$7:$K$326,ROW($A$1:$A$320)),ROW($A296)),COLUMN(C$1)),\"\")","v":""},{"$f":"IFERROR(INDEX(MyProgram!$A$7:$G$326,SMALL(IF(MyProgram!$K$7:$K$326,ROW($A$1:$A$320)),ROW($A296)),COLUMN(D$1)),\"\")","v":""},null,{"$f":"IFERROR(INDEX(MyProgram!$A$7:$G$326,SMALL(IF(MyProgram!$K$7:$K$326,ROW($A$1:$A$320)),ROW($A296)),COLUMN(F$1)),\"\")","v":""}]
[{"$f":"IFERROR(INDEX(MyProgram!$A$7:$G$326,SMALL(IF(MyProgram!$K$7:$K$326,ROW($A$1:$A$320)),ROW($A297)),COLUMN(A$1)),\"\")","v":""},{"$f":"IFERROR(INDEX(MyProgram!$A$7:$G$326,SMALL(IF(MyProgram!$K$7:$K$326,ROW($A$1:$A$320)),ROW($A297)),COLUMN(B$1)),\"\")","v":""},{"$f":"IFERROR(INDEX(MyProgram!$A$7:$G$326,SMALL(IF(MyProgram!$K$7:$K$326,ROW($A$1:$A$320)),ROW($A297)),COLUMN(C$1)),\"\")","v":""},{"$f":"IFERROR(INDEX(MyProgram!$A$7:$G$326,SMALL(IF(MyProgram!$K$7:$K$326,ROW($A$1:$A$320)),ROW($A297)),COLUMN(D$1)),\"\")","v":""},{"$f":"IFERROR(INDEX(MyProgram!$A$7:$G$326,SMALL(IF(MyProgram!$K$7:$K$326,ROW($A$1:$A$320)),ROW($A297)),COLUMN(E$1)),\"\")","v":""},{"$f":"IFERROR(INDEX(MyProgram!$A$7:$G$326,SMALL(IF(MyProgram!$K$7:$K$326,ROW($A$1:$A$320)),ROW($A297)),COLUMN(F$1)),\"\")","v":""},{"$f":"IFERROR(INDEX(MyProgram!$A$7:$G$326,SMALL(IF(MyProgram!$K$7:$K$326,ROW($A$1:$A$320)),ROW($A297)),COLUMN(G$1)),\"\")","v":""}]
[null,{"$f":"IFERROR(INDEX(MyProgram!$A$7:$G$326,SMALL(IF(MyProgram!$K$7:$K$326,ROW($A$1:$A$320)),ROW($A298)),COLUMN(B$1)),\"\")","v":""},{"$f":"IFERROR(INDEX(MyProgram!$A$7:$G$326,SMALL(IF(MyProgram!$K$7:$K$326,ROW($A$1:$A$320)),ROW($A298)),COLUMN(C$1)),\"\")","v":""},{"$f":"IFERROR(INDEX(MyProgram!$A$7:$G$326,SMALL(IF(MyProgram!$K$7:$K$326,ROW($A$1:$A$320)),ROW($A298)),COLUMN(D$1)),\"\")","v":""},null,{"$f":"IFERROR(INDEX(MyProgram!$A$7:$G$326,SMALL(IF(MyProgram!$K$7:$K$326,ROW($A$1:$A$320)),ROW($A298)),COLUMN(F$1)),\"\")","v":""}]
[{"$f":"IFERROR(INDEX(MyProgram!$A$7:$G$326,SMALL(IF(MyProgram!$K$7:$K$326,ROW($A$1:$A$320)),ROW($A299)),COLUMN(A$1)),\"\")","v":""},{"$f":"IFERROR(INDEX(MyProgram!$A$7:$G$326,SMALL(IF(MyProgram!$K$7:$K$326,ROW($A$1:$A$320)),ROW($A299)),COLUMN(B$1)),\"\")","v":""},{"$f":"IFERROR(INDEX(MyProgram!$A$7:$G$326,SMALL(IF(MyProgram!$K$7:$K$326,ROW($A$1:$A$320)),ROW($A299)),COLUMN(C$1)),\"\")","v":""},{"$f":"IFERROR(INDEX(MyProgram!$A$7:$G$326,SMALL(IF(MyProgram!$K$7:$K$326,ROW($A$1:$A$320)),ROW($A299)),COLUMN(D$1)),\"\")","v":""},{"$f":"IFERROR(INDEX(MyProgram!$A$7:$G$326,SMALL(IF(MyProgram!$K$7:$K$326,ROW($A$1:$A$320)),ROW($A299)),COLUMN(E$1)),\"\")","v":""},{"$f":"IFERROR(INDEX(MyProgram!$A$7:$G$326,SMALL(IF(MyProgram!$K$7:$K$326,ROW($A$1:$A$320)),ROW($A299)),COLUMN(F$1)),\"\")","v":""},{"$f":"IFERROR(INDEX(MyProgram!$A$7:$G$326,SMALL(IF(MyProgram!$K$7:$K$326,ROW($A$1:$A$320)),ROW($A299)),COLUMN(G$1)),\"\")","v":""}]
[null,{"$f":"IFERROR(INDEX(MyProgram!$A$7:$G$326,SMALL(IF(MyProgram!$K$7:$K$326,ROW($A$1:$A$320)),ROW($A300)),COLUMN(B$1)),\"\")","v":""},{"$f":"IFERROR(INDEX(MyProgram!$A$7:$G$326,SMALL(IF(MyProgram!$K$7:$K$326,ROW($A$1:$A$320)),ROW($A300)),COLUMN(C$1)),\"\")","v":""},{"$f":"IFERROR(INDEX(MyProgram!$A$7:$G$326,SMALL(IF(MyProgram!$K$7:$K$326,ROW($A$1:$A$320)),ROW($A300)),COLUMN(D$1)),\"\")","v":""},null,{"$f":"IFERROR(INDEX(MyProgram!$A$7:$G$326,SMALL(IF(MyProgram!$K$7:$K$326,ROW($A$1:$A$320)),ROW($A300)),COLUMN(F$1)),\"\")","v":""}]
[{"$f":"IFERROR(INDEX(MyProgram!$A$7:$G$326,SMALL(IF(MyProgram!$K$7:$K$326,ROW($A$1:$A$320)),ROW($A301)),COLUMN(A$1)),\"\")","v":""},{"$f":"IFERROR(INDEX(MyProgram!$A$7:$G$326,SMALL(IF(MyProgram!$K$7:$K$326,ROW($A$1:$A$320)),ROW($A301)),COLUMN(B$1)),\"\")","v":""},{"$f":"IFERROR(INDEX(MyProgram!$A$7:$G$326,SMALL(IF(MyProgram!$K$7:$K$326,ROW($A$1:$A$320)),ROW($A301)),COLUMN(C$1)),\"\")","v":""},{"$f":"IFERROR(INDEX(MyProgram!$A$7:$G$326,SMALL(IF(MyProgram!$K$7:$K$326,ROW($A$1:$A$320)),ROW($A301)),COLUMN(D$1)),\"\")","v":""},{"$f":"IFERROR(INDEX(MyProgram!$A$7:$G$326,SMALL(IF(MyProgram!$K$7:$K$326,ROW($A$1:$A$320)),ROW($A301)),COLUMN(E$1)),\"\")","v":""},{"$f":"IFERROR(INDEX(MyProgram!$A$7:$G$326,SMALL(IF(MyProgram!$K$7:$K$326,ROW($A$1:$A$320)),ROW($A301)),COLUMN(F$1)),\"\")","v":""},{"$f":"IFERROR(INDEX(MyProgram!$A$7:$G$326,SMALL(IF(MyProgram!$K$7:$K$326,ROW($A$1:$A$320)),ROW($A301)),COLUMN(G$1)),\"\")","v":""}]
[null,{"$f":"IFERROR(INDEX(MyProgram!$A$7:$G$326,SMALL(IF(MyProgram!$K$7:$K$326,ROW($A$1:$A$320)),ROW($A302)),COLUMN(B$1)),\"\")","v":""},{"$f":"IFERROR(INDEX(MyProgram!$A$7:$G$326,SMALL(IF(MyProgram!$K$7:$K$326,ROW($A$1:$A$320)),ROW($A302)),COLUMN(C$1)),\"\")","v":""},{"$f":"IFERROR(INDEX(MyProgram!$A$7:$G$326,SMALL(IF(MyProgram!$K$7:$K$326,ROW($A$1:$A$320)),ROW($A302)),COLUMN(D$1)),\"\")","v":""},null,{"$f":"IFERROR(INDEX(MyProgram!$A$7:$G$326,SMALL(IF(MyProgram!$K$7:$K$326,ROW($A$1:$A$320)),ROW($A302)),COLUMN(F$1)),\"\")","v":""}]
[{"$f":"IFERROR(INDEX(MyProgram!$A$7:$G$326,SMALL(IF(MyProgram!$K$7:$K$326,ROW($A$1:$A$320)),ROW($A303)),COLUMN(A$1)),\"\")","v":""},{"$f":"IFERROR(INDEX(MyProgram!$A$7:$G$326,SMALL(IF(MyProgram!$K$7:$K$326,ROW($A$1:$A$320)),ROW($A303)),COLUMN(B$1)),\"\")","v":""},{"$f":"IFERROR(INDEX(MyProgram!$A$7:$G$326,SMALL(IF(MyProgram!$K$7:$K$326,ROW($A$1:$A$320)),ROW($A303)),COLUMN(C$1)),\"\")","v":""},{"$f":"IFERROR(INDEX(MyProgram!$A$7:$G$326,SMALL(IF(MyProgram!$K$7:$K$326,ROW($A$1:$A$320)),ROW($A303)),COLUMN(D$1)),\"\")","v":""},{"$f":"IFERROR(INDEX(MyProgram!$A$7:$G$326,SMALL(IF(MyProgram!$K$7:$K$326,ROW($A$1:$A$320)),ROW($A303)),COLUMN(E$1)),\"\")","v":""},{"$f":"IFERROR(INDEX(MyProgram!$A$7:$G$326,SMALL(IF(MyProgram!$K$7:$K$326,ROW($A$1:$A$320)),ROW($A303)),COLUMN(F$1)),\"\")","v":""},{"$f":"IFERROR(INDEX(MyProgram!$A$7:$G$326,SMALL(IF(MyProgram!$K$7:$K$326,ROW($A$1:$A$320)),ROW($A303)),COLUMN(G$1)),\"\")","v":""}]
[null,{"$f":"IFERROR(INDEX(MyProgram!$A$7:$G$326,SMALL(IF(MyProgram!$K$7:$K$326,ROW($A$1:$A$320)),ROW($A304)),COLUMN(B$1)),\"\")","v":""},{"$f":"IFERROR(INDEX(MyProgram!$A$7:$G$326,SMALL(IF(MyProgram!$K$7:$K$326,ROW($A$1:$A$320)),ROW($A304)),COLUMN(C$1)),\"\")","v":""},{"$f":"IFERROR(INDEX(MyProgram!$A$7:$G$326,SMALL(IF(MyProgram!$K$7:$K$326,ROW($A$1:$A$320)),ROW($A304)),COLUMN(D$1)),\"\")","v":""},null,{"$f":"IFERROR(INDEX(MyProgram!$A$7:$G$326,SMALL(IF(MyProgram!$K$7:$K$326,ROW($A$1:$A$320)),ROW($A304)),COLUMN(F$1)),\"\")","v":""}]
[{"$f":"IFERROR(INDEX(MyProgram!$A$7:$G$326,SMALL(IF(MyProgram!$K$7:$K$326,ROW($A$1:$A$320)),ROW($A305)),COLUMN(A$1)),\"\")","v":""},{"$f":"IFERROR(INDEX(MyProgram!$A$7:$G$326,SMALL(IF(MyProgram!$K$7:$K$326,ROW($A$1:$A$320)),ROW($A305)),COLUMN(B$1)),\"\")","v":""},{"$f":"IFERROR(INDEX(MyProgram!$A$7:$G$326,SMALL(IF(MyProgram!$K$7:$K$326,ROW($A$1:$A$320)),ROW($A305)),COLUMN(C$1)),\"\")","v":""},{"$f":"IFERROR(INDEX(MyProgram!$A$7:$G$326,SMALL(IF(MyProgram!$K$7:$K$326,ROW($A$1:$A$320)),ROW($A305)),COLUMN(D$1)),\"\")","v":""},{"$f":"IFERROR(INDEX(MyProgram!$A$7:$G$326,SMALL(IF(MyProgram!$K$7:$K$326,ROW($A$1:$A$320)),ROW($A305)),COLUMN(E$1)),\"\")","v":""},{"$f":"IFERROR(INDEX(MyProgram!$A$7:$G$326,SMALL(IF(MyProgram!$K$7:$K$326,ROW($A$1:$A$320)),ROW($A305)),COLUMN(F$1)),\"\")","v":""},{"$f":"IFERROR(INDEX(MyProgram!$A$7:$G$326,SMALL(IF(MyProgram!$K$7:$K$326,ROW($A$1:$A$320)),ROW($A305)),COLUMN(G$1)),\"\")","v":""}]
[null,{"$f":"IFERROR(INDEX(MyProgram!$A$7:$G$326,SMALL(IF(MyProgram!$K$7:$K$326,ROW($A$1:$A$320)),ROW($A306)),COLUMN(B$1)),\"\")","v":""},{"$f":"IFERROR(INDEX(MyProgram!$A$7:$G$326,SMALL(IF(MyProgram!$K$7:$K$326,ROW($A$1:$A$320)),ROW($A306)),COLUMN(C$1)),\"\")","v":""},{"$f":"IFERROR(INDEX(MyProgram!$A$7:$G$326,SMALL(IF(MyProgram!$K$7:$K$326,ROW($A$1:$A$320)),ROW($A306)),COLUMN(D$1)),\"\")","v":""},null,{"$f":"IFERROR(INDEX(MyProgram!$A$7:$G$326,SMALL(IF(MyProgram!$K$7:$K$326,ROW($A$1:$A$320)),ROW($A306)),COLUMN(F$1)),\"\")","v":""}]
[{"$f":"IFERROR(INDEX(MyProgram!$A$7:$G$326,SMALL(IF(MyProgram!$K$7:$K$326,ROW($A$1:$A$320)),ROW($A307)),COLUMN(A$1)),\"\")","v":""},{"$f":"IFERROR(INDEX(MyProgram!$A$7:$G$326,SMALL(IF(MyProgram!$K$7:$K$326,ROW($A$1:$A$320)),ROW($A307)),COLUMN(B$1)),\"\")","v":""},{"$f":"IFERROR(INDEX(MyProgram!$A$7:$G$326,SMALL(IF(MyProgram!$K$7:$K$326,ROW($A$1:$A$320)),ROW($A307)),COLUMN(C$1)),\"\")","v":""},{"$f":"IFERROR(INDEX(MyProgram!$A$7:$G$326,SMALL(IF(MyProgram!$K$7:$K$326,ROW($A$1:$A$320)),ROW($A307)),COLUMN(D$1)),\"\")","v":""},{"$f":"IFERROR(INDEX(MyProgram!$A$7:$G$326,SMALL(IF(MyProgram!$K$7:$K$326,ROW($A$1:$A$320)),ROW($A307)),COLUMN(E$1)),\"\")","v":""},{"$f":"IFERROR(INDEX(MyProgram!$A$7:$G$326,SMALL(IF(MyProgram!$K$7:$K$326,ROW($A$1:$A$320)),ROW($A307)),COLUMN(F$1)),\"\")","v":""},{"$f":"IFERROR(INDEX(MyProgram!$A$7:$G$326,SMALL(IF(MyProgram!$K$7:$K$326,ROW($A$1:$A$320)),ROW($A307)),COLUMN(G$1)),\"\")","v":""}]
[null,{"$f":"IFERROR(INDEX(MyProgram!$A$7:$G$326,SMALL(IF(MyProgram!$K$7:$K$326,ROW($A$1:$A$320)),ROW($A308)),COLUMN(B$1)),\"\")","v":""},{"$f":"IFERROR(INDEX(MyProgram!$A$7:$G$326,SMALL(IF(MyProgram!$K$7:$K$326,ROW($A$1:$A$320)),ROW($A308)),COLUMN(C$1)),\"\")","v":""},{"$f":"IFERROR(INDEX(MyProgram!$A$7:$G$326,SMALL(IF(MyProgram!$K$7:$K$326,ROW($A$1:$A$320)),ROW($A308)),COLUMN(D$1)),\"\")","v":""},null,{"$f":"IFERROR(INDEX(MyProgram!$A$7:$G$326,SMALL(IF(MyProgram!$K$7:$K$326,ROW($A$1:$A$320)),ROW($A308)),COLUMN(F$1)),\"\")","v":""}]
[{"$f":"IFERROR(INDEX(MyProgram!$A$7:$G$326,SMALL(IF(MyProgram!$K$7:$K$326,ROW($A$1:$A$320)),ROW($A309)),COLUMN(A$1)),\"\")","v":""},{"$f":"IFERROR(INDEX(MyProgram!$A$7:$G$326,SMALL(IF(MyProgram!$K$7:$K$326,ROW($A$1:$A$320)),ROW($A309)),COLUMN(B$1)),\"\")","v":""},{"$f":"IFERROR(INDEX(MyProgram!$A$7:$G$326,SMALL(IF(MyProgram!$K$7:$K$326,ROW($A$1:$A$320)),ROW($A309)),COLUMN(C$1)),\"\")","v":""},{"$f":"IFERROR(INDEX(MyProgram!$A$7:$G$326,SMALL(IF(MyProgram!$K$7:$K$326,ROW($A$1:$A$320)),ROW($A309)),COLUMN(D$1)),\"\")","v":""},{"$f":"IFERROR(INDEX(MyProgram!$A$7:$G$326,SMALL(IF(MyProgram!$K$7:$K$326,ROW($A$1:$A$320)),ROW($A309)),COLUMN(E$1)),\"\")","v":""},{"$f":"IFERROR(INDEX(MyProgram!$A$7:$G$326,SMALL(IF(MyProgram!$K$7:$K$326,ROW($A$1:$A$320)),ROW($A309)),COLUMN(F$1)),\"\")","v":""},{"$f":"IFERROR(INDEX(MyProgram!$A$7:$G$326,SMALL(IF(MyProgram!$K$7:$K$326,ROW($A$1:$A$320)),ROW($A309)),COLUMN(G$1)),\"\")","v":""}]
[null,{"$f":"IFERROR(INDEX(MyProgram!$A$7:$G$326,SMALL(IF(MyProgram!$K$7:$K$326,ROW($A$1:$A$320)),ROW($A310)),COLUMN(B$1)),\"\")","v":""},{"$f":"IFERROR(INDEX(MyProgram!$A$7:$G$326,SMALL(IF(MyProgram!$K$7:$K$326,ROW($A$1:$A$320)),ROW($A310)),COLUMN(C$1)),\"\")","v":""},{"$f":"IFERROR(INDEX(MyProgram!$A$7:$G$326,SMALL(IF(MyProgram!$K$7:$K$326,ROW($A$1:$A$320)),ROW($A310)),COLUMN(D$1)),\"\")","v":""},null,{"$f":"IFERROR(INDEX(MyProgram!$A$7:$G$326,SMALL(IF(MyProgram!$K$7:$K$326,ROW($A$1:$A$320)),ROW($A310)),COLUMN(F$1)),\"\")","v":""}]
[{"$f":"IFERROR(INDEX(MyProgram!$A$7:$G$326,SMALL(IF(MyProgram!$K$7:$K$326,ROW($A$1:$A$320)),ROW($A311)),COLUMN(A$1)),\"\")","v":""},{"$f":"IFERROR(INDEX(MyProgram!$A$7:$G$326,SMALL(IF(MyProgram!$K$7:$K$326,ROW($A$1:$A$320)),ROW($A311)),COLUMN(B$1)),\"\")","v":""},{"$f":"IFERROR(INDEX(MyProgram!$A$7:$G$326,SMALL(IF(MyProgram!$K$7:$K$326,ROW($A$1:$A$320)),ROW($A311)),COLUMN(C$1)),\"\")","v":""},{"$f":"IFERROR(INDEX(MyProgram!$A$7:$G$326,SMALL(IF(MyProgram!$K$7:$K$326,ROW($A$1:$A$320)),ROW($A311)),COLUMN(D$1)),\"\")","v":""},{"$f":"IFERROR(INDEX(MyProgram!$A$7:$G$326,SMALL(IF(MyProgram!$K$7:$K$326,ROW($A$1:$A$320)),ROW($A311)),COLUMN(E$1)),\"\")","v":""},{"$f":"IFERROR(INDEX(MyProgram!$A$7:$G$326,SMALL(IF(MyProgram!$K$7:$K$326,ROW($A$1:$A$320)),ROW($A311)),COLUMN(F$1)),\"\")","v":""},{"$f":"IFERROR(INDEX(MyProgram!$A$7:$G$326,SMALL(IF(MyProgram!$K$7:$K$326,ROW($A$1:$A$320)),ROW($A311)),COLUMN(G$1)),\"\")","v":""}]
[null,{"$f":"IFERROR(INDEX(MyProgram!$A$7:$G$326,SMALL(IF(MyProgram!$K$7:$K$326,ROW($A$1:$A$320)),ROW($A312)),COLUMN(B$1)),\"\")","v":""},{"$f":"IFERROR(INDEX(MyProgram!$A$7:$G$326,SMALL(IF(MyProgram!$K$7:$K$326,ROW($A$1:$A$320)),ROW($A312)),COLUMN(C$1)),\"\")","v":""},{"$f":"IFERROR(INDEX(MyProgram!$A$7:$G$326,SMALL(IF(MyProgram!$K$7:$K$326,ROW($A$1:$A$320)),ROW($A312)),COLUMN(D$1)),\"\")","v":""},null,{"$f":"IFERROR(INDEX(MyProgram!$A$7:$G$326,SMALL(IF(MyProgram!$K$7:$K$326,ROW($A$1:$A$320)),ROW($A312)),COLUMN(F$1)),\"\")","v":""}]
[{"$f":"IFERROR(INDEX(MyProgram!$A$7:$G$326,SMALL(IF(MyProgram!$K$7:$K$326,ROW($A$1:$A$320)),ROW($A313)),COLUMN(A$1)),\"\")","v":""},{"$f":"IFERROR(INDEX(MyProgram!$A$7:$G$326,SMALL(IF(MyProgram!$K$7:$K$326,ROW($A$1:$A$320)),ROW($A313)),COLUMN(B$1)),\"\")","v":""},{"$f":"IFERROR(INDEX(MyProgram!$A$7:$G$326,SMALL(IF(MyProgram!$K$7:$K$326,ROW($A$1:$A$320)),ROW($A313)),COLUMN(C$1)),\"\")","v":""},{"$f":"IFERROR(INDEX(MyProgram!$A$7:$G$326,SMALL(IF(MyProgram!$K$7:$K$326,ROW($A$1:$A$320)),ROW($A313)),COLUMN(D$1)),\"\")","v":""},{"$f":"IFERROR(INDEX(MyProgram!$A$7:$G$326,SMALL(IF(MyProgram!$K$7:$K$326,ROW($A$1:$A$320)),ROW($A313)),COLUMN(E$1)),\"\")","v":""},{"$f":"IFERROR(INDEX(MyProgram!$A$7:$G$326,SMALL(IF(MyProgram!$K$7:$K$326,ROW($A$1:$A$320)),ROW($A313)),COLUMN(F$1)),\"\")","v":""},{"$f":"IFERROR(INDEX(MyProgram!$A$7:$G$326,SMALL(IF(MyProgram!$K$7:$K$326,ROW($A$1:$A$320)),ROW($A313)),COLUMN(G$1)),\"\")","v":""}]
[null,{"$f":"IFERROR(INDEX(MyProgram!$A$7:$G$326,SMALL(IF(MyProgram!$K$7:$K$326,ROW($A$1:$A$320)),ROW($A314)),COLUMN(B$1)),\"\")","v":""},{"$f":"IFERROR(INDEX(MyProgram!$A$7:$G$326,SMALL(IF(MyProgram!$K$7:$K$326,ROW($A$1:$A$320)),ROW($A314)),COLUMN(C$1)),\"\")","v":""},{"$f":"IFERROR(INDEX(MyProgram!$A$7:$G$326,SMALL(IF(MyProgram!$K$7:$K$326,ROW($A$1:$A$320)),ROW($A314)),COLUMN(D$1)),\"\")","v":""},null,{"$f":"IFERROR(INDEX(MyProgram!$A$7:$G$326,SMALL(IF(MyProgram!$K$7:$K$326,ROW($A$1:$A$320)),ROW($A314)),COLUMN(F$1)),\"\")","v":""}]
[{"$f":"IFERROR(INDEX(MyProgram!$A$7:$G$326,SMALL(IF(MyProgram!$K$7:$K$326,ROW($A$1:$A$320)),ROW($A315)),COLUMN(A$1)),\"\")","v":""},{"$f":"IFERROR(INDEX(MyProgram!$A$7:$G$326,SMALL(IF(MyProgram!$K$7:$K$326,ROW($A$1:$A$320)),ROW($A315)),COLUMN(B$1)),\"\")","v":""},{"$f":"IFERROR(INDEX(MyProgram!$A$7:$G$326,SMALL(IF(MyProgram!$K$7:$K$326,ROW($A$1:$A$320)),ROW($A315)),COLUMN(C$1)),\"\")","v":""},{"$f":"IFERROR(INDEX(MyProgram!$A$7:$G$326,SMALL(IF(MyProgram!$K$7:$K$326,ROW($A$1:$A$320)),ROW($A315)),COLUMN(D$1)),\"\")","v":""},{"$f":"IFERROR(INDEX(MyProgram!$A$7:$G$326,SMALL(IF(MyProgram!$K$7:$K$326,ROW($A$1:$A$320)),ROW($A315)),COLUMN(E$1)),\"\")","v":""},{"$f":"IFERROR(INDEX(MyProgram!$A$7:$G$326,SMALL(IF(MyProgram!$K$7:$K$326,ROW($A$1:$A$320)),ROW($A315)),COLUMN(F$1)),\"\")","v":""},{"$f":"IFERROR(INDEX(MyProgram!$A$7:$G$326,SMALL(IF(MyProgram!$K$7:$K$326,ROW($A$1:$A$320)),ROW($A315)),COLUMN(G$1)),\"\")","v":""}]
[null,{"$f":"IFERROR(INDEX(MyProgram!$A$7:$G$326,SMALL(IF(MyProgram!$K$7:$K$326,ROW($A$1:$A$320)),ROW($A316)),COLUMN(B$1)),\"\")","v":""},{"$f":"IFERROR(INDEX(MyProgram!$A$7:$G$326,SMALL(IF(MyProgram!$K$7:$K$326,ROW($A$1:$A$320)),ROW($A316)),COLUMN(C$1)),\"\")","v":""},{"$f":"IFERROR(INDEX(MyProgram!$A$7:$G$326,SMALL(IF(MyProgram!$K$7:$K$326,ROW($A$1:$A$320)),ROW($A316)),COLUMN(D$1)),\"\")","v":""},null,{"$f":"IFERROR(INDEX(MyProgram!$A$7:$G$326,SMALL(IF(MyProgram!$K$7:$K$326,ROW($A$1:$A$320)),ROW($A316)),COLUMN(F$1)),\"\")","v":""}]
[{"$f":"IFERROR(INDEX(MyProgram!$A$7:$G$326,SMALL(IF(MyProgram!$K$7:$K$326,ROW($A$1:$A$320)),ROW($A317)),COLUMN(A$1)),\"\")","v":""},{"$f":"IFERROR(INDEX(MyProgram!$A$7:$G$326,SMALL(IF(MyProgram!$K$7:$K$326,ROW($A$1:$A$320)),ROW($A317)),COLUMN(B$1)),\"\")","v":""},{"$f":"IFERROR(INDEX(MyProgram!$A$7:$G$326,SMALL(IF(MyProgram!$K$7:$K$326,ROW($A$1:$A$320)),ROW($A317)),COLUMN(C$1)),\"\")","v":""},{"$f":"IFERROR(INDEX(MyProgram!$A$7:$G$326,SMALL(IF(MyProgram!$K$7:$K$326,ROW($A$1:$A$320)),ROW($A317)),COLUMN(D$1)),\"\")","v":""},{"$f":"IFERROR(INDEX(MyProgram!$A$7:$G$326,SMALL(IF(MyProgram!$K$7:$K$326,ROW($A$1:$A$320)),ROW($A317)),COLUMN(E$1)),\"\")","v":""},{"$f":"IFERROR(INDEX(MyProgram!$A$7:$G$326,SMALL(IF(MyProgram!$K$7:$K$326,ROW($A$1:$A$320)),ROW($A317)),COLUMN(F$1)),\"\")","v":""},{"$f":"IFERROR(INDEX(MyProgram!$A$7:$G$326,SMALL(IF(MyProgram!$K$7:$K$326,ROW($A$1:$A$320)),ROW($A317)),COLUMN(G$1)),\"\")","v":""}]
[null,{"$f":"IFERROR(INDEX(MyProgram!$A$7:$G$326,SMALL(IF(MyProgram!$K$7:$K$326,ROW($A$1:$A$320)),ROW($A318)),COLUMN(B$1)),\"\")","v":""},{"$f":"IFERROR(INDEX(MyProgram!$A$7:$G$326,SMALL(IF(MyProgram!$K$7:$K$326,ROW($A$1:$A$320)),ROW($A318)),COLUMN(C$1)),\"\")","v":""},{"$f":"IFERROR(INDEX(MyProgram!$A$7:$G$326,SMALL(IF(MyProgram!$K$7:$K$326,ROW($A$1:$A$320)),ROW($A318)),COLUMN(D$1)),\"\")","v":""},null,{"$f":"IFERROR(INDEX(MyProgram!$A$7:$G$326,SMALL(IF(MyProgram!$K$7:$K$326,ROW($A$1:$A$320)),ROW($A318)),COLUMN(F$1)),\"\")","v":""}]
[{"$f":"IFERROR(INDEX(MyProgram!$A$7:$G$326,SMALL(IF(MyProgram!$K$7:$K$326,ROW($A$1:$A$320)),ROW($A319)),COLUMN(A$1)),\"\")","v":""},{"$f":"IFERROR(INDEX(MyProgram!$A$7:$G$326,SMALL(IF(MyProgram!$K$7:$K$326,ROW($A$1:$A$320)),ROW($A319)),COLUMN(B$1)),\"\")","v":""},{"$f":"IFERROR(INDEX(MyProgram!$A$7:$G$326,SMALL(IF(MyProgram!$K$7:$K$326,ROW($A$1:$A$320)),ROW($A319)),COLUMN(C$1)),\"\")","v":""},{"$f":"IFERROR(INDEX(MyProgram!$A$7:$G$326,SMALL(IF(MyProgram!$K$7:$K$326,ROW($A$1:$A$320)),ROW($A319)),COLUMN(D$1)),\"\")","v":""},{"$f":"IFERROR(INDEX(MyProgram!$A$7:$G$326,SMALL(IF(MyProgram!$K$7:$K$326,ROW($A$1:$A$320)),ROW($A319)),COLUMN(E$1)),\"\")","v":""},{"$f":"IFERROR(INDEX(MyProgram!$A$7:$G$326,SMALL(IF(MyProgram!$K$7:$K$326,ROW($A$1:$A$320)),ROW($A319)),COLUMN(F$1)),\"\")","v":""},{"$f":"IFERROR(INDEX(MyProgram!$A$7:$G$326,SMALL(IF(MyProgram!$K$7:$K$326,ROW($A$1:$A$320)),ROW($A319)),COLUMN(G$1)),\"\")","v":""}]
[null,{"$f":"IFERROR(INDEX(MyProgram!$A$7:$G$326,SMALL(IF(MyProgram!$K$7:$K$326,ROW($A$1:$A$320)),ROW($A320)),COLUMN(B$1)),\"\")","v":""},{"$f":"IFERROR(INDEX(MyProgram!$A$7:$G$326,SMALL(IF(MyProgram!$K$7:$K$326,ROW($A$1:$A$320)),ROW($A320)),COLUMN(C$1)),\"\")","v":""},{"$f":"IFERROR(INDEX(MyProgram!$A$7:$G$326,SMALL(IF(MyProgram!$K$7:$K$326,ROW($A$1:$A$320)),ROW($A320)),COLUMN(D$1)),\"\")","v":""},null,{"$f":"IFERROR(INDEX(MyProgram!$A$7:$G$326,SMALL(IF(MyProgram!$K$7:$K$326,ROW($A$1:$A$320)),ROW($A320)),COLUMN(F$1)),\"\")","v":""}]
[{"$f":"IFERROR(INDEX(MyProgram!$A$7:$G$326,SMALL(IF(MyProgram!$K$7:$K$326,ROW($A$1:$A$320)),ROW($A321)),COLUMN(A$1)),\"\")","v":""},{"$f":"IFERROR(INDEX(MyProgram!$A$7:$G$326,SMALL(IF(MyProgram!$K$7:$K$326,ROW($A$1:$A$320)),ROW($A321)),COLUMN(B$1)),\"\")","v":""},{"$f":"IFERROR(INDEX(MyProgram!$A$7:$G$326,SMALL(IF(MyProgram!$K$7:$K$326,ROW($A$1:$A$320)),ROW($A321)),COLUMN(C$1)),\"\")","v":""},{"$f":"IFERROR(INDEX(MyProgram!$A$7:$G$326,SMALL(IF(MyProgram!$K$7:$K$326,ROW($A$1:$A$320)),ROW($A321)),COLUMN(D$1)),\"\")","v":""},{"$f":"IFERROR(INDEX(MyProgram!$A$7:$G$326,SMALL(IF(MyProgram!$K$7:$K$326,ROW($A$1:$A$320)),ROW($A321)),COLUMN(E$1)),\"\")","v":""},{"$f":"IFERROR(INDEX(MyProgram!$A$7:$G$326,SMALL(IF(MyProgram!$K$7:$K$326,ROW($A$1:$A$320)),ROW($A321)),COLUMN(F$1)),\"\")","v":""},{"$f":"IFERROR(INDEX(MyProgram!$A$7:$G$326,SMALL(IF(MyProgram!$K$7:$K$326,ROW($A$1:$A$320)),ROW($A321)),COLUMN(G$1)),\"\")","v":""}]
[null,{"$f":"IFERROR(INDEX(MyProgram!$A$7:$G$326,SMALL(IF(MyProgram!$K$7:$K$326,ROW($A$1:$A$320)),ROW($A322)),COLUMN(B$1)),\"\")","v":""},{"$f":"IFERROR(INDEX(MyProgram!$A$7:$G$326,SMALL(IF(MyProgram!$K$7:$K$326,ROW($A$1:$A$320)),ROW($A322)),COLUMN(C$1)),\"\")","v":""},{"$f":"IFERROR(INDEX(MyProgram!$A$7:$G$326,SMALL(IF(MyProgram!$K$7:$K$326,ROW($A$1:$A$320)),ROW($A322)),COLUMN(D$1)),\"\")","v":""},null,{"$f":"IFERROR(INDEX(MyProgram!$A$7:$G$326,SMALL(IF(MyProgram!$K$7:$K$326,ROW($A$1:$A$320)),ROW($A322)),COLUMN(F$1)),\"\")","v":""}]

{"sheet":"S","index":2,"n_rows":34,"n_cols":9,"rows_kept":34,"cut":false,"hidden":true,"merged":[]}
[null,"1st Round","2nd Round"]
[null,{"$f":"G2+H2/24","v":"2020-11-25T09:00:00"},null,"00:30:00","00:30:00",null,"2020-11-25",{"$f":"MyProgram!J2","v":9},14]
[null,{"$f":"B2+D2","v":"2020-11-25T09:30:00"},{"$f":"B2+13/24","v":"2020-11-25T22:00:00"},"01:00:00","01:00:00",null,null,null,13]
[null,"2020-11-25T10:30:00",{"$f":"C3+E3","v":"2020-11-25T23:00:00"},"00:30:00","00:30:00",null,null,null,12]
[null,"2020-11-25T11:00:00","2020-11-25T23:30:00","00:30:00","00:30:00",null,null,null,11]
[null,"2020-11-25T11:30:00","2020-11-26","02:30:00","00:30:00",null,null,null,10]
[null,"2020-11-25T14:00:00","2020-11-26T00:30:00","00:30:00","00:30:00",null,null,null,9]
[null,"2020-11-25T14:30:00","2020-11-26T01:00:00","00:30:00","00:30:00",null,null,null,8]
[null,"2020-11-25T15:00:00","2020-11-26T01:30:00","01:30:00","01:30:00",null,null,null,7]
[null,"2020-11-25T16:30:00","2020-11-26T03:00:00",null,null,null,null,null,6]
[null,"1st Round","2nd Round",null,null,null,null,null,5]
[null,null,{"$f":"C3+1","v":"2020-11-26T22:00:00"},null,"01:00:00",null,null,null,4]
[null,{"$f":"B4+1","v":"2020-11-26T10:30:00"},{"$f":"C12+E12","v":"2020-11-26T23:00:00"},"00:30:00","00:30:00",null,null,null,3]
[null,{"$f":"B13+D13","v":"2020-11-26T11:00:00"},"2020-11-26T23:30:00","00:30:00","00:30:00",null,null,null,2]
[null,"2020-11-26T11:30:00","2020-11-27","02:30:00","00:30:00",null,null,null,1]
[null,"2020-11-26T14:00:00","2020-11-27T00:30:00","00:30:00","00:30:00",null,null,null,0]
[null,"2020-11-26T14:30:00","2020-11-27T01:00:00","00:30:00","00:30:00",null,null,null,-1]
[null,"2020-11-26T15:00:00","2020-11-27T01:30:00","01:30:00","01:30:00",null,null,null,-2]
[null,"2020-11-26T16:30:00",null,"00:10:00","00:10:00",null,null,null,-3]
[null,"2020-11-26T16:40:00",null,"01:00:00",null,null,null,null,-4]
[null,"2020-11-26T17:40:00",null,null,null,null,null,null,-5]
[null,"1st Round","2nd Round",null,null,null,null,null,-6]
[null,{"$f":"B3+2","v":"2020-11-27T09:30:00"},{"$f":"C3+2","v":"2020-11-27T22:00:00"},"01:00:00","01:00:00",null,null,null,-7]
[null,{"$f":"B23+D23","v":"2020-11-27T10:30:00"},"2020-11-27T23:00:00","00:30:00","00:30:00",null,null,null,-8]
[null,"2020-11-27T11:00:00","2020-11-27T23:30:00","00:30:00","00:30:00",null,null,null,-9]
[null,"2020-11-27T11:30:00","2020-11-28","02:30:00","00:30:00",null,null,null,-10]
[null,"2020-11-27T14:00:00","2020-11-28T00:30:00","00:30:00","00:30:00",null,null,null,-11]
[null,"2020-11-27T14:30:00","2020-11-28T01:00:00","00:30:00","00:30:00",null,null,null,-12]
[null,"2020-11-27T15:00:00","2020-11-28T01:30:00","01:30:00","01:30:00"]
[null,{"$f":"B29+D29","v":"2020-11-27T16:30:00"},null,"00:30:00"]
[null,{"$f":"B30+D30","v":"2020-11-27T17:00:00"}]
[null,"1st Round"]
[null,{"$f":"B2+3+1/24","v":"2020-11-28T10:00:00"}]
[null,{"$f":"B2+3+8/24","v":"2020-11-28T17:00:00"}]